From mboxrd@z Thu Jan 1 00:00:00 1970 Return-Path: Received: from mails.dpdk.org (mails.dpdk.org [217.70.189.124]) by inbox.dpdk.org (Postfix) with ESMTP id AF10C46879 for ; Wed, 4 Jun 2025 22:01:32 +0200 (CEST) Received: from mails.dpdk.org (localhost [127.0.0.1]) by mails.dpdk.org (Postfix) with ESMTP id 796984029D; Wed, 4 Jun 2025 22:01:32 +0200 (CEST) Received: from mail-pj1-f99.google.com (mail-pj1-f99.google.com [209.85.216.99]) by mails.dpdk.org (Postfix) with ESMTP id 77DBE4025D for ; Wed, 4 Jun 2025 22:01:31 +0200 (CEST) Received: by mail-pj1-f99.google.com with SMTP id 98e67ed59e1d1-3119822df05so280357a91.0 for ; Wed, 04 Jun 2025 13:01:31 -0700 (PDT) DKIM-Signature: v=1; a=rsa-sha256; c=relaxed/relaxed; d=iol.unh.edu; s=unh-iol; t=1749067290; x=1749672090; darn=dpdk.org; h=references:in-reply-to:cc:to:from:subject:message-id:date:from:to :cc:subject:date:message-id:reply-to; bh=wjaUngBgpjE9hLIi4GRGSv7X6rS0Dj12aXNFPUqMksM=; b=hiNoDBn62024pKRcQjyyDQ/+u1wBH89ozbPPT8zIcks8F4gYk3e8lF74tUTIxKqO2q RqMR4dgSw+OfLlhtTECv7IQjPn95S4lEM+TZBR7fkMNbRBJY4J2qYoEMRtqZENKlqIzJ L6KotuW2/11JWZvpVYqRRs8Ciz55TaOnQGRN0= X-Google-DKIM-Signature: v=1; a=rsa-sha256; c=relaxed/relaxed; d=1e100.net; s=20230601; t=1749067290; x=1749672090; h=references:in-reply-to:cc:to:from:subject:message-id:date :x-gm-message-state:from:to:cc:subject:date:message-id:reply-to; bh=wjaUngBgpjE9hLIi4GRGSv7X6rS0Dj12aXNFPUqMksM=; b=FxHecry5L0B07moZxfydkdWiKpjkadWPVLSBiQklQWosYsILoKULRjY5blSXv2QAFt qXqvpFtxRpXVWK9j1CgSjaXdahBf0jxtmwIbVWlbwkPm7PCXRnbz2ZEK7r3qoI/Qd+zk x6SUMYM3Rt8RTGRd4r/88wxXACdY15/LZYLoOYDdChV5OhaKXkOsAlwNb8yPpAvdgmY6 ukW9XNQ0L+ZBRQgGXbVnkKZULOGJNZLcAmu5eLAFXR9Cxcerm4r8GsQONQ+tTVByvqOM 9eQ7oG2aagEVbHceNA0cYW52+fMRmODY2iLytoS6m5cHgyNhk7/ZlTNiS76vDVv8mK72 VZJA== X-Gm-Message-State: AOJu0YziwEY9L9BFHikmQUjPmmRe8xMwS5GCZqb88DJ69BN6w5K5AC0K pIfpVIrwEeNso/Jsdbbz31tSW2biJCXrc5SwaHo/+fGTsr9J0vP/sVA9ablTuw13TnXbAgVlF7a HD3qFItLkn0KkpdM4K+BmQcMDs13GEKsIOSVRPs9wQtyN X-Gm-Gg: ASbGnctstiXuuEP00BuPGsfC0OsppgU08YJ6rfM1beMQjWesa88Fn0FxfAtGUsiSh10 MXLjtBn8O5jpG1+/dg7qoVu4mAPSukeHq+pDUDbgegriol6+pbYDEX8cG2zI+0ouctv14/pPwhB WOFz5/sWPlXDsJobpt9WGvUNseQfSZGIRnEaVdYVGsm6Jr22PQWvHX48S2WNtuYQQvJBgeKdojc 3ERiCzbugCIwHlH8YFvCU/If6W82mwJOR2KqEtLwJZPQzlVzuwnCTaImE3Ciy75ASfZu2d02lIu M2SmUzPqpKZmF+Vc1Z+kBrTo+cjsFzf7kHq8PyE83PFlh9Mw+kg5Ilprr4c= X-Google-Smtp-Source: AGHT+IGg+Rg11NAXx6FPWZ4SwFFfRJ+jjqjPzqjtSYE9JZRVXptN2e2gevossTUyTgmzZcTQEsGoDJPl2qse X-Received: by 2002:a17:90a:f94e:b0:312:e9d:3ffa with SMTP id 98e67ed59e1d1-3130cd85733mr5202607a91.31.1749067290562; Wed, 04 Jun 2025 13:01:30 -0700 (PDT) Received: from postal.iol.unh.edu (postal.iol.unh.edu. [132.177.123.84]) by smtp-relay.gmail.com with ESMTPS id d9443c01a7336-23506d6a2e3sm8463185ad.118.2025.06.04.13.01.30 (version=TLS1_2 cipher=ECDHE-ECDSA-AES128-GCM-SHA256 bits=128/128); Wed, 04 Jun 2025 13:01:30 -0700 (PDT) X-Relaying-Domain: iol.unh.edu Date: Wed, 04 Jun 2025 13:01:30 -0700 (PDT) Message-ID: <6840a61a.170a0220.8683d.c7a1SMTPIN_ADDED_MISSING@mx.google.com> Received: from [172.21.0.14] (unknown [172.18.0.240]) by postal.iol.unh.edu (Postfix) with ESMTP id 8E13E6052472; Wed, 4 Jun 2025 16:01:29 -0400 (EDT) Subject: |SUCCESS| pw154031-154037 [PATCH] [v11,7/7] test/graph_feature_arc: From: dpdklab@iol.unh.edu To: Test Report Cc: dpdk-test-reports@iol.unh.edu In-Reply-To: <20250604153020.92712-8-nsaxena@marvell.com> References: <20250604153020.92712-8-nsaxena@marvell.com> Content-Type: text/plain X-BeenThere: test-report@dpdk.org X-Mailman-Version: 2.1.29 Precedence: list List-Id: automatic DPDK test reports List-Unsubscribe: , List-Archive: List-Post: List-Help: List-Subscribe: , Errors-To: test-report-bounces@dpdk.org Test-Label: iol-abi-testing Test-Status: SUCCESS http://dpdk.org/patch/154037 _Testing PASS_ Submitter: Nitin Saxena Date: Wednesday, June 04 2025 15:30:08 DPDK git baseline: Repo:dpdk Branch: master CommitID:d6a29fedf36cd4faf07621d9fa3e82dc4e7ba74b 154031-154037 --> testing pass Upstream job id: Generic-DPDK-Compile-ABI#128847 Test environment and result as below: +-------------------------------+----------+ | Environment | abi_test | +===============================+==========+ | Fedora 40 | PASS | +-------------------------------+----------+ | Debian GNU/Linux 12 | PASS | +-------------------------------+----------+ | Fedora 40 (Clang) | PASS | +-------------------------------+----------+ | CentOS Stream 9 | PASS | +-------------------------------+----------+ | Fedora 41 | PASS | +-------------------------------+----------+ | CentOS Stream 10 | PASS | +-------------------------------+----------+ | Fedora 41 (Clang) | PASS | +-------------------------------+----------+ | Red Hat Enterprise Linux 9.5 | PASS | +-------------------------------+----------+ | openSUSE Leap 15.6 | PASS | +-------------------------------+----------+ | Ubuntu 22.04 | PASS | +-------------------------------+----------+ | Red Hat Enterprise Linux 8.10 | PASS | +-------------------------------+----------+ | Ubuntu 24.04 | PASS | +-------------------------------+----------+ Fedora 40 Kernel: Depends on container host Compiler: gcc 14.2.1 20240912 (Red Hat 14.2.1-3) Debian GNU/Linux 12 Kernel: 5.15 Compiler: gcc gcc (Debian 12.2.0-14) 12.2.0 Fedora 40 (Clang) Kernel: Depends on container host Compiler: clang 18.1.8 (Fedora 18.1.8-1.fc40) CentOS Stream 9 Kernel: Depends on container host Compiler: gcc 11.5.0 20240719 (Red Hat 11.5.0-2) Fedora 41 Kernel: Depends on container host Compiler: gcc 14.2.1 20240912 (Red Hat 14.2.1-3) CentOS Stream 10 Kernel: Depends on container host Compiler: gcc 14.2.1 20241104 (Red Hat 14.2.1-6) Fedora 41 (Clang) Kernel: Depends on container host Compiler: clang 19.1.5 (Fedora 19.1.5-1.fc41) Red Hat Enterprise Linux 9.5 Kernel: 5.15 Compiler: gcc gcc (GCC) 11.5.0 20240719 (Red Hat 11.5.0-2) openSUSE Leap 15.6 Kernel: 5.15 Compiler: gcc gcc (SUSE Linux) 7.5.0 Ubuntu 22.04 Kernel: 5.15 Compiler: gcc gcc (Ubuntu 11.4.0-1ubuntu1~22.04) 11.4.0 Red Hat Enterprise Linux 8.10 Kernel: 5.15 Compiler: gcc gcc (GCC) 8.5.0 20210514 (Red Hat 8.5.0-22) Ubuntu 24.04 Kernel: 5.15 Compiler: gcc gcc (Ubuntu 13.3.0-6ubuntu2~24.04) 13.3.0 To view detailed results, visit: https://lab.dpdk.org/results/dashboard/patchsets/33324/ UNH-IOL DPDK Community Lab To manage your email subscriptions, visit: https://lab.dpdk.org/results/dashboard/preferences/subscriptions/