From mboxrd@z Thu Jan  1 00:00:00 1970
Return-Path: <test-report-bounces@dpdk.org>
Received: from mails.dpdk.org (mails.dpdk.org [217.70.189.124])
	by inbox.dpdk.org (Postfix) with ESMTP id 5B73F46879
	for <public@inbox.dpdk.org>; Wed,  4 Jun 2025 22:05:13 +0200 (CEST)
Received: from mails.dpdk.org (localhost [127.0.0.1])
	by mails.dpdk.org (Postfix) with ESMTP id 57D514025D;
	Wed,  4 Jun 2025 22:05:13 +0200 (CEST)
Received: from mail-pg1-f228.google.com (mail-pg1-f228.google.com
 [209.85.215.228])
 by mails.dpdk.org (Postfix) with ESMTP id 020994025D
 for <test-report@dpdk.org>; Wed,  4 Jun 2025 22:05:13 +0200 (CEST)
Received: by mail-pg1-f228.google.com with SMTP id
 41be03b00d2f7-b26f01c638fso214852a12.1
 for <test-report@dpdk.org>; Wed, 04 Jun 2025 13:05:12 -0700 (PDT)
DKIM-Signature: v=1; a=rsa-sha256; c=relaxed/relaxed;
 d=iol.unh.edu; s=unh-iol; t=1749067512; x=1749672312; darn=dpdk.org;
 h=references:in-reply-to:cc:to:from:subject:message-id:date:from:to
 :cc:subject:date:message-id:reply-to;
 bh=QZ6MfsVxm7kuJKLCulyZRNlqhTwicgwJe3aAdov4atQ=;
 b=NpJzqlO2UMyy7v4D6QldgfQOstBZ4mBIQ1R+7lPLWAyy7uCtrcc14cvWrm78ngiAIp
 u42MGnydpZLANlLRcNM1KdwK3rYPBJqrnitqgr8mExaq00zAs21HXQpQhIBsvbVrgQU6
 ZYvFFiMhZoCKlO+50/F4gOwtwI8FPVuRqHGTc=
X-Google-DKIM-Signature: v=1; a=rsa-sha256; c=relaxed/relaxed;
 d=1e100.net; s=20230601; t=1749067512; x=1749672312;
 h=references:in-reply-to:cc:to:from:subject:message-id:date
 :x-gm-message-state:from:to:cc:subject:date:message-id:reply-to;
 bh=QZ6MfsVxm7kuJKLCulyZRNlqhTwicgwJe3aAdov4atQ=;
 b=Hw5WE+8YMK0gZ55QByzK2ojLRSukp4NCfAfUkbjVxM5glwdhE0Ox3bwHaXf4tPw+7j
 FT9OinlPbhfLJL5rmlrHEvWkg0utKzGzwm00O44wIzaSvQM1esz6Sg1N+w/KGOzSYL1t
 Ubrq9olXtQpQSpWhII3ILUh+is6liaV60ma9yLNtwuN3GbHFSdZ9+arlCSCaHTtn8FOx
 Sz1+qwrlnENQywC61ZYQjbQTyzB4cwSMa/kXJFbEfNAPkRKtzWOSg/eRAovLCDG6IQRP
 LRUnTXlbLbLbgUcPpz52RrF3WvCPY+MN7JYNsJQ/wLfmArLDpsuLdQl4PQAjIK3/d+sj
 VELQ==
X-Gm-Message-State: AOJu0YyKzDHCDaBj9zoZdMtQI8+5gh11sVEC7zddkmAEwmZiDA8Nvjss
 lMNMic+MfWZg6p1dturYfycJhE9Dm3kaw1cOaK44lI/gxqbR0pd36Bz7q7eFbvw4ExK4gz/WHNX
 q1rwD+WyHydEBLSGhRhAA5tRXYz0S1ecLOr40G2Djsuqq
X-Gm-Gg: ASbGncucQNjhUhGWFk28qtqgxIBgy4xCVu5kKTqn8Hk5lwhETcmY5oqPJ0uj5hdJLr+
 VSD7lXXyblVgFjerFRuSnWy4RFfV+T2DCtGrHmNDT4fvAPKCMJCwamnItjKz5Xvu2TABqwqobBt
 Wpu18hNh4EIcKHToSqkYTte/lRy3jJgtGTsBqDx4wC65MkGO64htseMTHMLK7u+t+YosVTra4Bc
 KDx/gL9GAwY8blVek70f7jCfOYhI/ahVJSSSfMsKhRLof26zC6JkDcCij0txbrNtP0zvX0PJY/f
 d5nv0dYM7YCXJSMPIg0Ln5U3O4YYj89hIQMBPJHKmifrIZ0BRFAIYs31FjP2h5NX6P3bhg==
X-Google-Smtp-Source: AGHT+IFS5spaOMKVPyze0swrOPDt9vgcGAuP2PFueBQEqV7yW8LWpruyDWFzgkb3bYFnczw/A1UyvNvwHwkW
X-Received: by 2002:a05:6a20:938a:b0:1f6:2d39:8713 with SMTP id
 adf61e73a8af0-21d22bcae0cmr6193206637.19.1749067512053; 
 Wed, 04 Jun 2025 13:05:12 -0700 (PDT)
Received: from postal.iol.unh.edu (postal.iol.unh.edu. [132.177.123.84])
 by smtp-relay.gmail.com with ESMTPS id
 41be03b00d2f7-b2eceb9d6dcsm415087a12.20.2025.06.04.13.05.11
 (version=TLS1_2 cipher=ECDHE-ECDSA-AES128-GCM-SHA256 bits=128/128);
 Wed, 04 Jun 2025 13:05:12 -0700 (PDT)
X-Relaying-Domain: iol.unh.edu
Date: Wed, 04 Jun 2025 13:05:12 -0700 (PDT)
Message-ID: <6840a6f8.050a0220.1c2e1d.64bfSMTPIN_ADDED_MISSING@mx.google.com>
Received: from [172.21.0.5] (unknown [172.18.0.240])
 by postal.iol.unh.edu (Postfix) with ESMTP id 3F40A6052471;
 Wed,  4 Jun 2025 16:05:11 -0400 (EDT)
Subject: |WARNING| pw154030 [PATCH] [v2] common/mlx5: use intrinsics instead 
From: dpdklab@iol.unh.edu
To: Test Report <test-report@dpdk.org>
Cc: dpdk-test-reports@iol.unh.edu
In-Reply-To: <1749046525-9166-1-git-send-email-andremue@linux.microsoft.com>
References: <1749046525-9166-1-git-send-email-andremue@linux.microsoft.com>
Content-Type: text/plain
X-BeenThere: test-report@dpdk.org
X-Mailman-Version: 2.1.29
Precedence: list
List-Id: automatic DPDK test reports <test-report.dpdk.org>
List-Unsubscribe: <https://mails.dpdk.org/options/test-report>,
 <mailto:test-report-request@dpdk.org?subject=unsubscribe>
List-Archive: <http://mails.dpdk.org/archives/test-report/>
List-Post: <mailto:test-report@dpdk.org>
List-Help: <mailto:test-report-request@dpdk.org?subject=help>
List-Subscribe: <https://mails.dpdk.org/listinfo/test-report>,
 <mailto:test-report-request@dpdk.org?subject=subscribe>
Errors-To: test-report-bounces@dpdk.org

Test-Label: iol-compile-amd64-testing
Test-Status: WARNING
http://dpdk.org/patch/154030

_Testing issues_

Submitter: Andre Muezerie <andremue@linux.microsoft.com>
Date: Wednesday, June 04 2025 14:15:25 
DPDK git baseline: Repo:dpdk
  Branch: master
  CommitID:1df06a4c5653f9d32aed174c863ec836af26a404

154030 --> testing issues

Upstream job id: Generic-DPDK-Compile-Meson#394287

Test environment and result as below:

+-------------------------------+--------------------+-------------------+------------------+-------------------+-------------------------+----------------------+
|          Environment          | dpdk_meson_compile | dpdk_compile_spdk | dpdk_compile_ovs | dpdk_msvc_compile | dpdk_llvm_clang_compile | dpdk_mingw64_compile |
+===============================+====================+===================+==================+===================+=========================+======================+
| CentOS Stream 9               | PASS               | PASS              | SKIPPED          | SKIPPED           | SKIPPED                 | SKIPPED              |
+-------------------------------+--------------------+-------------------+------------------+-------------------+-------------------------+----------------------+
| CentOS Stream 10              | PASS               | SKIPPED           | SKIPPED          | SKIPPED           | SKIPPED                 | SKIPPED              |
+-------------------------------+--------------------+-------------------+------------------+-------------------+-------------------------+----------------------+
| Debian GNU/Linux 12           | PASS               | PASS              | SKIPPED          | SKIPPED           | SKIPPED                 | SKIPPED              |
+-------------------------------+--------------------+-------------------+------------------+-------------------+-------------------------+----------------------+
| Fedora 40                     | PASS               | PASS              | SKIPPED          | SKIPPED           | SKIPPED                 | SKIPPED              |
+-------------------------------+--------------------+-------------------+------------------+-------------------+-------------------------+----------------------+
| Fedora 40 (Clang)             | PASS               | WARN              | SKIPPED          | SKIPPED           | SKIPPED                 | SKIPPED              |
+-------------------------------+--------------------+-------------------+------------------+-------------------+-------------------------+----------------------+
| Fedora 41                     | PASS               | PASS              | PASS             | SKIPPED           | SKIPPED                 | SKIPPED              |
+-------------------------------+--------------------+-------------------+------------------+-------------------+-------------------------+----------------------+
| Fedora 41 (Clang)             | PASS               | WARN              | PASS             | SKIPPED           | SKIPPED                 | SKIPPED              |
+-------------------------------+--------------------+-------------------+------------------+-------------------+-------------------------+----------------------+
| openSUSE Leap 15.6            | PASS               | SKIPPED           | SKIPPED          | SKIPPED           | SKIPPED                 | SKIPPED              |
+-------------------------------+--------------------+-------------------+------------------+-------------------+-------------------------+----------------------+
| Ubuntu 20.04                  | PASS               | SKIPPED           | SKIPPED          | SKIPPED           | SKIPPED                 | SKIPPED              |
+-------------------------------+--------------------+-------------------+------------------+-------------------+-------------------------+----------------------+
| Ubuntu 22.04                  | PASS               | PASS              | SKIPPED          | SKIPPED           | SKIPPED                 | SKIPPED              |
+-------------------------------+--------------------+-------------------+------------------+-------------------+-------------------------+----------------------+
| Red Hat Enterprise Linux 8.10 | PASS               | SKIPPED           | SKIPPED          | SKIPPED           | SKIPPED                 | SKIPPED              |
+-------------------------------+--------------------+-------------------+------------------+-------------------+-------------------------+----------------------+
| Red Hat Enterprise Linux 9.5  | PASS               | SKIPPED           | SKIPPED          | SKIPPED           | SKIPPED                 | SKIPPED              |
+-------------------------------+--------------------+-------------------+------------------+-------------------+-------------------------+----------------------+
| Ubuntu 24.04                  | PASS               | PASS              | PASS             | SKIPPED           | SKIPPED                 | SKIPPED              |
+-------------------------------+--------------------+-------------------+------------------+-------------------+-------------------------+----------------------+
| Alpine                        | PASS               | SKIPPED           | SKIPPED          | SKIPPED           | SKIPPED                 | SKIPPED              |
+-------------------------------+--------------------+-------------------+------------------+-------------------+-------------------------+----------------------+
| FreeBSD 14.2                  | PASS               | SKIPPED           | SKIPPED          | SKIPPED           | SKIPPED                 | SKIPPED              |
+-------------------------------+--------------------+-------------------+------------------+-------------------+-------------------------+----------------------+
| Windows Server 2022           | SKIPPED            | SKIPPED           | SKIPPED          | PASS              | PASS                    | PASS                 |
+-------------------------------+--------------------+-------------------+------------------+-------------------+-------------------------+----------------------+

==== 20 line log output for Fedora 41 (Clang) (dpdk_compile_spdk): ====
 --- Failed to get log output --- 
==== End log output ====

CentOS Stream 9
	Kernel: Depends on container host
	Compiler: gcc 11.5.0 20240719 (Red Hat 11.5.0-2)

CentOS Stream 10
	Kernel: Depends on container host
	Compiler: gcc 14.2.1 20241104 (Red Hat 14.2.1-6)

Debian GNU/Linux 12
	Kernel: 5.15
	Compiler: gcc gcc (Debian 12.2.0-14) 12.2.0

Fedora 40
	Kernel: Depends on container host
	Compiler: gcc 14.2.1 20240912 (Red Hat 14.2.1-3)

Fedora 40 (Clang)
	Kernel: Depends on container host
	Compiler: clang 18.1.8 (Fedora 18.1.8-1.fc40)

Fedora 41
	Kernel: Depends on container host
	Compiler: gcc 14.2.1 20240912 (Red Hat 14.2.1-3)

Fedora 41 (Clang)
	Kernel: Depends on container host
	Compiler: clang 19.1.5 (Fedora 19.1.5-1.fc41)

openSUSE Leap 15.6
	Kernel: 5.15
	Compiler: gcc gcc (SUSE Linux) 7.5.0

Ubuntu 20.04
	Kernel: 5.15
	Compiler: gcc gcc (Ubuntu 9.4.0-1ubuntu1~20.04.2) 9.4.0

Ubuntu 22.04
	Kernel: 5.15
	Compiler: gcc gcc (Ubuntu 11.4.0-1ubuntu1~22.04) 11.4.0

Red Hat Enterprise Linux 8.10
	Kernel: 5.15
	Compiler: gcc gcc (GCC) 8.5.0 20210514 (Red Hat 8.5.0-22)

Red Hat Enterprise Linux 9.5
	Kernel: 5.15
	Compiler: gcc gcc (GCC) 11.5.0 20240719 (Red Hat 11.5.0-2)

Ubuntu 24.04
	Kernel: 5.15
	Compiler: gcc gcc (Ubuntu 13.3.0-6ubuntu2~24.04) 13.3.0

Alpine
	Kernel: Depends on container host
	Compiler: gcc (Alpine 14.2.0) 14.2.0

FreeBSD 14.2
	Kernel: 14.2-RELEASE
	Compiler: clang 18.1.6

Windows Server 2022
	Kernel: 10.0.20348.2031
	Compiler: clang 15.0.7, gcc 14.1.0 (MinGW), and MSVC VS 19.39.33521

To view detailed results, visit:
https://lab.dpdk.org/results/dashboard/patchsets/33323/

UNH-IOL DPDK Community Lab

To manage your email subscriptions, visit: 
https://lab.dpdk.org/results/dashboard/preferences/subscriptions/