From mboxrd@z Thu Jan  1 00:00:00 1970
Return-Path: <test-report-bounces@dpdk.org>
Received: from mails.dpdk.org (mails.dpdk.org [217.70.189.124])
	by inbox.dpdk.org (Postfix) with ESMTP id 9683F46879
	for <public@inbox.dpdk.org>; Wed,  4 Jun 2025 22:06:22 +0200 (CEST)
Received: from mails.dpdk.org (localhost [127.0.0.1])
	by mails.dpdk.org (Postfix) with ESMTP id 8FABD4025D;
	Wed,  4 Jun 2025 22:06:22 +0200 (CEST)
Received: from mail-oa1-f99.google.com (mail-oa1-f99.google.com
 [209.85.160.99]) by mails.dpdk.org (Postfix) with ESMTP id 9CD7C4025D
 for <test-report@dpdk.org>; Wed,  4 Jun 2025 22:06:21 +0200 (CEST)
Received: by mail-oa1-f99.google.com with SMTP id
 586e51a60fabf-2d09d495c6cso87048fac.3
 for <test-report@dpdk.org>; Wed, 04 Jun 2025 13:06:21 -0700 (PDT)
DKIM-Signature: v=1; a=rsa-sha256; c=relaxed/relaxed;
 d=iol.unh.edu; s=unh-iol; t=1749067581; x=1749672381; darn=dpdk.org;
 h=references:in-reply-to:cc:to:from:subject:message-id:date:from:to
 :cc:subject:date:message-id:reply-to;
 bh=MtrMs2taBdOqa+cDJ3l9MJ6R4hRxfz95+gjsEuB5n7g=;
 b=OKrwFTiccV6ReUNvHhr1qaF7xcxo+1ifKTA0NLA3ERaEqboaoKI9JU0QKifwrTF0ak
 ebcF5YUCErozZMP6a+6eeN/V0lGBO3OMM+IvinNqRPnnNIj/GjKS9L1dW8iD3uvFscMD
 7GxdIy/2Eg0JMct4QFoNgv5Yc9/txLGzRpJAw=
X-Google-DKIM-Signature: v=1; a=rsa-sha256; c=relaxed/relaxed;
 d=1e100.net; s=20230601; t=1749067581; x=1749672381;
 h=references:in-reply-to:cc:to:from:subject:message-id:date
 :x-gm-message-state:from:to:cc:subject:date:message-id:reply-to;
 bh=MtrMs2taBdOqa+cDJ3l9MJ6R4hRxfz95+gjsEuB5n7g=;
 b=gIksq2s0Oyb4Ejeyw4Ey9pgxOgxJGAiZnXkFpC7r2sUCjp3bM0y2sloavhiBK+Z14B
 sgAxN5/rGD4F7zKdLvCSTF2+utW/9UvEqziMJkyp5dFciRFSYOw5mUlpt3OMINSW6tiS
 VXuQmyJ8WGeiU/xE9zpbdU2zILi4o8chAbUfTex9toKFCRSO4S8aIkFwaOcTVpWcm/01
 4iLrJWYkdQRvE6F2HMxa+m1RCqTnGk6C2QD1Z6D8U6T4cLjZFvKckrP/JDoeoFeokHhu
 S5IUKlhCSPTlZro9o2P/+Zz+eks01MphrbQ9Fq8m1KXnKmTQb82WKNxAaB6SDajGRfkT
 ghhg==
X-Gm-Message-State: AOJu0YwE68jArWmijIzmWnIpt3jnQtMvIzR190a8Xs/jx9z3eT03e0re
 7+EMsgvH+F2kkNK6cz669F+uFYd/bUcoi9A3hRF1usIBXiUqbJdiIryOmTgHDMfbsyYcq3C6gAI
 AN0JYIvuCC+eaHQa2X6p8gbpaqF6G9XC6c8hODHZASPE39GhPmEdFnvlvVFDO
X-Gm-Gg: ASbGncvvZ4BoCa6lGpHZdO9K/oxJwpXx8pP0oXt+Gm2c2bpOmVOjZQWP/Zr99cLYCCo
 L8VD5Ls2GZjpC0o6swcusoGCEmE8B0pVdKEL6IX3nFt7ZuqPC7ecVLx517nVMrpEJzNI/PPLIew
 QABWcajKZwpzQfCbUI7nlTL2fpM2jbUA4bJEUOXBgt01Kx6CibUkdIl7TlWuqEJVRna8moZKlOO
 zZNkymDgA7BzVuJobhETgMO8iX+oQ+Aro8MjF3OgXJ6BYC8vrCQc/sEXOpcipOm5IeZMMPn9X6G
 fR8ndZPqOQyJhTLRuPqI5egRY5TlnE3RNpBh
X-Google-Smtp-Source: AGHT+IETvG0XqwpmCYxx9Rtmjnpl+tAXpqP3FQdXC7VVVYRxOGJ2Rkk+XIezhCdV8aG5ab/LmNxU+gtfE4Fh
X-Received: by 2002:a05:6870:b95:b0:2e8:7953:ece7 with SMTP id
 586e51a60fabf-2e9bf3a6fd0mr2821623fac.24.1749067580818; 
 Wed, 04 Jun 2025 13:06:20 -0700 (PDT)
Received: from postal.iol.unh.edu (postal.iol.unh.edu.
 [2606:4100:3880:1234::84]) by smtp-relay.gmail.com with ESMTPS id
 586e51a60fabf-2e906c2e580sm691632fac.28.2025.06.04.13.06.20
 (version=TLS1_2 cipher=ECDHE-ECDSA-AES128-GCM-SHA256 bits=128/128);
 Wed, 04 Jun 2025 13:06:20 -0700 (PDT)
X-Relaying-Domain: iol.unh.edu
Date: Wed, 04 Jun 2025 13:06:20 -0700 (PDT)
Message-ID: <6840a73c.050a0220.2fae04.3b68SMTPIN_ADDED_MISSING@mx.google.com>
Received: from [172.21.0.6] (unknown [172.18.0.240])
 by postal.iol.unh.edu (Postfix) with ESMTP id 469E86052471;
 Wed,  4 Jun 2025 16:06:20 -0400 (EDT)
Subject: |WARNING| pw154030 [PATCH] [v2] common/mlx5: use intrinsics instead 
From: dpdklab@iol.unh.edu
To: Test Report <test-report@dpdk.org>
Cc: dpdk-test-reports@iol.unh.edu
In-Reply-To: <1749046525-9166-1-git-send-email-andremue@linux.microsoft.com>
References: <1749046525-9166-1-git-send-email-andremue@linux.microsoft.com>
Content-Type: text/plain
X-BeenThere: test-report@dpdk.org
X-Mailman-Version: 2.1.29
Precedence: list
List-Id: automatic DPDK test reports <test-report.dpdk.org>
List-Unsubscribe: <https://mails.dpdk.org/options/test-report>,
 <mailto:test-report-request@dpdk.org?subject=unsubscribe>
List-Archive: <http://mails.dpdk.org/archives/test-report/>
List-Post: <mailto:test-report@dpdk.org>
List-Help: <mailto:test-report-request@dpdk.org?subject=help>
List-Subscribe: <https://mails.dpdk.org/listinfo/test-report>,
 <mailto:test-report-request@dpdk.org?subject=subscribe>
Errors-To: test-report-bounces@dpdk.org

Test-Label: iol-compile-amd64-testing
Test-Status: WARNING
http://dpdk.org/patch/154030

_Testing issues_

Submitter: Andre Muezerie <andremue@linux.microsoft.com>
Date: Wednesday, June 04 2025 14:15:25 
DPDK git baseline: Repo:dpdk
  Branch: master
  CommitID:1df06a4c5653f9d32aed174c863ec836af26a404

154030 --> testing issues

Upstream job id: Generic-DPDK-Compile-Meson#394301

Test environment and result as below:

+-------------------------------+--------------------+-------------------+------------------+-------------------+-------------------------+----------------------+
|          Environment          | dpdk_meson_compile | dpdk_compile_spdk | dpdk_compile_ovs | dpdk_msvc_compile | dpdk_llvm_clang_compile | dpdk_mingw64_compile |
+===============================+====================+===================+==================+===================+=========================+======================+
| CentOS Stream 9               | PASS               | PASS              | SKIPPED          | SKIPPED           | SKIPPED                 | SKIPPED              |
+-------------------------------+--------------------+-------------------+------------------+-------------------+-------------------------+----------------------+
| CentOS Stream 10              | PASS               | SKIPPED           | SKIPPED          | SKIPPED           | SKIPPED                 | SKIPPED              |
+-------------------------------+--------------------+-------------------+------------------+-------------------+-------------------------+----------------------+
| Debian GNU/Linux 12           | PASS               | PASS              | SKIPPED          | SKIPPED           | SKIPPED                 | SKIPPED              |
+-------------------------------+--------------------+-------------------+------------------+-------------------+-------------------------+----------------------+
| Fedora 40                     | PASS               | PASS              | SKIPPED          | SKIPPED           | SKIPPED                 | SKIPPED              |
+-------------------------------+--------------------+-------------------+------------------+-------------------+-------------------------+----------------------+
| Fedora 40 (Clang)             | PASS               | WARN              | SKIPPED          | SKIPPED           | SKIPPED                 | SKIPPED              |
+-------------------------------+--------------------+-------------------+------------------+-------------------+-------------------------+----------------------+
| Fedora 41                     | PASS               | PASS              | PASS             | SKIPPED           | SKIPPED                 | SKIPPED              |
+-------------------------------+--------------------+-------------------+------------------+-------------------+-------------------------+----------------------+
| Fedora 41 (Clang)             | PASS               | WARN              | PASS             | SKIPPED           | SKIPPED                 | SKIPPED              |
+-------------------------------+--------------------+-------------------+------------------+-------------------+-------------------------+----------------------+
| openSUSE Leap 15.6            | PASS               | SKIPPED           | SKIPPED          | SKIPPED           | SKIPPED                 | SKIPPED              |
+-------------------------------+--------------------+-------------------+------------------+-------------------+-------------------------+----------------------+
| Ubuntu 20.04                  | PASS               | SKIPPED           | SKIPPED          | SKIPPED           | SKIPPED                 | SKIPPED              |
+-------------------------------+--------------------+-------------------+------------------+-------------------+-------------------------+----------------------+
| Ubuntu 22.04                  | PASS               | PASS              | SKIPPED          | SKIPPED           | SKIPPED                 | SKIPPED              |
+-------------------------------+--------------------+-------------------+------------------+-------------------+-------------------------+----------------------+
| Red Hat Enterprise Linux 8.10 | PASS               | SKIPPED           | SKIPPED          | SKIPPED           | SKIPPED                 | SKIPPED              |
+-------------------------------+--------------------+-------------------+------------------+-------------------+-------------------------+----------------------+
| Red Hat Enterprise Linux 9.5  | PASS               | SKIPPED           | SKIPPED          | SKIPPED           | SKIPPED                 | SKIPPED              |
+-------------------------------+--------------------+-------------------+------------------+-------------------+-------------------------+----------------------+
| Ubuntu 24.04                  | PASS               | PASS              | PASS             | SKIPPED           | SKIPPED                 | SKIPPED              |
+-------------------------------+--------------------+-------------------+------------------+-------------------+-------------------------+----------------------+
| Alpine                        | PASS               | SKIPPED           | SKIPPED          | SKIPPED           | SKIPPED                 | SKIPPED              |
+-------------------------------+--------------------+-------------------+------------------+-------------------+-------------------------+----------------------+
| FreeBSD 14.2                  | PASS               | SKIPPED           | SKIPPED          | SKIPPED           | SKIPPED                 | SKIPPED              |
+-------------------------------+--------------------+-------------------+------------------+-------------------+-------------------------+----------------------+
| Windows Server 2022           | SKIPPED            | SKIPPED           | SKIPPED          | PASS              | PASS                    | PASS                 |
+-------------------------------+--------------------+-------------------+------------------+-------------------+-------------------------+----------------------+

==== 20 line log output for Fedora 41 (Clang) (dpdk_compile_spdk): ====
 --- Failed to get log output --- 
==== End log output ====

CentOS Stream 9
	Kernel: Depends on container host
	Compiler: gcc 11.5.0 20240719 (Red Hat 11.5.0-2)

CentOS Stream 10
	Kernel: Depends on container host
	Compiler: gcc 14.2.1 20241104 (Red Hat 14.2.1-6)

Debian GNU/Linux 12
	Kernel: 5.15
	Compiler: gcc gcc (Debian 12.2.0-14) 12.2.0

Fedora 40
	Kernel: Depends on container host
	Compiler: gcc 14.2.1 20240912 (Red Hat 14.2.1-3)

Fedora 40 (Clang)
	Kernel: Depends on container host
	Compiler: clang 18.1.8 (Fedora 18.1.8-1.fc40)

Fedora 41
	Kernel: Depends on container host
	Compiler: gcc 14.2.1 20240912 (Red Hat 14.2.1-3)

Fedora 41 (Clang)
	Kernel: Depends on container host
	Compiler: clang 19.1.5 (Fedora 19.1.5-1.fc41)

openSUSE Leap 15.6
	Kernel: 5.15
	Compiler: gcc gcc (SUSE Linux) 7.5.0

Ubuntu 20.04
	Kernel: 5.15
	Compiler: gcc gcc (Ubuntu 9.4.0-1ubuntu1~20.04.2) 9.4.0

Ubuntu 22.04
	Kernel: 5.15
	Compiler: gcc gcc (Ubuntu 11.4.0-1ubuntu1~22.04) 11.4.0

Red Hat Enterprise Linux 8.10
	Kernel: 5.15
	Compiler: gcc gcc (GCC) 8.5.0 20210514 (Red Hat 8.5.0-22)

Red Hat Enterprise Linux 9.5
	Kernel: 5.15
	Compiler: gcc gcc (GCC) 11.5.0 20240719 (Red Hat 11.5.0-2)

Ubuntu 24.04
	Kernel: 5.15
	Compiler: gcc gcc (Ubuntu 13.3.0-6ubuntu2~24.04) 13.3.0

Alpine
	Kernel: Depends on container host
	Compiler: gcc (Alpine 14.2.0) 14.2.0

FreeBSD 14.2
	Kernel: 14.2-RELEASE
	Compiler: clang 18.1.6

Windows Server 2022
	Kernel: 10.0.20348.2031
	Compiler: clang 15.0.7, gcc 14.1.0 (MinGW), and MSVC VS 19.39.33521

To view detailed results, visit:
https://lab.dpdk.org/results/dashboard/patchsets/33323/

UNH-IOL DPDK Community Lab

To manage your email subscriptions, visit: 
https://lab.dpdk.org/results/dashboard/preferences/subscriptions/