From mboxrd@z Thu Jan  1 00:00:00 1970
Return-Path: <test-report-bounces@dpdk.org>
Received: from mails.dpdk.org (mails.dpdk.org [217.70.189.124])
	by inbox.dpdk.org (Postfix) with ESMTP id 012B346886
	for <public@inbox.dpdk.org>; Thu,  5 Jun 2025 06:45:25 +0200 (CEST)
Received: from mails.dpdk.org (localhost [127.0.0.1])
	by mails.dpdk.org (Postfix) with ESMTP id F00994026F;
	Thu,  5 Jun 2025 06:45:24 +0200 (CEST)
Received: from mail-io1-f97.google.com (mail-io1-f97.google.com
 [209.85.166.97]) by mails.dpdk.org (Postfix) with ESMTP id 6CB954026F
 for <test-report@dpdk.org>; Thu,  5 Jun 2025 06:45:23 +0200 (CEST)
Received: by mail-io1-f97.google.com with SMTP id
 ca18e2360f4ac-86cef0b4d96so12847939f.0
 for <test-report@dpdk.org>; Wed, 04 Jun 2025 21:45:23 -0700 (PDT)
DKIM-Signature: v=1; a=rsa-sha256; c=relaxed/relaxed;
 d=iol.unh.edu; s=unh-iol; t=1749098723; x=1749703523; darn=dpdk.org;
 h=references:in-reply-to:cc:to:from:subject:message-id:date:from:to
 :cc:subject:date:message-id:reply-to;
 bh=q+iugCITczUqHi+eS5KyqfmRLxA95S7G+U9Ty/1aXDw=;
 b=NMcC8i/cz1UKvFmSXoCFDIZZ7Pma/VgPPxW435Yfp36A2KqzvHwO8uoucj2BEK8QRZ
 rO23YngAhdEDkEDIdwA5CaI4cF8Rec6rp8z/rFEnCrpF0AQKgExNmye9UJMtFU8LhlMG
 h1SEhTCROMkUrx/qe0j43jM0cgZJnhlOlK91c=
X-Google-DKIM-Signature: v=1; a=rsa-sha256; c=relaxed/relaxed;
 d=1e100.net; s=20230601; t=1749098723; x=1749703523;
 h=references:in-reply-to:cc:to:from:subject:message-id:date
 :x-gm-message-state:from:to:cc:subject:date:message-id:reply-to;
 bh=q+iugCITczUqHi+eS5KyqfmRLxA95S7G+U9Ty/1aXDw=;
 b=mqSLghprBmKQ88/eA3qGMO/A6bPH8SDOJincsv4bTk12Fy9FJdpQ9ONMCX3lVHcnBK
 qt/Dk2f103KRCalCxs+YJ0XNXvzLivDk0MmlZ9H7VEcIpDunbl5KCfStfbdJsciLub3s
 RqvEqEtHTIM4G9Q4JvHUFN3aE9zkEVZmHdQNRhrft0vUTzPo+lg2nTfbRQLA44hiDc5p
 Z8TxsE4rZTIHWeQ91p5yJ0K9qHv/BYNiMzbmL7L6hShH1BqpeSQd2dPrRBHlSquQPCtS
 1M0XbQP4AhbQukogdzqRaOivQ++JBrdyljNp63HjIMR5txVfljxqUVhUrQIRyTxYqe1A
 zLVA==
X-Gm-Message-State: AOJu0YwSyGvUpMT88DlowiesDDZC0GIM2K7u4mihmLKEjoigE2ss6D4K
 WJSEFMhdchd4q9pRcTV9Sl+9TNyORuCAjBSZnz/0osV2l+DE5RKN/JC1RD17H+drk6m+9f/ev4x
 OW8/IW+wOsAohm6n1JFg9ckLkM2vdZeMVFnTS+7inuXWgMAsg8AEt05aeo3IQ
X-Gm-Gg: ASbGncujglIAANdB+1KD6HXeFr1PN/vkkfwWcnV80moYVfk07dkI+Ao17MoVb3bY18L
 +raNmDhc1zGsB028xlUWGhDToCLqp7eWktjIhVaBVeFhF9M+vQmpCxoOJ/i7jIpmSqq/B2ArM0I
 b3DfwiyeXwHoB0x0Q0wUy4FDGbpa5PsqnTJ9d2ufHv3otDaU22H3MzQ37t+KdPEyKKjXa9E5Si1
 Vzp7JSF5/8mlPi3QDYtrYg6Zp61aj/yFw/SfDkvWgiK9vNFOsja3PxArMn40iGmylo8+4jWl3wd
 RBMhjfb7j6mXxqZVBe2jCsJwW4uCt0wYQ0uBi2iaPmamiYU=
X-Google-Smtp-Source: AGHT+IFpXpvj2ocTuvmHVGKdF/U7OxuIJM9wDdW5E8WyYXE0QQV5OHA7aJV23DqquJlyifjyww/68EVvI9yb
X-Received: by 2002:a05:6602:7218:b0:873:f22:92fb with SMTP id
 ca18e2360f4ac-8731c502c2fmr658330339f.1.1749098722798; 
 Wed, 04 Jun 2025 21:45:22 -0700 (PDT)
Received: from postal.iol.unh.edu (postal.iol.unh.edu.
 [2606:4100:3880:1234::84]) by smtp-relay.gmail.com with ESMTPS id
 8926c6da1cb9f-4fdd7f0d1dbsm387613173.72.2025.06.04.21.45.22
 (version=TLS1_2 cipher=ECDHE-ECDSA-AES128-GCM-SHA256 bits=128/128);
 Wed, 04 Jun 2025 21:45:22 -0700 (PDT)
X-Relaying-Domain: iol.unh.edu
Date: Wed, 04 Jun 2025 21:45:22 -0700 (PDT)
Message-ID: <684120e2.050a0220.39601b.57f2SMTPIN_ADDED_MISSING@mx.google.com>
Received: from [172.21.0.7] (unknown [172.18.0.240])
 by postal.iol.unh.edu (Postfix) with ESMTP id 4FC906052471;
 Thu,  5 Jun 2025 00:45:22 -0400 (EDT)
Subject: |SUCCESS| pw154041 [PATCH] net/tap: remove unnecessary pragma unroll
From: dpdklab@iol.unh.edu
To: Test Report <test-report@dpdk.org>
Cc: dpdk-test-reports@iol.unh.edu
In-Reply-To: <20250604221203.126676-1-stephen@networkplumber.org>
References: <20250604221203.126676-1-stephen@networkplumber.org>
Content-Type: text/plain
X-BeenThere: test-report@dpdk.org
X-Mailman-Version: 2.1.29
Precedence: list
List-Id: automatic DPDK test reports <test-report.dpdk.org>
List-Unsubscribe: <https://mails.dpdk.org/options/test-report>,
 <mailto:test-report-request@dpdk.org?subject=unsubscribe>
List-Archive: <http://mails.dpdk.org/archives/test-report/>
List-Post: <mailto:test-report@dpdk.org>
List-Help: <mailto:test-report-request@dpdk.org?subject=help>
List-Subscribe: <https://mails.dpdk.org/listinfo/test-report>,
 <mailto:test-report-request@dpdk.org?subject=subscribe>
Errors-To: test-report-bounces@dpdk.org

Test-Label: iol-compile-arm64-testing
Test-Status: SUCCESS
http://dpdk.org/patch/154041

_Testing PASS_

Submitter: Stephen Hemminger <stephen@networkplumber.org>
Date: Wednesday, June 04 2025 22:12:02 
DPDK git baseline: Repo:dpdk
  Branch: master
  CommitID:43e69720f82e219424d763f7efc6cdc2e809c2ee

154041 --> testing pass

Upstream job id: Generic-DPDK-Compile-Meson#394353

Test environment and result as below:

+------------------------------+--------------------+
|         Environment          | dpdk_meson_compile |
+==============================+====================+
| Ubuntu 20.04                 | PASS               |
+------------------------------+--------------------+
| Red Hat Enterprise Linux 9.5 | PASS               |
+------------------------------+--------------------+
| Fedora 40 (ARM)              | PASS               |
+------------------------------+--------------------+
| Fedora 41 (ARM Clang)        | PASS               |
+------------------------------+--------------------+
| Fedora 40 (ARM Clang)        | PASS               |
+------------------------------+--------------------+
| Debian GNU/Linux 12          | PASS               |
+------------------------------+--------------------+
| Fedora 41 (ARM)              | PASS               |
+------------------------------+--------------------+
| Ubuntu 24.04                 | PASS               |
+------------------------------+--------------------+
| Ubuntu 22.04                 | PASS               |
+------------------------------+--------------------+
| CentOS Stream 10 (ARM)       | PASS               |
+------------------------------+--------------------+
| CentOS Stream 9 (ARM)        | PASS               |
+------------------------------+--------------------+


Ubuntu 20.04
	Kernel: 5.15
	Compiler: aarch64-linux-gnu-gcc gcc (Ubuntu 9.4.0-1ubuntu1~20.04.2) 9.4.0

Red Hat Enterprise Linux 9.5
	Kernel: 5.4
	Compiler: gcc gcc (GCC) 11.5.0 20240719 (Red Hat 11.5.0-2)

Fedora 40 (ARM)
	Kernel: Depends on container host
	Compiler: gcc 14.2.1 20240912 (Red Hat 14.2.1-3)

Fedora 41 (ARM Clang)
	Kernel: Depends on container host
	Compiler: clang 19.1.5 (Fedora 19.1.5-1.fc41)

Fedora 40 (ARM Clang)
	Kernel: Depends on container host
	Compiler: clang 18.1.8 (Fedora 18.1.8-1.fc40)

Debian GNU/Linux 12
	Kernel: 5.4
	Compiler: gcc gcc (Debian 12.2.0-14) 12.2.0

Fedora 41 (ARM)
	Kernel: Depends on container host
	Compiler: gcc 14.2.1 20240912 (Red Hat 14.2.1-3)

Ubuntu 24.04
	Kernel: 5.4
	Compiler: gcc gcc (Ubuntu 13.3.0-6ubuntu2~24.04) 13.3.0

Ubuntu 22.04
	Kernel: 5.4
	Compiler: gcc gcc (Ubuntu 11.4.0-1ubuntu1~22.04) 11.4.0

CentOS Stream 10 (ARM)
	Kernel: Depends on container host
	Compiler: gcc 14.2.1 20241104 (Red Hat 14.2.1-6)

CentOS Stream 9 (ARM)
	Kernel: Depends on container host
	Compiler: gcc 11.5.0 20240719 (Red Hat 11.5.0-2)

To view detailed results, visit:
https://lab.dpdk.org/results/dashboard/patchsets/33326/

UNH-IOL DPDK Community Lab

To manage your email subscriptions, visit: 
https://lab.dpdk.org/results/dashboard/preferences/subscriptions/