From mboxrd@z Thu Jan  1 00:00:00 1970
Return-Path: <test-report-bounces@dpdk.org>
Received: from mails.dpdk.org (mails.dpdk.org [217.70.189.124])
	by inbox.dpdk.org (Postfix) with ESMTP id 030664688E
	for <public@inbox.dpdk.org>; Thu,  5 Jun 2025 18:11:32 +0200 (CEST)
Received: from mails.dpdk.org (localhost [127.0.0.1])
	by mails.dpdk.org (Postfix) with ESMTP id F126A40150;
	Thu,  5 Jun 2025 18:11:31 +0200 (CEST)
Received: from mail-yb1-f228.google.com (mail-yb1-f228.google.com
 [209.85.219.228])
 by mails.dpdk.org (Postfix) with ESMTP id 5EA0D40150
 for <test-report@dpdk.org>; Thu,  5 Jun 2025 18:11:30 +0200 (CEST)
Received: by mail-yb1-f228.google.com with SMTP id
 3f1490d57ef6-e7311e66a8eso1147110276.2
 for <test-report@dpdk.org>; Thu, 05 Jun 2025 09:11:30 -0700 (PDT)
DKIM-Signature: v=1; a=rsa-sha256; c=relaxed/relaxed;
 d=iol.unh.edu; s=unh-iol; t=1749139889; x=1749744689; darn=dpdk.org;
 h=references:in-reply-to:cc:to:from:subject:message-id:date:from:to
 :cc:subject:date:message-id:reply-to;
 bh=eAQeHpqPpWOzMobsvjQxapmjeSp3DwRWRoT+4KlS+iI=;
 b=V5pVpWkZV8H9x6DlCPRpZrIkcfXUChSubf523u66Nmy2IyV291qNATdRC6oPsjKfPx
 rWAIFceNyiLZK5fYjMCbOMJ80WFWG5Zl0boZiRnldFARCBWfEuRlLiMLcFBpjurMz/WG
 ZUREUuhztBNwZkp7bb/wwo7CLOUxBxCnHi8iA=
X-Google-DKIM-Signature: v=1; a=rsa-sha256; c=relaxed/relaxed;
 d=1e100.net; s=20230601; t=1749139889; x=1749744689;
 h=references:in-reply-to:cc:to:from:subject:message-id:date
 :x-gm-message-state:from:to:cc:subject:date:message-id:reply-to;
 bh=eAQeHpqPpWOzMobsvjQxapmjeSp3DwRWRoT+4KlS+iI=;
 b=YjIGI2SfPq/Pd1FrAAFX/dvTuJuwE8QSgllC+TFcZ5JE577uTev8iizLMQA4nDEqFl
 ou4KrVHiBcT/tZq0Tsq+sh8Y6bBvhDRVYENY6FpBphbifk9q+EO7u6Qg6sg79u1z16oQ
 WTkoh3xTIoc8NzRVD+/z4+4UTXD/N6I6ENQHUrc+yX7YJdUBoOqdDNg1yQ97LdzxF01Q
 3Hknxf+MSSZyzX0ouOXH+czoOYWGN10ipfFBun84CfCBSoVR47GSB66jkAxbt9Fjg88A
 pgAIoMtsHGGnIea/UxEdxZynuXXnHdIa552I9P1B8Ow9PChdyx0I1aNI/Rm/ayoUcklJ
 heFQ==
X-Gm-Message-State: AOJu0YwaoQtLcHkDbZ8TEsTWErxz/xF0/fI7bn42/5iIg/uP/ylxLMIV
 kSP3mg93aJzcuKl/PRCAvYQnf+rVl/mqjeflQiwCsdoxanZ7geZK1L5y3MYzUPRXcHZLGhcN71D
 K85UEkR1h2FjvsWzb98U8IblziIPhc8oOOFbX0HXQAgvmMoLSpH9JUMvWPpbQ
X-Gm-Gg: ASbGncsk66o51sMh47J8H0cZ9lKzgFc6OuN2vlDyjXYo3clnNN0H+dY7wvll/GrPdLR
 ilzdyZDckXI2TcbyaBbfemCJLO0XCFvo3bm+1vZydAVmCN+FGcuxYp25Wq5yOZDEEAlKMFJaYWF
 LB1E2/egPpB02k9LpbFq5ljp/PkJZOU7vXD08PIAdF5HiEzw1f2DRCybSrxab6PQJ6VxhJvI4Ud
 Gn93sJOci/AGtk9Knb78BGkC8LQIfd/UK74S8PyZEUBmX+Rn/fg59bpnYNoqOItPGYVXYt3JaIE
 GyQO2zfUpcgsHbm53sa/D1y4W/6zxpJ07gijKfOB7aW9JrQ=
X-Google-Smtp-Source: AGHT+IFxam4tDMmDm/I9y0c2gS2hVxR5X/fIV2vmT/qO6veTFSHfX3UohuknU8Biem6z9m5gfvO/CMEYjMLe
X-Received: by 2002:a05:6902:220c:b0:e81:4340:6e4d with SMTP id
 3f1490d57ef6-e81a212b470mr547860276.21.1749139889589; 
 Thu, 05 Jun 2025 09:11:29 -0700 (PDT)
Received: from postal.iol.unh.edu (postal.iol.unh.edu.
 [2606:4100:3880:1234::84]) by smtp-relay.gmail.com with ESMTPS id
 3f1490d57ef6-e8182551b03sm99502276.2.2025.06.05.09.11.29
 (version=TLS1_2 cipher=ECDHE-ECDSA-AES128-GCM-SHA256 bits=128/128);
 Thu, 05 Jun 2025 09:11:29 -0700 (PDT)
X-Relaying-Domain: iol.unh.edu
Date: Thu, 05 Jun 2025 09:11:29 -0700 (PDT)
Message-ID: <6841c1b1.050a0220.d583d.4a7dSMTPIN_ADDED_MISSING@mx.google.com>
Received: from [172.21.0.8] (unknown [172.18.0.240])
 by postal.iol.unh.edu (Postfix) with ESMTP id 4164D6052471;
 Thu,  5 Jun 2025 12:11:29 -0400 (EDT)
Subject: |SUCCESS| pw154064 [PATCH] [v6,1/1] net/intel: define __builtin_add_
From: dpdklab@iol.unh.edu
To: Test Report <test-report@dpdk.org>
Cc: dpdk-test-reports@iol.unh.edu
In-Reply-To: <1749134845-30062-2-git-send-email-andremue@linux.microsoft.com>
References: <1749134845-30062-2-git-send-email-andremue@linux.microsoft.com>
Content-Type: text/plain
X-BeenThere: test-report@dpdk.org
X-Mailman-Version: 2.1.29
Precedence: list
List-Id: automatic DPDK test reports <test-report.dpdk.org>
List-Unsubscribe: <https://mails.dpdk.org/options/test-report>,
 <mailto:test-report-request@dpdk.org?subject=unsubscribe>
List-Archive: <http://mails.dpdk.org/archives/test-report/>
List-Post: <mailto:test-report@dpdk.org>
List-Help: <mailto:test-report-request@dpdk.org?subject=help>
List-Subscribe: <https://mails.dpdk.org/listinfo/test-report>,
 <mailto:test-report-request@dpdk.org?subject=subscribe>
Errors-To: test-report-bounces@dpdk.org

Test-Label: iol-compile-amd64-testing
Test-Status: SUCCESS
http://dpdk.org/patch/154064

_Testing PASS_

Submitter: Andre Muezerie <andremue@linux.microsoft.com>
Date: Thursday, June 05 2025 14:47:25 
DPDK git baseline: Repo:dpdk
  Branch: master
  CommitID:f880ad11010de93f2c1c45369aebe42987515a23

154064 --> testing pass

Upstream job id: Windows-Compile-DPDK-Native#28847

Test environment and result as below:

+---------------------+--------------------+-------------------+-------------------------+----------------------+
|     Environment     | dpdk_meson_compile | dpdk_msvc_compile | dpdk_llvm_clang_compile | dpdk_mingw64_compile |
+=====================+====================+===================+=========================+======================+
| Ubuntu 20.04        | PASS               | SKIPPED           | SKIPPED                 | SKIPPED              |
+---------------------+--------------------+-------------------+-------------------------+----------------------+
| FreeBSD 14.2        | PASS               | SKIPPED           | SKIPPED                 | SKIPPED              |
+---------------------+--------------------+-------------------+-------------------------+----------------------+
| Windows Server 2022 | SKIPPED            | PASS              | PASS                    | PASS                 |
+---------------------+--------------------+-------------------+-------------------------+----------------------+


Ubuntu 20.04
	Kernel: 4.19
	Compiler: gcc gcc (Ubuntu 9.4.0-1ubuntu1~20.04.2) 9.4.0

FreeBSD 14.2
	Kernel: 14.2-RELEASE
	Compiler: clang 18.1.6

Windows Server 2022
	Kernel: 10.0.20348.2031
	Compiler: clang 15.0.7, gcc 14.1.0 (MinGW), and MSVC VS 19.39.33521

To view detailed results, visit:
https://lab.dpdk.org/results/dashboard/patchsets/33335/

UNH-IOL DPDK Community Lab

To manage your email subscriptions, visit: 
https://lab.dpdk.org/results/dashboard/preferences/subscriptions/