From mboxrd@z Thu Jan  1 00:00:00 1970
Return-Path: <test-report-bounces@dpdk.org>
Received: from mails.dpdk.org (mails.dpdk.org [217.70.189.124])
	by inbox.dpdk.org (Postfix) with ESMTP id BFF794682B
	for <public@inbox.dpdk.org>; Fri,  6 Jun 2025 02:00:27 +0200 (CEST)
Received: from mails.dpdk.org (localhost [127.0.0.1])
	by mails.dpdk.org (Postfix) with ESMTP id BB693400D7;
	Fri,  6 Jun 2025 02:00:27 +0200 (CEST)
Received: from mail-pg1-f227.google.com (mail-pg1-f227.google.com
 [209.85.215.227])
 by mails.dpdk.org (Postfix) with ESMTP id D3980400D7
 for <test-report@dpdk.org>; Fri,  6 Jun 2025 02:00:25 +0200 (CEST)
Received: by mail-pg1-f227.google.com with SMTP id
 41be03b00d2f7-af908bb32fdso1121840a12.1
 for <test-report@dpdk.org>; Thu, 05 Jun 2025 17:00:25 -0700 (PDT)
DKIM-Signature: v=1; a=rsa-sha256; c=relaxed/relaxed;
 d=iol.unh.edu; s=unh-iol; t=1749168025; x=1749772825; darn=dpdk.org;
 h=references:in-reply-to:cc:to:from:subject:message-id:date:from:to
 :cc:subject:date:message-id:reply-to;
 bh=tYqAcfvukpyei5gSDjnmGG+TRAtNbDE0QgaBGOIxxL0=;
 b=N7hc1BqWaJ+Es+9IN3k4/K957cobkC6HRu206Zhe2L0I83b58yug/BbsY/VQxJyV/J
 auPStL25XwP4dXw8kiBKMcdL0EpkxNU4jT7hCpdGJpfKk0m1iDENFJ+sWz5nEzEdgwTe
 UTzComCaJuEIr76jfUgu3DUy872tT7SMKPzqU=
X-Google-DKIM-Signature: v=1; a=rsa-sha256; c=relaxed/relaxed;
 d=1e100.net; s=20230601; t=1749168025; x=1749772825;
 h=references:in-reply-to:cc:to:from:subject:message-id:date
 :x-gm-message-state:from:to:cc:subject:date:message-id:reply-to;
 bh=tYqAcfvukpyei5gSDjnmGG+TRAtNbDE0QgaBGOIxxL0=;
 b=Z2ELnIwUgAhM9zdluTCdoS6StCI6NOyXhwbzVC0vu/Wggf9FMjncNb9A4XwYpk0Zia
 agNYIIAxNYxCQzKKV1e5roNLYIXWRSHtQmHU/zlAdYjH9filZkOBszkuI+M8PAX+J03V
 uNfGm2NJOJukrpZ+RGOivv8QvXd+IS0oAReviGEYUMESomYBlx6rYkF1mc7dpWN8hGyg
 MMO9El5kHjJ35eY09oOR+T106DmQHGvPl5/OQGIgBO49psG69iH/VhRcnxr5sqP2Dzu2
 Htj+TA4hhC5bVg0twhfoeMNeXloVtd8yMQCyi2XUpBE06URKFLZgJC/1Fk5fAEaS7ws9
 xlNQ==
X-Gm-Message-State: AOJu0Yy8+/HVauvRjGpGE9JmrJ/UsNh+BzD5GcZSGIBkUj9AlcGF2B6e
 4s/q7y8mHcGYUB5O5KVa+3vUBToO44kKJ0p39nsmbgW3qcZokLzyY1uves3Q0x99021byg2cRbp
 TPbJ7+GV00wlKNnATz20/RxZ+80exWhWdCm5fmYFqY7hj
X-Gm-Gg: ASbGnct9qcOHlLKU06pk0baPwjq6X62DSvw1A9WuvvD1i49sIAR8f9j+naGEWZ/MjmA
 7wIU9fNJDI12j82R88BoM7H8yCB1JJjEmTFx+TK2HdEhjuizZ6PiRaLX60afMIW8pAL84g8eWin
 brvuzlK5MsHUtaL6jhCoj6XhiBEHTLKZJz25oT31+OXohzX7yXr3V8VEN1MQPDMdtWp8D/AZFqb
 qTYmVRjRsaz1cDMMDS8bATctEmjSqvzIXxQhyFWY07XfsNfhME0S03oeVoebFoVErkSSsxHSWN5
 E3DI6yioJpe+0VOcTArcVbuXbV4usV1ZIEUP4T76Q3ECQr+Gq86R9usVRD1eDhJ4evb3Cw==
X-Google-Smtp-Source: AGHT+IHcbOHZ664xuU+5O48uI7pW35XCe41Y+0v2Kg51c3oStfu59rj+Pm8z1Fy1lZ+IDU1OKs2i3Z/wQ9y2
X-Received: by 2002:a17:90b:4a52:b0:30e:6a9d:d78b with SMTP id
 98e67ed59e1d1-31349fb9d6amr1449263a91.12.1749168024988; 
 Thu, 05 Jun 2025 17:00:24 -0700 (PDT)
Received: from postal.iol.unh.edu (postal.iol.unh.edu. [132.177.123.84])
 by smtp-relay.gmail.com with ESMTPS id
 98e67ed59e1d1-3134b12cfa9sm27068a91.9.2025.06.05.17.00.24
 (version=TLS1_2 cipher=ECDHE-ECDSA-AES128-GCM-SHA256 bits=128/128);
 Thu, 05 Jun 2025 17:00:24 -0700 (PDT)
X-Relaying-Domain: iol.unh.edu
Date: Thu, 05 Jun 2025 17:00:24 -0700 (PDT)
Message-ID: <68422f98.170a0220.f3803.1397SMTPIN_ADDED_MISSING@mx.google.com>
Received: from [172.21.0.5] (unknown [172.18.0.240])
 by postal.iol.unh.edu (Postfix) with ESMTP id 2452E6052471;
 Thu,  5 Jun 2025 20:00:24 -0400 (EDT)
Subject: |WARNING| pw154054 [PATCH] ethdev: add support to provide link type
From: dpdklab@iol.unh.edu
To: Test Report <test-report@dpdk.org>
Cc: dpdk-test-reports@iol.unh.edu
In-Reply-To: <20250605113159.3035480-1-skori@marvell.com>
References: <20250605113159.3035480-1-skori@marvell.com>
Content-Type: text/plain
X-BeenThere: test-report@dpdk.org
X-Mailman-Version: 2.1.29
Precedence: list
List-Id: automatic DPDK test reports <test-report.dpdk.org>
List-Unsubscribe: <https://mails.dpdk.org/options/test-report>,
 <mailto:test-report-request@dpdk.org?subject=unsubscribe>
List-Archive: <http://mails.dpdk.org/archives/test-report/>
List-Post: <mailto:test-report@dpdk.org>
List-Help: <mailto:test-report-request@dpdk.org?subject=help>
List-Subscribe: <https://mails.dpdk.org/listinfo/test-report>,
 <mailto:test-report-request@dpdk.org?subject=subscribe>
Errors-To: test-report-bounces@dpdk.org

Test-Label: iol-compile-amd64-testing
Test-Status: WARNING
http://dpdk.org/patch/154054

_Testing issues_

Submitter: Sunil Kumar Kori <skori@marvell.com>
Date: Thursday, June 05 2025 11:31:51 
DPDK git baseline: Repo:dpdk
  Branch: master
  CommitID:43e69720f82e219424d763f7efc6cdc2e809c2ee

154054 --> testing issues

Upstream job id: Generic-DPDK-Compile-Meson#394602

Test environment and result as below:

+-------------------------------+--------------------+-------------------+-------------------------+----------------------+-------------------+------------------+
|          Environment          | dpdk_meson_compile | dpdk_msvc_compile | dpdk_llvm_clang_compile | dpdk_mingw64_compile | dpdk_compile_spdk | dpdk_compile_ovs |
+===============================+====================+===================+=========================+======================+===================+==================+
| Ubuntu 20.04                  | PASS               | SKIPPED           | SKIPPED                 | SKIPPED              | SKIPPED           | SKIPPED          |
+-------------------------------+--------------------+-------------------+-------------------------+----------------------+-------------------+------------------+
| FreeBSD 14.2                  | PASS               | SKIPPED           | SKIPPED                 | SKIPPED              | SKIPPED           | SKIPPED          |
+-------------------------------+--------------------+-------------------+-------------------------+----------------------+-------------------+------------------+
| CentOS Stream 9               | PASS               | SKIPPED           | SKIPPED                 | SKIPPED              | PASS              | SKIPPED          |
+-------------------------------+--------------------+-------------------+-------------------------+----------------------+-------------------+------------------+
| CentOS Stream 10              | PASS               | SKIPPED           | SKIPPED                 | SKIPPED              | SKIPPED           | SKIPPED          |
+-------------------------------+--------------------+-------------------+-------------------------+----------------------+-------------------+------------------+
| Debian GNU/Linux 12           | PASS               | SKIPPED           | SKIPPED                 | SKIPPED              | PASS              | SKIPPED          |
+-------------------------------+--------------------+-------------------+-------------------------+----------------------+-------------------+------------------+
| Fedora 40 (Clang)             | PASS               | SKIPPED           | SKIPPED                 | SKIPPED              | WARN              | SKIPPED          |
+-------------------------------+--------------------+-------------------+-------------------------+----------------------+-------------------+------------------+
| Fedora 40                     | PASS               | SKIPPED           | SKIPPED                 | SKIPPED              | PASS              | SKIPPED          |
+-------------------------------+--------------------+-------------------+-------------------------+----------------------+-------------------+------------------+
| Fedora 41 (Clang)             | PASS               | SKIPPED           | SKIPPED                 | SKIPPED              | WARN              | PASS             |
+-------------------------------+--------------------+-------------------+-------------------------+----------------------+-------------------+------------------+
| Fedora 41                     | PASS               | SKIPPED           | SKIPPED                 | SKIPPED              | PASS              | PASS             |
+-------------------------------+--------------------+-------------------+-------------------------+----------------------+-------------------+------------------+
| openSUSE Leap 15.6            | PASS               | SKIPPED           | SKIPPED                 | SKIPPED              | SKIPPED           | SKIPPED          |
+-------------------------------+--------------------+-------------------+-------------------------+----------------------+-------------------+------------------+
| Red Hat Enterprise Linux 8.10 | PASS               | SKIPPED           | SKIPPED                 | SKIPPED              | SKIPPED           | SKIPPED          |
+-------------------------------+--------------------+-------------------+-------------------------+----------------------+-------------------+------------------+
| Red Hat Enterprise Linux 9.5  | PASS               | SKIPPED           | SKIPPED                 | SKIPPED              | SKIPPED           | SKIPPED          |
+-------------------------------+--------------------+-------------------+-------------------------+----------------------+-------------------+------------------+
| Ubuntu 22.04                  | PASS               | SKIPPED           | SKIPPED                 | SKIPPED              | PASS              | SKIPPED          |
+-------------------------------+--------------------+-------------------+-------------------------+----------------------+-------------------+------------------+
| Ubuntu 24.04                  | PASS               | SKIPPED           | SKIPPED                 | SKIPPED              | PASS              | PASS             |
+-------------------------------+--------------------+-------------------+-------------------------+----------------------+-------------------+------------------+
| Alpine                        | PASS               | SKIPPED           | SKIPPED                 | SKIPPED              | SKIPPED           | SKIPPED          |
+-------------------------------+--------------------+-------------------+-------------------------+----------------------+-------------------+------------------+
| Windows Server 2022           | SKIPPED            | PASS              | PASS                    | PASS                 | SKIPPED           | SKIPPED          |
+-------------------------------+--------------------+-------------------+-------------------------+----------------------+-------------------+------------------+

==== 20 line log output for Fedora 41 (Clang) (dpdk_compile_spdk): ====
 --- Failed to get log output --- 
==== End log output ====

Ubuntu 20.04
	Kernel: 4.19
	Compiler: gcc gcc (Ubuntu 9.4.0-1ubuntu1~20.04.2) 9.4.0

FreeBSD 14.2
	Kernel: 14.2-RELEASE
	Compiler: clang 18.1.6

CentOS Stream 9
	Kernel: Depends on container host
	Compiler: gcc 11.5.0 20240719 (Red Hat 11.5.0-2)

CentOS Stream 10
	Kernel: Depends on container host
	Compiler: gcc 14.2.1 20241104 (Red Hat 14.2.1-6)

Debian GNU/Linux 12
	Kernel: 5.15
	Compiler: gcc gcc (Debian 12.2.0-14) 12.2.0

Fedora 40 (Clang)
	Kernel: Depends on container host
	Compiler: clang 18.1.8 (Fedora 18.1.8-1.fc40)

Fedora 40
	Kernel: Depends on container host
	Compiler: gcc 14.2.1 20240912 (Red Hat 14.2.1-3)

Fedora 41 (Clang)
	Kernel: Depends on container host
	Compiler: clang 19.1.5 (Fedora 19.1.5-1.fc41)

Fedora 41
	Kernel: Depends on container host
	Compiler: gcc 14.2.1 20240912 (Red Hat 14.2.1-3)

openSUSE Leap 15.6
	Kernel: 5.15
	Compiler: gcc gcc (SUSE Linux) 7.5.0

Red Hat Enterprise Linux 8.10
	Kernel: 5.15
	Compiler: gcc gcc (GCC) 8.5.0 20210514 (Red Hat 8.5.0-22)

Red Hat Enterprise Linux 9.5
	Kernel: 5.15
	Compiler: gcc gcc (GCC) 11.5.0 20240719 (Red Hat 11.5.0-2)

Ubuntu 22.04
	Kernel: 5.15
	Compiler: gcc gcc (Ubuntu 11.4.0-1ubuntu1~22.04) 11.4.0

Ubuntu 24.04
	Kernel: 5.15
	Compiler: gcc gcc (Ubuntu 13.3.0-6ubuntu2~24.04) 13.3.0

Alpine
	Kernel: Depends on container host
	Compiler: gcc (Alpine 14.2.0) 14.2.0

Windows Server 2022
	Kernel: 10.0.20348.2031
	Compiler: clang 15.0.7, gcc 14.1.0 (MinGW), and MSVC VS 19.39.33521

To view detailed results, visit:
https://lab.dpdk.org/results/dashboard/patchsets/33331/

UNH-IOL DPDK Community Lab

To manage your email subscriptions, visit: 
https://lab.dpdk.org/results/dashboard/preferences/subscriptions/