From mboxrd@z Thu Jan  1 00:00:00 1970
Return-Path: <test-report-bounces@dpdk.org>
Received: from mails.dpdk.org (mails.dpdk.org [217.70.189.124])
	by inbox.dpdk.org (Postfix) with ESMTP id 08D124687F
	for <public@inbox.dpdk.org>; Fri,  6 Jun 2025 02:08:18 +0200 (CEST)
Received: from mails.dpdk.org (localhost [127.0.0.1])
	by mails.dpdk.org (Postfix) with ESMTP id 0220B400D7;
	Fri,  6 Jun 2025 02:08:18 +0200 (CEST)
Received: from mail-qt1-f225.google.com (mail-qt1-f225.google.com
 [209.85.160.225])
 by mails.dpdk.org (Postfix) with ESMTP id CE5FC400D7
 for <test-report@dpdk.org>; Fri,  6 Jun 2025 02:08:16 +0200 (CEST)
Received: by mail-qt1-f225.google.com with SMTP id
 d75a77b69052e-4a589b7dd5fso25023441cf.0
 for <test-report@dpdk.org>; Thu, 05 Jun 2025 17:08:16 -0700 (PDT)
DKIM-Signature: v=1; a=rsa-sha256; c=relaxed/relaxed;
 d=iol.unh.edu; s=unh-iol; t=1749168496; x=1749773296; darn=dpdk.org;
 h=references:in-reply-to:cc:to:from:subject:message-id:date:from:to
 :cc:subject:date:message-id:reply-to;
 bh=Fz76XqLaGFY1ZVH73O+xXQmg6c4d3hbK281fuMVQOps=;
 b=ITd9WYRht/44DaG0G4BMbCvVlzSAxm/qDRxFUY/ozrLgO1laERGEKZO2neyISrR6Y7
 3gWec86TL6XcIpWx1LlhprTudoUPvb9XlFVYH/+anLQd5XsfBUF+WKF4UMwyMatco57a
 d7WnefVXJSXY9iV8kwOuv0xDWF6d6AVdjw7ec=
X-Google-DKIM-Signature: v=1; a=rsa-sha256; c=relaxed/relaxed;
 d=1e100.net; s=20230601; t=1749168496; x=1749773296;
 h=references:in-reply-to:cc:to:from:subject:message-id:date
 :x-gm-message-state:from:to:cc:subject:date:message-id:reply-to;
 bh=Fz76XqLaGFY1ZVH73O+xXQmg6c4d3hbK281fuMVQOps=;
 b=WtdEMp2pulnzAX31Or/I7aUnmHGFBcnP14t3xaeTEXgsjfgPZwVvaInRSH9T+AV52g
 xSL8L5JCKeA6aI1H/8DAOVXJHY33fyOukElr9Annd7oE4xiK2wZ259v3ROkOsl4KOemT
 V4JeGip5UKAlGXnkaA+niOSetqcRfpc977FaG5wmb3GmYo51itwTySMrrZCdbH2hV40k
 +5pCRXkAIxC2eRrY6dXT6GeeEPgJqv9liUg4vQlTTjd3hpXqAWh86q1oWGf/E7lFIq6v
 jPHyqfGYWXqJzfX/BtTI26LxLFFPlcxX6m9gmhYL4nL4d23svt9EPxZbThJNc+tFbApX
 WWNA==
X-Gm-Message-State: AOJu0YxXGReAgwlreUym//osFSErUpnics7TeBxkFfldCDh2xTY3ilVQ
 uSNWYHxgRQdyIkQ0cZsJzcUAxuhYBJblekbLar08b0Uk3Vpkd8CK1+jEYcBIz/g8Q3ZvwJbrF/K
 77UF9ZorB1fUeypRy/9zt7Ewy3Ov2Pl0yUrMroO01q0Ga
X-Gm-Gg: ASbGncsrtuztgEI7P8fMZTU77BROJrdJVHnpQnuSAjc6QPjrTDDvNpL5+yZED32JdkY
 LWeUlzDtZvpa2z57o6culZfA+YPNISTeQpGvxdZ8LnSDbGUJlM6wuhiYrzbvtz6JwW44nwtRtiQ
 S2trrX0TpmbQR3tPGZqB3zApIu8Z1v/GbZi+eXVWH4XNAhfZPopa85dHChBpbCeGPQJFJ34vGtu
 nxupIUiV3JR6MEycov3WMlgDc9dwnMaZhXC1GH1SKdHzFD9LL+7SA2S5KreP50AnmwWW4E3/UoE
 g4RLYZRQHmz4VNDwDFXRuQ8/3sEo+CvslncgHxyRrrgrMLB3wqPTsfZK+1+q2wWyoGORHg==
X-Google-Smtp-Source: AGHT+IG7aCtwRFX7mmnaN51FfwEW592egVuKBKKSlQjV3SsBcavaSl65coSBNu4FiRC82e3ML0y38cGhoaoI
X-Received: by 2002:a05:622a:2289:b0:4a5:a63b:4796 with SMTP id
 d75a77b69052e-4a5b9dc02f6mr26916181cf.48.1749168496155; 
 Thu, 05 Jun 2025 17:08:16 -0700 (PDT)
Received: from postal.iol.unh.edu (postal.iol.unh.edu. [132.177.123.84])
 by smtp-relay.gmail.com with ESMTPS id
 d75a77b69052e-4a619854823sm175681cf.15.2025.06.05.17.08.16
 (version=TLS1_2 cipher=ECDHE-ECDSA-AES128-GCM-SHA256 bits=128/128);
 Thu, 05 Jun 2025 17:08:16 -0700 (PDT)
X-Relaying-Domain: iol.unh.edu
Date: Thu, 05 Jun 2025 17:08:16 -0700 (PDT)
Message-ID: <68423170.c80a0220.32d1d7.0d25SMTPIN_ADDED_MISSING@mx.google.com>
Received: from [172.21.0.6] (unknown [172.18.0.240])
 by postal.iol.unh.edu (Postfix) with ESMTP id DA9EE6052471;
 Thu,  5 Jun 2025 20:08:15 -0400 (EDT)
Subject: |WARNING| pw154054 [PATCH] ethdev: add support to provide link type
From: dpdklab@iol.unh.edu
To: Test Report <test-report@dpdk.org>
Cc: dpdk-test-reports@iol.unh.edu
In-Reply-To: <20250605113159.3035480-1-skori@marvell.com>
References: <20250605113159.3035480-1-skori@marvell.com>
Content-Type: text/plain
X-BeenThere: test-report@dpdk.org
X-Mailman-Version: 2.1.29
Precedence: list
List-Id: automatic DPDK test reports <test-report.dpdk.org>
List-Unsubscribe: <https://mails.dpdk.org/options/test-report>,
 <mailto:test-report-request@dpdk.org?subject=unsubscribe>
List-Archive: <http://mails.dpdk.org/archives/test-report/>
List-Post: <mailto:test-report@dpdk.org>
List-Help: <mailto:test-report-request@dpdk.org?subject=help>
List-Subscribe: <https://mails.dpdk.org/listinfo/test-report>,
 <mailto:test-report-request@dpdk.org?subject=subscribe>
Errors-To: test-report-bounces@dpdk.org

Test-Label: iol-compile-amd64-testing
Test-Status: WARNING
http://dpdk.org/patch/154054

_Testing issues_

Submitter: Sunil Kumar Kori <skori@marvell.com>
Date: Thursday, June 05 2025 11:31:51 
DPDK git baseline: Repo:dpdk
  Branch: master
  CommitID:43e69720f82e219424d763f7efc6cdc2e809c2ee

154054 --> testing issues

Upstream job id: Generic-DPDK-Compile-Meson#394601

Test environment and result as below:

+-------------------------------+--------------------+-------------------+-------------------------+----------------------+-------------------+------------------+
|          Environment          | dpdk_meson_compile | dpdk_msvc_compile | dpdk_llvm_clang_compile | dpdk_mingw64_compile | dpdk_compile_spdk | dpdk_compile_ovs |
+===============================+====================+===================+=========================+======================+===================+==================+
| Ubuntu 20.04                  | PASS               | SKIPPED           | SKIPPED                 | SKIPPED              | SKIPPED           | SKIPPED          |
+-------------------------------+--------------------+-------------------+-------------------------+----------------------+-------------------+------------------+
| FreeBSD 14.2                  | PASS               | SKIPPED           | SKIPPED                 | SKIPPED              | SKIPPED           | SKIPPED          |
+-------------------------------+--------------------+-------------------+-------------------------+----------------------+-------------------+------------------+
| CentOS Stream 9               | PASS               | SKIPPED           | SKIPPED                 | SKIPPED              | PASS              | SKIPPED          |
+-------------------------------+--------------------+-------------------+-------------------------+----------------------+-------------------+------------------+
| CentOS Stream 10              | PASS               | SKIPPED           | SKIPPED                 | SKIPPED              | SKIPPED           | SKIPPED          |
+-------------------------------+--------------------+-------------------+-------------------------+----------------------+-------------------+------------------+
| Debian GNU/Linux 12           | PASS               | SKIPPED           | SKIPPED                 | SKIPPED              | PASS              | SKIPPED          |
+-------------------------------+--------------------+-------------------+-------------------------+----------------------+-------------------+------------------+
| Fedora 40 (Clang)             | PASS               | SKIPPED           | SKIPPED                 | SKIPPED              | WARN              | SKIPPED          |
+-------------------------------+--------------------+-------------------+-------------------------+----------------------+-------------------+------------------+
| Fedora 40                     | PASS               | SKIPPED           | SKIPPED                 | SKIPPED              | PASS              | SKIPPED          |
+-------------------------------+--------------------+-------------------+-------------------------+----------------------+-------------------+------------------+
| Fedora 41 (Clang)             | PASS               | SKIPPED           | SKIPPED                 | SKIPPED              | WARN              | PASS             |
+-------------------------------+--------------------+-------------------+-------------------------+----------------------+-------------------+------------------+
| Fedora 41                     | PASS               | SKIPPED           | SKIPPED                 | SKIPPED              | PASS              | PASS             |
+-------------------------------+--------------------+-------------------+-------------------------+----------------------+-------------------+------------------+
| openSUSE Leap 15.6            | PASS               | SKIPPED           | SKIPPED                 | SKIPPED              | SKIPPED           | SKIPPED          |
+-------------------------------+--------------------+-------------------+-------------------------+----------------------+-------------------+------------------+
| Red Hat Enterprise Linux 8.10 | PASS               | SKIPPED           | SKIPPED                 | SKIPPED              | SKIPPED           | SKIPPED          |
+-------------------------------+--------------------+-------------------+-------------------------+----------------------+-------------------+------------------+
| Red Hat Enterprise Linux 9.5  | PASS               | SKIPPED           | SKIPPED                 | SKIPPED              | SKIPPED           | SKIPPED          |
+-------------------------------+--------------------+-------------------+-------------------------+----------------------+-------------------+------------------+
| Ubuntu 22.04                  | PASS               | SKIPPED           | SKIPPED                 | SKIPPED              | PASS              | SKIPPED          |
+-------------------------------+--------------------+-------------------+-------------------------+----------------------+-------------------+------------------+
| Ubuntu 24.04                  | PASS               | SKIPPED           | SKIPPED                 | SKIPPED              | PASS              | PASS             |
+-------------------------------+--------------------+-------------------+-------------------------+----------------------+-------------------+------------------+
| Alpine                        | PASS               | SKIPPED           | SKIPPED                 | SKIPPED              | SKIPPED           | SKIPPED          |
+-------------------------------+--------------------+-------------------+-------------------------+----------------------+-------------------+------------------+
| Windows Server 2022           | SKIPPED            | PASS              | PASS                    | PASS                 | SKIPPED           | SKIPPED          |
+-------------------------------+--------------------+-------------------+-------------------------+----------------------+-------------------+------------------+

==== 20 line log output for Fedora 41 (Clang) (dpdk_compile_spdk): ====
 --- Failed to get log output --- 
==== End log output ====

Ubuntu 20.04
	Kernel: 4.19
	Compiler: gcc gcc (Ubuntu 9.4.0-1ubuntu1~20.04.2) 9.4.0

FreeBSD 14.2
	Kernel: 14.2-RELEASE
	Compiler: clang 18.1.6

CentOS Stream 9
	Kernel: Depends on container host
	Compiler: gcc 11.5.0 20240719 (Red Hat 11.5.0-2)

CentOS Stream 10
	Kernel: Depends on container host
	Compiler: gcc 14.2.1 20241104 (Red Hat 14.2.1-6)

Debian GNU/Linux 12
	Kernel: 5.15
	Compiler: gcc gcc (Debian 12.2.0-14) 12.2.0

Fedora 40 (Clang)
	Kernel: Depends on container host
	Compiler: clang 18.1.8 (Fedora 18.1.8-1.fc40)

Fedora 40
	Kernel: Depends on container host
	Compiler: gcc 14.2.1 20240912 (Red Hat 14.2.1-3)

Fedora 41 (Clang)
	Kernel: Depends on container host
	Compiler: clang 19.1.5 (Fedora 19.1.5-1.fc41)

Fedora 41
	Kernel: Depends on container host
	Compiler: gcc 14.2.1 20240912 (Red Hat 14.2.1-3)

openSUSE Leap 15.6
	Kernel: 5.15
	Compiler: gcc gcc (SUSE Linux) 7.5.0

Red Hat Enterprise Linux 8.10
	Kernel: 5.15
	Compiler: gcc gcc (GCC) 8.5.0 20210514 (Red Hat 8.5.0-22)

Red Hat Enterprise Linux 9.5
	Kernel: 5.15
	Compiler: gcc gcc (GCC) 11.5.0 20240719 (Red Hat 11.5.0-2)

Ubuntu 22.04
	Kernel: 5.15
	Compiler: gcc gcc (Ubuntu 11.4.0-1ubuntu1~22.04) 11.4.0

Ubuntu 24.04
	Kernel: 5.15
	Compiler: gcc gcc (Ubuntu 13.3.0-6ubuntu2~24.04) 13.3.0

Alpine
	Kernel: Depends on container host
	Compiler: gcc (Alpine 14.2.0) 14.2.0

Windows Server 2022
	Kernel: 10.0.20348.2031
	Compiler: clang 15.0.7, gcc 14.1.0 (MinGW), and MSVC VS 19.39.33521

To view detailed results, visit:
https://lab.dpdk.org/results/dashboard/patchsets/33331/

UNH-IOL DPDK Community Lab

To manage your email subscriptions, visit: 
https://lab.dpdk.org/results/dashboard/preferences/subscriptions/