From mboxrd@z Thu Jan  1 00:00:00 1970
Return-Path: <test-report-bounces@dpdk.org>
Received: from mails.dpdk.org (mails.dpdk.org [217.70.189.124])
	by inbox.dpdk.org (Postfix) with ESMTP id 192C34687F
	for <public@inbox.dpdk.org>; Fri,  6 Jun 2025 02:12:55 +0200 (CEST)
Received: from mails.dpdk.org (localhost [127.0.0.1])
	by mails.dpdk.org (Postfix) with ESMTP id 1495F400D7;
	Fri,  6 Jun 2025 02:12:55 +0200 (CEST)
Received: from mail-qv1-f99.google.com (mail-qv1-f99.google.com
 [209.85.219.99]) by mails.dpdk.org (Postfix) with ESMTP id DC092400D7
 for <test-report@dpdk.org>; Fri,  6 Jun 2025 02:12:53 +0200 (CEST)
Received: by mail-qv1-f99.google.com with SMTP id
 6a1803df08f44-6facc3b9559so21656006d6.0
 for <test-report@dpdk.org>; Thu, 05 Jun 2025 17:12:53 -0700 (PDT)
DKIM-Signature: v=1; a=rsa-sha256; c=relaxed/relaxed;
 d=iol.unh.edu; s=unh-iol; t=1749168773; x=1749773573; darn=dpdk.org;
 h=references:in-reply-to:cc:to:from:subject:message-id:date:from:to
 :cc:subject:date:message-id:reply-to;
 bh=JeDqwUiTjIoESTsNydSKCs6eyq3JbqsmrKlRNWWrZpc=;
 b=Hg5o08kHYcZwCwVDtGP+pTSnh0g/zF4qdMb7AQWTB6scG1iGdP6u3F8c+dfzKjPif1
 ovkFXvxi/TQytlpQeluNYTZnqlE+qrg/E3NdzEkEVLjrdhuawA8EVXeuiJM/suZh+jYP
 i2N7EgW04Qt08CLTxEjGS29oeLlxtP5fibOMI=
X-Google-DKIM-Signature: v=1; a=rsa-sha256; c=relaxed/relaxed;
 d=1e100.net; s=20230601; t=1749168773; x=1749773573;
 h=references:in-reply-to:cc:to:from:subject:message-id:date
 :x-gm-message-state:from:to:cc:subject:date:message-id:reply-to;
 bh=JeDqwUiTjIoESTsNydSKCs6eyq3JbqsmrKlRNWWrZpc=;
 b=uzzmLLncDglAwQ39perVGEw474IdTHwE8qAtrObLKu5ERlTgcnk4VhFavCsG1rMeu8
 OM5QMFxMtfU4ysEkEi1njA0CTvJfZzb2BeFFmew39wGElncsKO7LssvOsqN8CXzTNRCQ
 FpoFC1BSzZz611R/ess3Ff5LewGYPXFRPr+rS6hZuMgJ8za1aLmnL3eykmm4psk/8+wL
 t1VtKtShDXXTxkb+a+kwBmNgvk4MbwgKvG3cZTr8s+/BNYolwbM94wVefMFEXV5Pjjtk
 HhgUcleyP7ZTE0qhfIcogGkgAaD1sqLEiX4c0NiXdngktZpEhc1XEih8GdXLFHupOdRu
 8hQg==
X-Gm-Message-State: AOJu0Yzhkh5KzGuNV2zXScJQzFLQsm3pkB+8t5UB9KtwO6YtDYUz+fQh
 sB/uMSZ+pen2+K3xWH+lUXcnlDDD7G/VhIUEvZv1no0uuTzi9edpex4K/AcHvSwaV763PhmMpDt
 F0UTy2rh8h24IDxYxzW369pxSeNSzJP9mfTLEQUWEnycg
X-Gm-Gg: ASbGncuFcX/R0CXM4fjGJzD/5HOhHPNDUL9VFzpEc+zRk04BthGWvbPlgAQba8db/y9
 ZH3t5mWH7Yf3FOWpMJ0VjgpnkHdfM0DOp6RfoRhklWgDqMMZXANvBGCAZLvNS2pE5uPSyg1LYwq
 oA4C2cmDvGftaVzFUXXTppo+6PFhA7AXHG2+XBKt4oD1jTslp/S1ZIvdDml61C8/0Ibo51WkBcQ
 uWaqwyUTUPCQ2OvUhqb1Arhe7DFBJ5COxHrbbj46Leij53XIcVYeGwR7IJjsNgchF02agyfI+wj
 U+/dsf9bKBkE/xoOkhR51ZPyR7YYntrozZVrWyx8BotRPDRyiiltpNuFMuQ=
X-Google-Smtp-Source: AGHT+IFP8i9SsdHq97Yl5ctu1goNURxDu+nzuoI2IhN89EKvlC4ZGA5B/HlSxDAocmplGSsdf9hkdiVquMEk
X-Received: by 2002:ad4:5f0d:0:b0:6ed:19d1:212f with SMTP id
 6a1803df08f44-6fb08f69f6emr24575016d6.5.1749168773039; 
 Thu, 05 Jun 2025 17:12:53 -0700 (PDT)
Received: from postal.iol.unh.edu (postal.iol.unh.edu. [132.177.123.84])
 by smtp-relay.gmail.com with ESMTPS id
 6a1803df08f44-6fb09b505d0sm182666d6.64.2025.06.05.17.12.52
 (version=TLS1_2 cipher=ECDHE-ECDSA-AES128-GCM-SHA256 bits=128/128);
 Thu, 05 Jun 2025 17:12:53 -0700 (PDT)
X-Relaying-Domain: iol.unh.edu
Date: Thu, 05 Jun 2025 17:12:53 -0700 (PDT)
Message-ID: <68423285.d40a0220.111a62.0d99SMTPIN_ADDED_MISSING@mx.google.com>
Received: from [172.21.0.6] (unknown [172.18.0.240])
 by postal.iol.unh.edu (Postfix) with ESMTP id BBA666052471;
 Thu,  5 Jun 2025 20:12:52 -0400 (EDT)
Subject: |WARNING| pw154049 [PATCH] [v2] app/crypto-perf: add support for RSA
From: dpdklab@iol.unh.edu
To: Test Report <test-report@dpdk.org>
Cc: dpdk-test-reports@iol.unh.edu
In-Reply-To: <20250605092404.3882473-1-ssarananaga@marvell.com>
References: <20250605092404.3882473-1-ssarananaga@marvell.com>
Content-Type: text/plain
X-BeenThere: test-report@dpdk.org
X-Mailman-Version: 2.1.29
Precedence: list
List-Id: automatic DPDK test reports <test-report.dpdk.org>
List-Unsubscribe: <https://mails.dpdk.org/options/test-report>,
 <mailto:test-report-request@dpdk.org?subject=unsubscribe>
List-Archive: <http://mails.dpdk.org/archives/test-report/>
List-Post: <mailto:test-report@dpdk.org>
List-Help: <mailto:test-report-request@dpdk.org?subject=help>
List-Subscribe: <https://mails.dpdk.org/listinfo/test-report>,
 <mailto:test-report-request@dpdk.org?subject=subscribe>
Errors-To: test-report-bounces@dpdk.org

Test-Label: iol-compile-amd64-testing
Test-Status: WARNING
http://dpdk.org/patch/154049

_Testing issues_

Submitter: Sucharitha Sarananaga <ssarananaga@marvell.com>
Date: Thursday, June 05 2025 09:24:04 
DPDK git baseline: Repo:dpdk
  Branch: master
  CommitID:d46cea98b08f1c418faaa7b5fcd24901fe055873

154049 --> testing issues

Upstream job id: Generic-DPDK-Compile-Meson#394651

Test environment and result as below:

+-------------------------------+--------------------+-------------------+-------------------------+----------------------+-------------------+------------------+
|          Environment          | dpdk_meson_compile | dpdk_msvc_compile | dpdk_llvm_clang_compile | dpdk_mingw64_compile | dpdk_compile_spdk | dpdk_compile_ovs |
+===============================+====================+===================+=========================+======================+===================+==================+
| Ubuntu 20.04                  | PASS               | SKIPPED           | SKIPPED                 | SKIPPED              | SKIPPED           | SKIPPED          |
+-------------------------------+--------------------+-------------------+-------------------------+----------------------+-------------------+------------------+
| FreeBSD 14.2                  | PASS               | SKIPPED           | SKIPPED                 | SKIPPED              | SKIPPED           | SKIPPED          |
+-------------------------------+--------------------+-------------------+-------------------------+----------------------+-------------------+------------------+
| CentOS Stream 9               | PASS               | SKIPPED           | SKIPPED                 | SKIPPED              | PASS              | SKIPPED          |
+-------------------------------+--------------------+-------------------+-------------------------+----------------------+-------------------+------------------+
| CentOS Stream 10              | PASS               | SKIPPED           | SKIPPED                 | SKIPPED              | SKIPPED           | SKIPPED          |
+-------------------------------+--------------------+-------------------+-------------------------+----------------------+-------------------+------------------+
| Debian GNU/Linux 12           | PASS               | SKIPPED           | SKIPPED                 | SKIPPED              | PASS              | SKIPPED          |
+-------------------------------+--------------------+-------------------+-------------------------+----------------------+-------------------+------------------+
| Fedora 40 (Clang)             | PASS               | SKIPPED           | SKIPPED                 | SKIPPED              | WARN              | SKIPPED          |
+-------------------------------+--------------------+-------------------+-------------------------+----------------------+-------------------+------------------+
| Fedora 40                     | PASS               | SKIPPED           | SKIPPED                 | SKIPPED              | PASS              | SKIPPED          |
+-------------------------------+--------------------+-------------------+-------------------------+----------------------+-------------------+------------------+
| Fedora 41 (Clang)             | PASS               | SKIPPED           | SKIPPED                 | SKIPPED              | WARN              | PASS             |
+-------------------------------+--------------------+-------------------+-------------------------+----------------------+-------------------+------------------+
| Fedora 41                     | PASS               | SKIPPED           | SKIPPED                 | SKIPPED              | PASS              | PASS             |
+-------------------------------+--------------------+-------------------+-------------------------+----------------------+-------------------+------------------+
| openSUSE Leap 15.6            | PASS               | SKIPPED           | SKIPPED                 | SKIPPED              | SKIPPED           | SKIPPED          |
+-------------------------------+--------------------+-------------------+-------------------------+----------------------+-------------------+------------------+
| Red Hat Enterprise Linux 8.10 | PASS               | SKIPPED           | SKIPPED                 | SKIPPED              | SKIPPED           | SKIPPED          |
+-------------------------------+--------------------+-------------------+-------------------------+----------------------+-------------------+------------------+
| Red Hat Enterprise Linux 9.5  | PASS               | SKIPPED           | SKIPPED                 | SKIPPED              | SKIPPED           | SKIPPED          |
+-------------------------------+--------------------+-------------------+-------------------------+----------------------+-------------------+------------------+
| Ubuntu 22.04                  | PASS               | SKIPPED           | SKIPPED                 | SKIPPED              | PASS              | SKIPPED          |
+-------------------------------+--------------------+-------------------+-------------------------+----------------------+-------------------+------------------+
| Ubuntu 24.04                  | PASS               | SKIPPED           | SKIPPED                 | SKIPPED              | PASS              | PASS             |
+-------------------------------+--------------------+-------------------+-------------------------+----------------------+-------------------+------------------+
| Alpine                        | PASS               | SKIPPED           | SKIPPED                 | SKIPPED              | SKIPPED           | SKIPPED          |
+-------------------------------+--------------------+-------------------+-------------------------+----------------------+-------------------+------------------+
| Windows Server 2022           | SKIPPED            | PASS              | PASS                    | PASS                 | SKIPPED           | SKIPPED          |
+-------------------------------+--------------------+-------------------+-------------------------+----------------------+-------------------+------------------+

==== 20 line log output for Fedora 41 (Clang) (dpdk_compile_spdk): ====
 --- Failed to get log output --- 
==== End log output ====

Ubuntu 20.04
	Kernel: 4.19
	Compiler: gcc gcc (Ubuntu 9.4.0-1ubuntu1~20.04.2) 9.4.0

FreeBSD 14.2
	Kernel: 14.2-RELEASE
	Compiler: clang 18.1.6

CentOS Stream 9
	Kernel: Depends on container host
	Compiler: gcc 11.5.0 20240719 (Red Hat 11.5.0-2)

CentOS Stream 10
	Kernel: Depends on container host
	Compiler: gcc 14.2.1 20241104 (Red Hat 14.2.1-6)

Debian GNU/Linux 12
	Kernel: 5.15
	Compiler: gcc gcc (Debian 12.2.0-14) 12.2.0

Fedora 40 (Clang)
	Kernel: Depends on container host
	Compiler: clang 18.1.8 (Fedora 18.1.8-1.fc40)

Fedora 40
	Kernel: Depends on container host
	Compiler: gcc 14.2.1 20240912 (Red Hat 14.2.1-3)

Fedora 41 (Clang)
	Kernel: Depends on container host
	Compiler: clang 19.1.5 (Fedora 19.1.5-1.fc41)

Fedora 41
	Kernel: Depends on container host
	Compiler: gcc 14.2.1 20240912 (Red Hat 14.2.1-3)

openSUSE Leap 15.6
	Kernel: 5.15
	Compiler: gcc gcc (SUSE Linux) 7.5.0

Red Hat Enterprise Linux 8.10
	Kernel: 5.15
	Compiler: gcc gcc (GCC) 8.5.0 20210514 (Red Hat 8.5.0-22)

Red Hat Enterprise Linux 9.5
	Kernel: 5.15
	Compiler: gcc gcc (GCC) 11.5.0 20240719 (Red Hat 11.5.0-2)

Ubuntu 22.04
	Kernel: 5.15
	Compiler: gcc gcc (Ubuntu 11.4.0-1ubuntu1~22.04) 11.4.0

Ubuntu 24.04
	Kernel: 5.15
	Compiler: gcc gcc (Ubuntu 13.3.0-6ubuntu2~24.04) 13.3.0

Alpine
	Kernel: Depends on container host
	Compiler: gcc (Alpine 14.2.0) 14.2.0

Windows Server 2022
	Kernel: 10.0.20348.2031
	Compiler: clang 15.0.7, gcc 14.1.0 (MinGW), and MSVC VS 19.39.33521

To view detailed results, visit:
https://lab.dpdk.org/results/dashboard/patchsets/33328/

UNH-IOL DPDK Community Lab

To manage your email subscriptions, visit: 
https://lab.dpdk.org/results/dashboard/preferences/subscriptions/