From mboxrd@z Thu Jan  1 00:00:00 1970
Return-Path: <test-report-bounces@dpdk.org>
Received: from mails.dpdk.org (mails.dpdk.org [217.70.189.124])
	by inbox.dpdk.org (Postfix) with ESMTP id CB84846880
	for <public@inbox.dpdk.org>; Fri,  6 Jun 2025 07:25:17 +0200 (CEST)
Received: from mails.dpdk.org (localhost [127.0.0.1])
	by mails.dpdk.org (Postfix) with ESMTP id B37A6400D7;
	Fri,  6 Jun 2025 07:25:17 +0200 (CEST)
Received: from mail-il1-f228.google.com (mail-il1-f228.google.com
 [209.85.166.228])
 by mails.dpdk.org (Postfix) with ESMTP id CC85A400D7
 for <test-report@dpdk.org>; Fri,  6 Jun 2025 07:25:16 +0200 (CEST)
Received: by mail-il1-f228.google.com with SMTP id
 e9e14a558f8ab-3dc75fe4e9bso9034045ab.0
 for <test-report@dpdk.org>; Thu, 05 Jun 2025 22:25:16 -0700 (PDT)
DKIM-Signature: v=1; a=rsa-sha256; c=relaxed/relaxed;
 d=iol.unh.edu; s=unh-iol; t=1749187516; x=1749792316; darn=dpdk.org;
 h=references:in-reply-to:cc:to:from:subject:message-id:date:from:to
 :cc:subject:date:message-id:reply-to;
 bh=NmQwbiwfX7uMcma71xQwix7J7oUREq25td1uxD+9YlQ=;
 b=DJ4L7gFwSfAgKCpQplFrhwnWlDzy28o8egt7IAhQqcLN1RhTEPW+daO4B7MbqAizr7
 M2swvBkoWtJV7l3dwIXzn11UYV6TTGlJoAw8tHz85GODaA3u1XsgnbQ067ma9brltJ6X
 v1N0SjQvfCZvmqIajQENCYhNua7iy6tqQYrm0=
X-Google-DKIM-Signature: v=1; a=rsa-sha256; c=relaxed/relaxed;
 d=1e100.net; s=20230601; t=1749187516; x=1749792316;
 h=references:in-reply-to:cc:to:from:subject:message-id:date
 :x-gm-message-state:from:to:cc:subject:date:message-id:reply-to;
 bh=NmQwbiwfX7uMcma71xQwix7J7oUREq25td1uxD+9YlQ=;
 b=o8C5kxY8bl94dDlgTF9gTZv5PxipXe7V9Ci/XaFK/YCccJI/ZB0772ROmi/kFdSy/f
 tMTY+enlnh77Lb+ch/qlM1KH6yX10mXEbZx7yaOSj8IEo35nRyZOm64JCtcVA5hqSTkB
 yHk5PZXcpsrrmISoeWyus8gI9a+SoCTgwB6FaowdydNuLHQEvgTE0WeUEwbcBoyYO7VL
 ZGz/KcYqSfnQ9cDL6Mx5HsMufWBl4FtOw9IBr29rJ+PKkM5ajRKKLZYsTb6fY2/zx0U9
 /46nnFcKWQcmdTxjRRfBg+bwO10gfw+bBS+kNdjKtQTpRQiPPNyYC/RAz14TgQMvDBqR
 hbrQ==
X-Gm-Message-State: AOJu0YzMewzwtf5qHjQztrHa/5aJnDgv2TrUtysWPeFW/i22gPMoL4KK
 QXhfhPrshryC01UJC8jdB9FspH3p76wLU0Bs6elPt6tA4XH5G2sHzuoNvcAx/h09O9l9Q8kTWS5
 LkUpKm+U/ZWljpAT0Gdw/SbzjjtanqW2aPjsdMyBQ/+1Wz0MPju60m+WJuQB0
X-Gm-Gg: ASbGncsx8HsD6vKv1Dqosb6vgbFcvHuzjeU5VbhpXsTJbw/wHcdEDLvYSlEq2V8L/Bo
 AEWftWpDQN4CKsz7qN9lmuI4SKeQeVqf6IBInswyPxX6P8ydAqm51RmZdXWlMo4pYkHoqFSl5kS
 fHLn2yErvUFRusuv1S9ZWURElhnhqg/EOn2AoEOh8B7HFkD6KSebh38qGwImtxuv5Glp0No6IBZ
 fWiVS/tK3+wAZStXNZcR5PcWW+DO9fWVGM83Ax32s86ZYPA/0ZC5a8c/UQptl0nxZKz9trSw+gr
 c4OnZVAq5M8zq5viC3pNHgDL+kyYZz/pDdB1
X-Google-Smtp-Source: AGHT+IGtvD0rR+ipqWELWGCinS/SVzSDVq0rnq9JeeLGPxNPbMYRMhOa9q1Iqf7W32/OtfjGvbSh/bQFjaEf
X-Received: by 2002:a05:6e02:3186:b0:3dd:b602:88 with SMTP id
 e9e14a558f8ab-3ddce66f1ccmr19536035ab.9.1749187516217; 
 Thu, 05 Jun 2025 22:25:16 -0700 (PDT)
Received: from postal.iol.unh.edu (postal.iol.unh.edu.
 [2606:4100:3880:1234::84]) by smtp-relay.gmail.com with ESMTPS id
 e9e14a558f8ab-3ddcf250e70sm477435ab.58.2025.06.05.22.25.16
 (version=TLS1_2 cipher=ECDHE-ECDSA-AES128-GCM-SHA256 bits=128/128);
 Thu, 05 Jun 2025 22:25:16 -0700 (PDT)
X-Relaying-Domain: iol.unh.edu
Date: Thu, 05 Jun 2025 22:25:16 -0700 (PDT)
Message-ID: <68427bbc.920a0220.2af79e.2471SMTPIN_ADDED_MISSING@mx.google.com>
Received: from [172.21.0.5] (unknown [172.18.0.240])
 by postal.iol.unh.edu (Postfix) with ESMTP id DD0B96052471;
 Fri,  6 Jun 2025 01:25:15 -0400 (EDT)
Subject: |SUCCESS| pw154054 [PATCH] ethdev: add support to provide link type
From: dpdklab@iol.unh.edu
To: Test Report <test-report@dpdk.org>
Cc: dpdk-test-reports@iol.unh.edu
In-Reply-To: <20250605113159.3035480-1-skori@marvell.com>
References: <20250605113159.3035480-1-skori@marvell.com>
Content-Type: text/plain
X-BeenThere: test-report@dpdk.org
X-Mailman-Version: 2.1.29
Precedence: list
List-Id: automatic DPDK test reports <test-report.dpdk.org>
List-Unsubscribe: <https://mails.dpdk.org/options/test-report>,
 <mailto:test-report-request@dpdk.org?subject=unsubscribe>
List-Archive: <http://mails.dpdk.org/archives/test-report/>
List-Post: <mailto:test-report@dpdk.org>
List-Help: <mailto:test-report-request@dpdk.org?subject=help>
List-Subscribe: <https://mails.dpdk.org/listinfo/test-report>,
 <mailto:test-report-request@dpdk.org?subject=subscribe>
Errors-To: test-report-bounces@dpdk.org

Test-Label: iol-compile-arm64-testing
Test-Status: SUCCESS
http://dpdk.org/patch/154054

_Testing PASS_

Submitter: Sunil Kumar Kori <skori@marvell.com>
Date: Thursday, June 05 2025 11:31:51 
DPDK git baseline: Repo:dpdk
  Branch: master
  CommitID:43e69720f82e219424d763f7efc6cdc2e809c2ee

154054 --> testing pass

Upstream job id: Generic-DPDK-Compile-Meson#394610

Test environment and result as below:

+------------------------------+--------------------+
|         Environment          | dpdk_meson_compile |
+==============================+====================+
| Red Hat Enterprise Linux 9.5 | PASS               |
+------------------------------+--------------------+
| Ubuntu 20.04                 | PASS               |
+------------------------------+--------------------+
| Debian GNU/Linux 12          | PASS               |
+------------------------------+--------------------+
| Fedora 40 (ARM)              | PASS               |
+------------------------------+--------------------+
| Fedora 40 (ARM Clang)        | PASS               |
+------------------------------+--------------------+
| Fedora 41 (ARM)              | PASS               |
+------------------------------+--------------------+
| Fedora 41 (ARM Clang)        | PASS               |
+------------------------------+--------------------+
| Ubuntu 22.04                 | PASS               |
+------------------------------+--------------------+
| Ubuntu 24.04                 | PASS               |
+------------------------------+--------------------+
| CentOS Stream 9 (ARM)        | PASS               |
+------------------------------+--------------------+
| CentOS Stream 10 (ARM)       | PASS               |
+------------------------------+--------------------+


Red Hat Enterprise Linux 9.5
	Kernel: 5.4
	Compiler: gcc gcc (GCC) 11.5.0 20240719 (Red Hat 11.5.0-2)

Ubuntu 20.04
	Kernel: 5.15
	Compiler: aarch64-linux-gnu-gcc gcc (Ubuntu 9.4.0-1ubuntu1~20.04.2) 9.4.0

Debian GNU/Linux 12
	Kernel: 5.4
	Compiler: gcc gcc (Debian 12.2.0-14) 12.2.0

Fedora 40 (ARM)
	Kernel: Depends on container host
	Compiler: gcc 14.2.1 20240912 (Red Hat 14.2.1-3)

Fedora 40 (ARM Clang)
	Kernel: Depends on container host
	Compiler: clang 18.1.8 (Fedora 18.1.8-1.fc40)

Fedora 41 (ARM)
	Kernel: Depends on container host
	Compiler: gcc 14.2.1 20240912 (Red Hat 14.2.1-3)

Fedora 41 (ARM Clang)
	Kernel: Depends on container host
	Compiler: clang 19.1.5 (Fedora 19.1.5-1.fc41)

Ubuntu 22.04
	Kernel: 5.4
	Compiler: gcc gcc (Ubuntu 11.4.0-1ubuntu1~22.04) 11.4.0

Ubuntu 24.04
	Kernel: 5.4
	Compiler: gcc gcc (Ubuntu 13.3.0-6ubuntu2~24.04) 13.3.0

CentOS Stream 9 (ARM)
	Kernel: Depends on container host
	Compiler: gcc 11.5.0 20240719 (Red Hat 11.5.0-2)

CentOS Stream 10 (ARM)
	Kernel: Depends on container host
	Compiler: gcc 14.2.1 20241104 (Red Hat 14.2.1-6)

To view detailed results, visit:
https://lab.dpdk.org/results/dashboard/patchsets/33331/

UNH-IOL DPDK Community Lab

To manage your email subscriptions, visit: 
https://lab.dpdk.org/results/dashboard/preferences/subscriptions/