From mboxrd@z Thu Jan  1 00:00:00 1970
Return-Path: <test-report-bounces@dpdk.org>
Received: from mails.dpdk.org (mails.dpdk.org [217.70.189.124])
	by inbox.dpdk.org (Postfix) with ESMTP id 6173C46880
	for <public@inbox.dpdk.org>; Fri,  6 Jun 2025 07:34:59 +0200 (CEST)
Received: from mails.dpdk.org (localhost [127.0.0.1])
	by mails.dpdk.org (Postfix) with ESMTP id 5BC13400D7;
	Fri,  6 Jun 2025 07:34:59 +0200 (CEST)
Received: from mail-oi1-f227.google.com (mail-oi1-f227.google.com
 [209.85.167.227])
 by mails.dpdk.org (Postfix) with ESMTP id 3173B400D7
 for <test-report@dpdk.org>; Fri,  6 Jun 2025 07:34:58 +0200 (CEST)
Received: by mail-oi1-f227.google.com with SMTP id
 5614622812f47-407aaace4daso859286b6e.2
 for <test-report@dpdk.org>; Thu, 05 Jun 2025 22:34:58 -0700 (PDT)
DKIM-Signature: v=1; a=rsa-sha256; c=relaxed/relaxed;
 d=iol.unh.edu; s=unh-iol; t=1749188097; x=1749792897; darn=dpdk.org;
 h=references:in-reply-to:cc:to:from:subject:message-id:date:from:to
 :cc:subject:date:message-id:reply-to;
 bh=ZSAzVxkUv62cVHHPeyMDyx1//agkC1vziAZ5rYXByAc=;
 b=R8y6nrN4EIgTpGvkUdvo5uEBoEbW5vG4RSkusvAAKbP4fJ4Hn8GhWGPiIRbUrsLsXd
 3WfCZlNY5IC+RsDXxaQOv/OIRrCljaVtHFa9r7FEU7TaFJK9QuqPS5f+gawtyVLUxI0s
 JFo17GhnTb0dSCvGRvEmRtPTcSYqFr8KMoY+U=
X-Google-DKIM-Signature: v=1; a=rsa-sha256; c=relaxed/relaxed;
 d=1e100.net; s=20230601; t=1749188097; x=1749792897;
 h=references:in-reply-to:cc:to:from:subject:message-id:date
 :x-gm-message-state:from:to:cc:subject:date:message-id:reply-to;
 bh=ZSAzVxkUv62cVHHPeyMDyx1//agkC1vziAZ5rYXByAc=;
 b=dICC6uyOZ2/LTOlNOHYsFy94M7Qu8GXef7mKv+zNs10OLH8aACIFy/3iMXwjEY7H9k
 hpERlH1YQ7hg46CF2uBzGIx4LCUAeODuJi80EF5MtdAJmBQe0RIWOLxab7BnBxCzuI28
 p6gQXBl0oDTIJSwZ9vTy05Sb06MG0gisvXcSQyHmWvzPutVBKoRDD9a6yFNFgBP12bpP
 i3M2ln8xlZZR4MohLGS90D2wS9J96ZatimmyjUYItQ28ZrqQHRMV8ted6E+saA9xQBNg
 08XZhkwSl8hN5laJKo7Cww6nshLIuByDUBzI1YbXTDW1OZkZjw+6W6uOWVR8YnwT6QwU
 47tQ==
X-Gm-Message-State: AOJu0YynFJo3y60y2E7G46ifnLs1Rk7K4jg6jDanY3haUncgIUOUfBkr
 ZfDJOo2B1aNwvpV1OJloI5Dwg77D5aHdD2R9nT9I9JL+gBoSVx/hTkhSrroFLs0lpP51/7hLY5V
 umwJ/XyvQ3keYNg+K3pISiGWMft+Z54DbwapkALc+DySB5T0bQvl4cZpabvuq
X-Gm-Gg: ASbGncsmPLagkiayiE9z2TAjomVIcei1zonSL7LqmZ7nbOft/rcXHnI05T8RJ3kTUks
 UPqKdu2DgYRmuo3+AwL/EPGfgLChb4dfcoj8Z/fPZHw6SRqxfrCDWgb+WgOT+QLKkb5Tf4nnsao
 MYraHkaL/ad91YnbqTG3Iff+q9woxXUCxi+G8gIsRVgT9C6pv5tlQAg38TuOqnE3Z0dcch4gphZ
 JFacoac0KTUF0yiaSejUCngFomVd7ty6/CDPuIMu6urQ22pZ8qC1t39m0zGDZq3KqTbw/bFNe+4
 DOzce7PnqXtNtUaNiWZdLQfUAgq1kmBI9icIwhAvqvb3Jqc=
X-Google-Smtp-Source: AGHT+IGqWz2KsTzZ9RdpfadrBJ56MZbpqgi9Xe2GaxYhV2HjxpknnuCAxfvk2P3LbxYteO4XRJ4wUxHXPYNs
X-Received: by 2002:a05:6214:27c8:b0:6fa:c5be:daae with SMTP id
 6a1803df08f44-6fb08f8a0afmr37420786d6.28.1749188085464; 
 Thu, 05 Jun 2025 22:34:45 -0700 (PDT)
Received: from postal.iol.unh.edu (postal.iol.unh.edu.
 [2606:4100:3880:1234::84]) by smtp-relay.gmail.com with ESMTPS id
 6a1803df08f44-6fb09ac4469sm475086d6.20.2025.06.05.22.34.45
 (version=TLS1_2 cipher=ECDHE-ECDSA-AES128-GCM-SHA256 bits=128/128);
 Thu, 05 Jun 2025 22:34:45 -0700 (PDT)
X-Relaying-Domain: iol.unh.edu
Date: Thu, 05 Jun 2025 22:34:45 -0700 (PDT)
Message-ID: <68427df5.d40a0220.18cbd1.22ddSMTPIN_ADDED_MISSING@mx.google.com>
Received: from [172.21.0.6] (unknown [172.18.0.240])
 by postal.iol.unh.edu (Postfix) with ESMTP id 3DB586052471;
 Fri,  6 Jun 2025 01:34:45 -0400 (EDT)
Subject: |SUCCESS| pw154050 [PATCH] net/mlx5: fix flag non-template rule clea
From: dpdklab@iol.unh.edu
To: Test Report <test-report@dpdk.org>
Cc: dpdk-test-reports@iol.unh.edu
In-Reply-To: <20250605100734.35936-1-junfengg@nvidia.com>
References: <20250605100734.35936-1-junfengg@nvidia.com>
Content-Type: text/plain
X-BeenThere: test-report@dpdk.org
X-Mailman-Version: 2.1.29
Precedence: list
List-Id: automatic DPDK test reports <test-report.dpdk.org>
List-Unsubscribe: <https://mails.dpdk.org/options/test-report>,
 <mailto:test-report-request@dpdk.org?subject=unsubscribe>
List-Archive: <http://mails.dpdk.org/archives/test-report/>
List-Post: <mailto:test-report@dpdk.org>
List-Help: <mailto:test-report-request@dpdk.org?subject=help>
List-Subscribe: <https://mails.dpdk.org/listinfo/test-report>,
 <mailto:test-report-request@dpdk.org?subject=subscribe>
Errors-To: test-report-bounces@dpdk.org

Test-Label: iol-compile-arm64-testing
Test-Status: SUCCESS
http://dpdk.org/patch/154050

_Testing PASS_

Submitter: Junfeng Guo <junfengg@nvidia.com>
Date: Thursday, June 05 2025 10:07:34 
DPDK git baseline: Repo:dpdk
  Branch: master
  CommitID:1df06a4c5653f9d32aed174c863ec836af26a404

154050 --> testing pass

Upstream job id: Generic-DPDK-Compile-Meson#394642

Test environment and result as below:

+------------------------------+--------------------+
|         Environment          | dpdk_meson_compile |
+==============================+====================+
| Red Hat Enterprise Linux 9.5 | PASS               |
+------------------------------+--------------------+
| Ubuntu 20.04                 | PASS               |
+------------------------------+--------------------+
| Debian GNU/Linux 12          | PASS               |
+------------------------------+--------------------+
| Fedora 40 (ARM)              | PASS               |
+------------------------------+--------------------+
| Fedora 40 (ARM Clang)        | PASS               |
+------------------------------+--------------------+
| Fedora 41 (ARM)              | PASS               |
+------------------------------+--------------------+
| Fedora 41 (ARM Clang)        | PASS               |
+------------------------------+--------------------+
| Ubuntu 22.04                 | PASS               |
+------------------------------+--------------------+
| Ubuntu 24.04                 | PASS               |
+------------------------------+--------------------+
| CentOS Stream 9 (ARM)        | PASS               |
+------------------------------+--------------------+
| CentOS Stream 10 (ARM)       | PASS               |
+------------------------------+--------------------+


Red Hat Enterprise Linux 9.5
	Kernel: 5.4
	Compiler: gcc gcc (GCC) 11.5.0 20240719 (Red Hat 11.5.0-2)

Ubuntu 20.04
	Kernel: 5.15
	Compiler: aarch64-linux-gnu-gcc gcc (Ubuntu 9.4.0-1ubuntu1~20.04.2) 9.4.0

Debian GNU/Linux 12
	Kernel: 5.4
	Compiler: gcc gcc (Debian 12.2.0-14) 12.2.0

Fedora 40 (ARM)
	Kernel: Depends on container host
	Compiler: gcc 14.2.1 20240912 (Red Hat 14.2.1-3)

Fedora 40 (ARM Clang)
	Kernel: Depends on container host
	Compiler: clang 18.1.8 (Fedora 18.1.8-1.fc40)

Fedora 41 (ARM)
	Kernel: Depends on container host
	Compiler: gcc 14.2.1 20240912 (Red Hat 14.2.1-3)

Fedora 41 (ARM Clang)
	Kernel: Depends on container host
	Compiler: clang 19.1.5 (Fedora 19.1.5-1.fc41)

Ubuntu 22.04
	Kernel: 5.4
	Compiler: gcc gcc (Ubuntu 11.4.0-1ubuntu1~22.04) 11.4.0

Ubuntu 24.04
	Kernel: 5.4
	Compiler: gcc gcc (Ubuntu 13.3.0-6ubuntu2~24.04) 13.3.0

CentOS Stream 9 (ARM)
	Kernel: Depends on container host
	Compiler: gcc 11.5.0 20240719 (Red Hat 11.5.0-2)

CentOS Stream 10 (ARM)
	Kernel: Depends on container host
	Compiler: gcc 14.2.1 20241104 (Red Hat 14.2.1-6)

To view detailed results, visit:
https://lab.dpdk.org/results/dashboard/patchsets/33329/

UNH-IOL DPDK Community Lab

To manage your email subscriptions, visit: 
https://lab.dpdk.org/results/dashboard/preferences/subscriptions/