From mboxrd@z Thu Jan 1 00:00:00 1970 Return-Path: Received: from mails.dpdk.org (mails.dpdk.org [217.70.189.124]) by inbox.dpdk.org (Postfix) with ESMTP id ED0DE46893 for ; Fri, 6 Jun 2025 14:26:03 +0200 (CEST) Received: from mails.dpdk.org (localhost [127.0.0.1]) by mails.dpdk.org (Postfix) with ESMTP id DA3514026C; Fri, 6 Jun 2025 14:26:03 +0200 (CEST) Received: from mail-yw1-f225.google.com (mail-yw1-f225.google.com [209.85.128.225]) by mails.dpdk.org (Postfix) with ESMTP id 853C34026C for ; Fri, 6 Jun 2025 14:26:02 +0200 (CEST) Received: by mail-yw1-f225.google.com with SMTP id 00721157ae682-70f147b5a52so13207707b3.3 for ; Fri, 06 Jun 2025 05:26:02 -0700 (PDT) DKIM-Signature: v=1; a=rsa-sha256; c=relaxed/relaxed; d=iol.unh.edu; s=unh-iol; t=1749212762; x=1749817562; darn=dpdk.org; h=references:in-reply-to:cc:to:from:subject:message-id:date:from:to :cc:subject:date:message-id:reply-to; bh=U7GudFggpcKzUHCMrTpgPXXpDiX5X3kuzKiY+hQPXEE=; b=Bv1ZDfwsJxdh4I8UMNIvEIjJLERv69bh7MRlO1zbUX5vHFFe8acx8m65bnBMGSN4Y6 4mpWMb47NT6e/i6PYkiDBxCbJSVHYGtFTYK+pxLAQeMTXAB0kEqRDKMjD/BLLsFQLNlO QDVastQgqb3k6KAys24iyLNzq8V5KQuLb7R2Y= X-Google-DKIM-Signature: v=1; a=rsa-sha256; c=relaxed/relaxed; d=1e100.net; s=20230601; t=1749212762; x=1749817562; h=references:in-reply-to:cc:to:from:subject:message-id:date :x-gm-message-state:from:to:cc:subject:date:message-id:reply-to; bh=U7GudFggpcKzUHCMrTpgPXXpDiX5X3kuzKiY+hQPXEE=; b=sjlmnsx2G2Y1C6GP1s7gVxqE5CG9bAwlSubnl6rBnYl7N5FdCrpxEny5FJrkZJqsQ0 eqzFmBcNWiRxOYKUWUUOb5DIruN72sSs8gE96ShEPbkuneSL5u9neyoqZEhAHL31URM4 Myk+kGVo1GRlLEGd1QYI6wDkSIyhSmuxcXju43voXchqcJSCTD7xyVwNTQyT5KdZ/Pym PZpKGbVzK6G3X9kHmlgBOxnCcWbvjjnhQuwDEO0EyitCN8+s/+mCgmMC3WI+XW5GRJwd ujuOVLtXhMQWBVZ6l9IWms/S0TFi8vojB1ejByQGb9MixSLDyT3NCh0yADgq4AQY/LkN eKeg== X-Gm-Message-State: AOJu0YyZghzWIYhPod/vIyP3dmi6dWhVlu6f3DZ6BOh8PhOl1YUn4o7i b8iKeQ1mwAMmmckavievFZncwVqxlsnVpnF9yQVkR3o0+KT666QMt7M+6WZ71Q//kAjcX21pXA/ 1mrV6nC8oXYME758+LLFmTulYzu929ajWEfdN2Qw6PUNEGFs2rgB9goFLUZf5 X-Gm-Gg: ASbGnctwXWo7x7j729uGOHfa9o6IC3w+V/QRw4ag0r1uzFfkQbB17v1Wn1aqqoggPqH ehUYkMZ/wyCXq40GnUQLOr5XJdM12NVYizPY12B5AarG0wJp+/aLGTTa1RHxBu2Eu7bwfClGKwx QzqWMm/PvxngvoZ6FUBvMYL/hC3DyFmHjlPcVG77juUPlfSjxlKQnRjJzfmvwDfob9gbNrbVyw0 gwf7CPWc/EF9OJESQzgcbBxXEBVFzWr3Al2SGT44PJuolwxXnsybGDTilIKvx055x2UaAtESm13 VNMY/fyiBrLGzUolel7vb7s2qY60ZtbsG5As X-Google-Smtp-Source: AGHT+IFpEArhAuEZGRDbrVo4l68dGhdHcjCa+oiVKvaccpSW6Q9MHUiB73T+m3Qk+VK9veHmWhc7FVUmXAmS X-Received: by 2002:a05:690c:389:b0:710:f564:5071 with SMTP id 00721157ae682-710f765f1fdmr46732717b3.11.1749212761733; Fri, 06 Jun 2025 05:26:01 -0700 (PDT) Received: from postal.iol.unh.edu (postal.iol.unh.edu. [2606:4100:3880:1234::84]) by smtp-relay.gmail.com with ESMTPS id 00721157ae682-710f99f2435sm19917b3.32.2025.06.06.05.26.01 (version=TLS1_2 cipher=ECDHE-ECDSA-AES128-GCM-SHA256 bits=128/128); Fri, 06 Jun 2025 05:26:01 -0700 (PDT) X-Relaying-Domain: iol.unh.edu Date: Fri, 06 Jun 2025 05:26:01 -0700 (PDT) Message-ID: <6842de59.050a0220.1e0539.0170SMTPIN_ADDED_MISSING@mx.google.com> Received: from [172.17.0.2] (unknown [172.18.0.76]) by postal.iol.unh.edu (Postfix) with ESMTP id 56AA86052471; Fri, 6 Jun 2025 08:26:01 -0400 (EDT) Subject: |WARNING| pw154076-154087 [PATCH] [12/12] net/txgbe: add missing LRO From: dpdklab@iol.unh.edu To: Test Report Cc: dpdk-test-reports@iol.unh.edu In-Reply-To: <92848230FA6165DA+20250606080117.183198-13-jiawenwu@trustnetic.com> References: <92848230FA6165DA+20250606080117.183198-13-jiawenwu@trustnetic.com> Content-Type: text/plain X-BeenThere: test-report@dpdk.org X-Mailman-Version: 2.1.29 Precedence: list List-Id: automatic DPDK test reports List-Unsubscribe: , List-Archive: List-Post: List-Help: List-Subscribe: , Errors-To: test-report-bounces@dpdk.org Test-Label: iol-compile-amd64-testing Test-Status: WARNING http://dpdk.org/patch/154087 _Testing issues_ Submitter: Jiawen Wu Date: Friday, June 06 2025 08:01:17 DPDK git baseline: Repo:dpdk Branch: master CommitID:6f2a5eccc8fd2f2d51a0fcc0e76ec9784fe2e047 154076-154087 --> testing issues Upstream job id: Generic-DPDK-Compile-Meson#394893 Test environment and result as below: +-------------------------------+--------------------+-------------------+------------------+-------------------------+-------------------+----------------------+ | Environment | dpdk_meson_compile | dpdk_compile_spdk | dpdk_compile_ovs | dpdk_llvm_clang_compile | dpdk_msvc_compile | dpdk_mingw64_compile | +===============================+====================+===================+==================+=========================+===================+======================+ | CentOS Stream 9 | PASS | PASS | SKIPPED | SKIPPED | SKIPPED | SKIPPED | +-------------------------------+--------------------+-------------------+------------------+-------------------------+-------------------+----------------------+ | CentOS Stream 10 | PASS | SKIPPED | SKIPPED | SKIPPED | SKIPPED | SKIPPED | +-------------------------------+--------------------+-------------------+------------------+-------------------------+-------------------+----------------------+ | Debian GNU/Linux 12 | PASS | PASS | SKIPPED | SKIPPED | SKIPPED | SKIPPED | +-------------------------------+--------------------+-------------------+------------------+-------------------------+-------------------+----------------------+ | Fedora 40 | PASS | PASS | SKIPPED | SKIPPED | SKIPPED | SKIPPED | +-------------------------------+--------------------+-------------------+------------------+-------------------------+-------------------+----------------------+ | Fedora 41 (Clang) | PASS | WARN | PASS | SKIPPED | SKIPPED | SKIPPED | +-------------------------------+--------------------+-------------------+------------------+-------------------------+-------------------+----------------------+ | Fedora 41 | PASS | PASS | PASS | SKIPPED | SKIPPED | SKIPPED | +-------------------------------+--------------------+-------------------+------------------+-------------------------+-------------------+----------------------+ | openSUSE Leap 15.6 | PASS | SKIPPED | SKIPPED | SKIPPED | SKIPPED | SKIPPED | +-------------------------------+--------------------+-------------------+------------------+-------------------------+-------------------+----------------------+ | Red Hat Enterprise Linux 8.10 | PASS | SKIPPED | SKIPPED | SKIPPED | SKIPPED | SKIPPED | +-------------------------------+--------------------+-------------------+------------------+-------------------------+-------------------+----------------------+ | Red Hat Enterprise Linux 9.5 | PASS | SKIPPED | SKIPPED | SKIPPED | SKIPPED | SKIPPED | +-------------------------------+--------------------+-------------------+------------------+-------------------------+-------------------+----------------------+ | Ubuntu 20.04 | PASS | SKIPPED | SKIPPED | SKIPPED | SKIPPED | SKIPPED | +-------------------------------+--------------------+-------------------+------------------+-------------------------+-------------------+----------------------+ | Ubuntu 22.04 | PASS | PASS | SKIPPED | SKIPPED | SKIPPED | SKIPPED | +-------------------------------+--------------------+-------------------+------------------+-------------------------+-------------------+----------------------+ | Ubuntu 24.04 | PASS | PASS | PASS | SKIPPED | SKIPPED | SKIPPED | +-------------------------------+--------------------+-------------------+------------------+-------------------------+-------------------+----------------------+ | Alpine | PASS | SKIPPED | SKIPPED | SKIPPED | SKIPPED | SKIPPED | +-------------------------------+--------------------+-------------------+------------------+-------------------------+-------------------+----------------------+ | FreeBSD 14.2 | PASS | SKIPPED | SKIPPED | SKIPPED | SKIPPED | SKIPPED | +-------------------------------+--------------------+-------------------+------------------+-------------------------+-------------------+----------------------+ | Fedora 40 (Clang) | PASS | WARN | SKIPPED | SKIPPED | SKIPPED | SKIPPED | +-------------------------------+--------------------+-------------------+------------------+-------------------------+-------------------+----------------------+ | Windows Server 2022 | SKIPPED | SKIPPED | SKIPPED | PASS | PASS | PASS | +-------------------------------+--------------------+-------------------+------------------+-------------------------+-------------------+----------------------+ ==== 20 line log output for Fedora 40 (Clang) (dpdk_compile_spdk): ==== --- Failed to get log output --- ==== End log output ==== CentOS Stream 9 Kernel: Depends on container host Compiler: gcc 11.5.0 20240719 (Red Hat 11.5.0-2) CentOS Stream 10 Kernel: Depends on container host Compiler: gcc 14.2.1 20241104 (Red Hat 14.2.1-6) Debian GNU/Linux 12 Kernel: 5.15 Compiler: gcc gcc (Debian 12.2.0-14) 12.2.0 Fedora 40 Kernel: Depends on container host Compiler: gcc 14.2.1 20240912 (Red Hat 14.2.1-3) Fedora 41 (Clang) Kernel: Depends on container host Compiler: clang 19.1.5 (Fedora 19.1.5-1.fc41) Fedora 41 Kernel: Depends on container host Compiler: gcc 14.2.1 20240912 (Red Hat 14.2.1-3) openSUSE Leap 15.6 Kernel: 5.15 Compiler: gcc gcc (SUSE Linux) 7.5.0 Red Hat Enterprise Linux 8.10 Kernel: 5.15 Compiler: gcc gcc (GCC) 8.5.0 20210514 (Red Hat 8.5.0-22) Red Hat Enterprise Linux 9.5 Kernel: 5.15 Compiler: gcc gcc (GCC) 11.5.0 20240719 (Red Hat 11.5.0-2) Ubuntu 20.04 Kernel: 5.15 Compiler: gcc gcc (Ubuntu 9.4.0-1ubuntu1~20.04.2) 9.4.0 Ubuntu 22.04 Kernel: 5.15 Compiler: gcc gcc (Ubuntu 11.4.0-1ubuntu1~22.04) 11.4.0 Ubuntu 24.04 Kernel: 5.15 Compiler: gcc gcc (Ubuntu 13.3.0-6ubuntu2~24.04) 13.3.0 Alpine Kernel: Depends on container host Compiler: gcc (Alpine 14.2.0) 14.2.0 FreeBSD 14.2 Kernel: 14.2-RELEASE Compiler: clang 18.1.6 Fedora 40 (Clang) Kernel: Depends on container host Compiler: clang 18.1.8 (Fedora 18.1.8-1.fc40) Windows Server 2022 Kernel: 10.0.20348.2031 Compiler: clang 15.0.7, gcc 14.1.0 (MinGW), and MSVC VS 19.39.33521 To view detailed results, visit: https://lab.dpdk.org/results/dashboard/patchsets/33340/ UNH-IOL DPDK Community Lab To manage your email subscriptions, visit: https://lab.dpdk.org/results/dashboard/preferences/subscriptions/