From mboxrd@z Thu Jan  1 00:00:00 1970
Return-Path: <test-report-bounces@dpdk.org>
Received: from mails.dpdk.org (mails.dpdk.org [217.70.189.124])
	by inbox.dpdk.org (Postfix) with ESMTP id 0176246868
	for <public@inbox.dpdk.org>; Fri,  6 Jun 2025 19:24:38 +0200 (CEST)
Received: from mails.dpdk.org (localhost [127.0.0.1])
	by mails.dpdk.org (Postfix) with ESMTP id D07644028B;
	Fri,  6 Jun 2025 19:24:38 +0200 (CEST)
Received: from mail-pl1-f225.google.com (mail-pl1-f225.google.com
 [209.85.214.225])
 by mails.dpdk.org (Postfix) with ESMTP id A7B564028B
 for <test-report@dpdk.org>; Fri,  6 Jun 2025 19:24:37 +0200 (CEST)
Received: by mail-pl1-f225.google.com with SMTP id
 d9443c01a7336-234d366e5f2so28478605ad.1
 for <test-report@dpdk.org>; Fri, 06 Jun 2025 10:24:37 -0700 (PDT)
DKIM-Signature: v=1; a=rsa-sha256; c=relaxed/relaxed;
 d=iol.unh.edu; s=unh-iol; t=1749230676; x=1749835476; darn=dpdk.org;
 h=references:in-reply-to:cc:to:from:subject:message-id:date:from:to
 :cc:subject:date:message-id:reply-to;
 bh=ZqQD1AjwebYLj9Y9zcU6kQb0eO98LF4pY6TjJV0UT3U=;
 b=WSeAoNoZgkC/hki3Q0vBnrbRvzJAC0jL+5pa6FESNwurrth670qHE5k7clMS2djtrt
 qcCEAfd8Y3qN2vgBfgI6W5hcGDAEDn/tWNynItaKvwvoLNxFprgNrIztWkzhWkGO9ntp
 jqiV3tdpa8LiJ1wnPZqLS6DFEbrz1yvdw6DUA=
X-Google-DKIM-Signature: v=1; a=rsa-sha256; c=relaxed/relaxed;
 d=1e100.net; s=20230601; t=1749230676; x=1749835476;
 h=references:in-reply-to:cc:to:from:subject:message-id:date
 :x-gm-message-state:from:to:cc:subject:date:message-id:reply-to;
 bh=ZqQD1AjwebYLj9Y9zcU6kQb0eO98LF4pY6TjJV0UT3U=;
 b=u1p+2Cxyr+B18KRqIup/+ceVvRcuM+qm/GHv5eUqLBPBx+7ySoM2VjcH5TFLQ32Kcj
 TlZ5tzAlLBgchAhfP5FBeYFlx/nRDANeaJMKqAdE6Q6/0vLDLeAWO79FATz7/MIcQLVD
 Z784mj97QAjPv9SZjS0Qywa5Ch/6fQRr6w5dR6Pmyj1z1UuoPvmsk5xrCXM6/dn3BLcF
 J0lPzHNbOR/1xUyux+CyYyKOijlVYk/y7bJXauSm8iv/n12w/4iQrOE+jemsQr55h1Eg
 auXMP8sk2CTvX4GtjmPKkMrmmS4vB1N3jaEURk3p8PKy4QIEPBfnm624c9WgHbkTTWIg
 pQ0A==
X-Gm-Message-State: AOJu0YzB9CeX/jfeY4OccQkE3k+iR9iWn17nKXph+DaLtnmAn749UPLv
 xBRRNp7u2T7H2NAW36eAZhSYaiuE7B5UsvxaN9EZq04p1u64K+G4HpVgbjbsQ5Vnij4dTtpbca/
 JWMrmoPiqK78D2ETeIUnXFHlzacK3oHZ3zYRlkXx7XdR+
X-Gm-Gg: ASbGnctTxojHwwgN6Cg6vZnAVDFqs3fZlDzfZc0poG8RKMf6Hiu4O/l78W/mcxiO6CH
 Ap7DsD8K18U+EgAWWBKRm6JPMgHtlVBOo7/ysKIaBaHTUAmc4RBVfjFI6lks2/lT+NYbuhEneFt
 lI7uu02K7zM7/3pANcfYRHhLZYutDB9imItlR9PVuB7zyO2rYGOaFNykP+oTBbrk2Ag93urGtHg
 vxIanCUpTeku6v4B35YURCMUhjH0Fuau1uCB/JGORaYT0/u+P08LGMaaYoODTUK1A1MPFfbNXeP
 KhN+Z6kU09HCGfjO7ZHnnZ5Cusbyb7/SAdSYQ0RXLwcaaFdxx4BqC9lWqzvHJ4Cy67LANw==
X-Google-Smtp-Source: AGHT+IEqCyf11sLN8bdEDc0SHIu7CafbaHbirD/zgsQLJCOXTe1me9uhictT2aTHt8F6EuLNKpzKoe2DB2bS
X-Received: by 2002:a17:902:d48d:b0:235:15f5:cc30 with SMTP id
 d9443c01a7336-23601d0716cmr58874365ad.16.1749230676613; 
 Fri, 06 Jun 2025 10:24:36 -0700 (PDT)
Received: from postal.iol.unh.edu (postal.iol.unh.edu. [132.177.123.84])
 by smtp-relay.gmail.com with ESMTPS id
 d9443c01a7336-236035087fesm1059065ad.126.2025.06.06.10.24.36
 (version=TLS1_2 cipher=ECDHE-ECDSA-AES128-GCM-SHA256 bits=128/128);
 Fri, 06 Jun 2025 10:24:36 -0700 (PDT)
X-Relaying-Domain: iol.unh.edu
Date: Fri, 06 Jun 2025 10:24:36 -0700 (PDT)
Message-ID: <68432454.170a0220.bda4c.530fSMTPIN_ADDED_MISSING@mx.google.com>
Received: from [172.17.0.2] (unknown [172.18.0.74])
 by postal.iol.unh.edu (Postfix) with ESMTP id CD1A76052471;
 Fri,  6 Jun 2025 13:24:35 -0400 (EDT)
Subject: |SUCCESS| pw154076-154087 [PATCH] [12/12] net/txgbe: add missing LRO
From: dpdklab@iol.unh.edu
To: Test Report <test-report@dpdk.org>
Cc: dpdk-test-reports@iol.unh.edu
In-Reply-To: <92848230FA6165DA+20250606080117.183198-13-jiawenwu@trustnetic.com>
References: <92848230FA6165DA+20250606080117.183198-13-jiawenwu@trustnetic.com>
Content-Type: text/plain
X-BeenThere: test-report@dpdk.org
X-Mailman-Version: 2.1.29
Precedence: list
List-Id: automatic DPDK test reports <test-report.dpdk.org>
List-Unsubscribe: <https://mails.dpdk.org/options/test-report>,
 <mailto:test-report-request@dpdk.org?subject=unsubscribe>
List-Archive: <http://mails.dpdk.org/archives/test-report/>
List-Post: <mailto:test-report@dpdk.org>
List-Help: <mailto:test-report-request@dpdk.org?subject=help>
List-Subscribe: <https://mails.dpdk.org/listinfo/test-report>,
 <mailto:test-report-request@dpdk.org?subject=subscribe>
Errors-To: test-report-bounces@dpdk.org

Test-Label: iol-unit-arm64-testing
Test-Status: SUCCESS
http://dpdk.org/patch/154087

_Testing PASS_

Submitter: Jiawen Wu <jiawenwu@trustnetic.com>
Date: Friday, June 06 2025 08:01:17 
DPDK git baseline: Repo:dpdk
  Branch: master
  CommitID:6f2a5eccc8fd2f2d51a0fcc0e76ec9784fe2e047

154076-154087 --> testing pass

Upstream job id: Generic-Unit-Test-DPDK#343732

Test environment and result as below:

+------------------------------+----------------+
|         Environment          | dpdk_unit_test |
+==============================+================+
| CentOS Stream 10 (ARM)       | PASS           |
+------------------------------+----------------+
| CentOS Stream 9 (ARM)        | PASS           |
+------------------------------+----------------+
| Fedora 40 (ARM)              | PASS           |
+------------------------------+----------------+
| Debian GNU/Linux 12          | PASS           |
+------------------------------+----------------+
| Fedora 40 (ARM Clang)        | PASS           |
+------------------------------+----------------+
| Fedora 41 (ARM)              | PASS           |
+------------------------------+----------------+
| Fedora 41 (ARM Clang)        | PASS           |
+------------------------------+----------------+
| Red Hat Enterprise Linux 9.5 | PASS           |
+------------------------------+----------------+
| Ubuntu 20.04                 | PASS           |
+------------------------------+----------------+
| Ubuntu 24.04                 | PASS           |
+------------------------------+----------------+
| Ubuntu 22.04                 | PASS           |
+------------------------------+----------------+


CentOS Stream 10 (ARM)
	Kernel: Depends on container host
	Compiler: gcc 14.2.1 20241104 (Red Hat 14.2.1-6)

CentOS Stream 9 (ARM)
	Kernel: Depends on container host
	Compiler: gcc 11.5.0 20240719 (Red Hat 11.5.0-2)

Fedora 40 (ARM)
	Kernel: Depends on container host
	Compiler: gcc 14.2.1 20240912 (Red Hat 14.2.1-3)

Debian GNU/Linux 12
	Kernel: 5.4
	Compiler: gcc gcc (Debian 12.2.0-14) 12.2.0

Fedora 40 (ARM Clang)
	Kernel: Depends on container host
	Compiler: clang 18.1.8 (Fedora 18.1.8-1.fc40)

Fedora 41 (ARM)
	Kernel: Depends on container host
	Compiler: gcc 14.2.1 20240912 (Red Hat 14.2.1-3)

Fedora 41 (ARM Clang)
	Kernel: Depends on container host
	Compiler: clang 19.1.5 (Fedora 19.1.5-1.fc41)

Red Hat Enterprise Linux 9.5
	Kernel: 5.4
	Compiler: gcc gcc (GCC) 11.5.0 20240719 (Red Hat 11.5.0-2)

Ubuntu 20.04
	Kernel: 5.4
	Compiler: gcc gcc (Ubuntu 9.4.0-1ubuntu1~20.04.2) 9.4.0

Ubuntu 24.04
	Kernel: 5.4
	Compiler: gcc gcc (Ubuntu 13.3.0-6ubuntu2~24.04) 13.3.0

Ubuntu 22.04
	Kernel: 5.4
	Compiler: gcc gcc (Ubuntu 11.4.0-1ubuntu1~22.04) 11.4.0

To view detailed results, visit:
https://lab.dpdk.org/results/dashboard/patchsets/33340/

UNH-IOL DPDK Community Lab

To manage your email subscriptions, visit: 
https://lab.dpdk.org/results/dashboard/preferences/subscriptions/