From mboxrd@z Thu Jan 1 00:00:00 1970 Return-Path: Received: from mails.dpdk.org (mails.dpdk.org [217.70.189.124]) by inbox.dpdk.org (Postfix) with ESMTP id 5B50A4682B for ; Sun, 8 Jun 2025 23:27:08 +0200 (CEST) Received: from mails.dpdk.org (localhost [127.0.0.1]) by mails.dpdk.org (Postfix) with ESMTP id 3D4054026B; Sun, 8 Jun 2025 23:27:08 +0200 (CEST) Received: from mail-pf1-f226.google.com (mail-pf1-f226.google.com [209.85.210.226]) by mails.dpdk.org (Postfix) with ESMTP id 982214026B for ; Sun, 8 Jun 2025 23:27:07 +0200 (CEST) Received: by mail-pf1-f226.google.com with SMTP id d2e1a72fcca58-742c73f82dfso2856546b3a.2 for ; Sun, 08 Jun 2025 14:27:07 -0700 (PDT) DKIM-Signature: v=1; a=rsa-sha256; c=relaxed/relaxed; d=iol.unh.edu; s=unh-iol; t=1749418026; x=1750022826; darn=dpdk.org; h=references:in-reply-to:cc:to:from:subject:message-id:date:from:to :cc:subject:date:message-id:reply-to; bh=v7/2jLdRgEddSMzOA/TkViR8HIIsRxXlcmXZLR0SvAY=; b=Pwi97p9kHOhLJ13XoYzvatWhrfs8pY9jhdH0zlNLm7m5THPrphlOV0mUMAJ20CxdsF oBztEHjfiHwOMtzmhwv60GEih5FB86QtjU+V51WQEaCCz3q4NXGtSoANH+iir1S8LaOX L1E6Kuc3aw9JJW9N9cHJov1oIElYZrNN4H5VM= X-Google-DKIM-Signature: v=1; a=rsa-sha256; c=relaxed/relaxed; d=1e100.net; s=20230601; t=1749418026; x=1750022826; h=references:in-reply-to:cc:to:from:subject:message-id:date :x-gm-message-state:from:to:cc:subject:date:message-id:reply-to; bh=v7/2jLdRgEddSMzOA/TkViR8HIIsRxXlcmXZLR0SvAY=; b=KyuZe6SBn6vqcGvFlpgX/a97yJof1UPqFaqRqJnVV8ICUDP6kPrkbhZVh30lx/LyyU L7+/bXtzUOt80GRIsz51LkplgcwLS1FTGEaBc0cJAOn26uhUeCFE4/KY2duxuaB9Umbl 0vWukHkJ/bULxcE5Fq90Yyt8IghZeC3mqrjA4EtulZfEgBsMm09fJgs5f1YCprSZNtoa +sRPg9R0Pw4zjraEurZ8E76uwwTLNRMxDovbufZjIceWE3qJgSBFdlU/UU8haPOaCet0 9u4BmAxUMrEBe04XDYdv9q3+bRq4+Ih8s5uox0MVI4WYFBXEbLFmy6R+CxXlJGmM74AP Vv6Q== X-Gm-Message-State: AOJu0YzI3uZteU77zQkzBPpvQaibJkvPwG01qkSaTwirdOvvtrCnaYIK QghA8kzDj5dfWtyFo9/iGHitxfPrcyJ/fWr2fD5fJFv2t5aMB9T1AzuRCXq1xC4pLQ9qT26MBJe uqByVtqQhTr0zWkCsAqoA46snqLtL0sakR1WD/QSkjvpf X-Gm-Gg: ASbGncs8Ke4W20/i2t5tnZJIfyhH8S3i07IgJnoywdT5Psf3m+MBgvMIw3NtqjhKtmT 24kwq4VNWdx23alEPDqULiPWiEJnfSy/fxw8B3Yz/tggFU/Hw0F6tP1Q7HwAcCFveIDO5qcklnn sY0Rw5a12wJ5HicPhWxulnMA3IBBI7BWrtpBoqKKg5YVfAPt9jg1ARTKgXS5Shus/u/kmnkMIZ/ ChtuY30gK7Lj1Z1xQy75YcuWGNQQlYzBLnd4tknFJVfe3Xw0Gcp+CQGC4hlno9EVL+Hzfu7Ckm8 dp4CjBW4IV6NxxWjPAeMjwYaFRQ/4t7tPNuL7Y3aV1AebiwkAsx+0geQrxI= X-Google-Smtp-Source: AGHT+IEIK8PSZXiIdvN5T8YIfhzrS+Sxvi78jx4BUqmIK//HTBh+YXhK/ioDXDszYwE4p+DMfNrkYmhzpVe+ X-Received: by 2002:a05:6a21:6494:b0:21d:1fbf:c71a with SMTP id adf61e73a8af0-21ee250a601mr15099763637.4.1749418026475; Sun, 08 Jun 2025 14:27:06 -0700 (PDT) Received: from postal.iol.unh.edu (postal.iol.unh.edu. [132.177.123.84]) by smtp-relay.gmail.com with ESMTPS id 41be03b00d2f7-b2f5ee6d1b6sm397658a12.10.2025.06.08.14.27.06 (version=TLS1_2 cipher=ECDHE-ECDSA-AES128-GCM-SHA256 bits=128/128); Sun, 08 Jun 2025 14:27:06 -0700 (PDT) X-Relaying-Domain: iol.unh.edu Date: Sun, 08 Jun 2025 14:27:06 -0700 (PDT) Message-ID: <6846002a.630a0220.2ba78f.2debSMTPIN_ADDED_MISSING@mx.google.com> Received: from [172.17.0.2] (unknown [172.18.0.74]) by postal.iol.unh.edu (Postfix) with ESMTP id AA3446051830; Sun, 8 Jun 2025 17:27:05 -0400 (EDT) Subject: |WARNING| pw154145-154150 [PATCH] [v3,6/6] doc: announce TxPP suppor From: dpdklab@iol.unh.edu To: Test Report Cc: dpdk-test-reports@iol.unh.edu In-Reply-To: <20250608113223.487043-7-soumyadeep.hore@intel.com> References: <20250608113223.487043-7-soumyadeep.hore@intel.com> Content-Type: text/plain X-BeenThere: test-report@dpdk.org X-Mailman-Version: 2.1.29 Precedence: list List-Id: automatic DPDK test reports List-Unsubscribe: , List-Archive: List-Post: List-Help: List-Subscribe: , Errors-To: test-report-bounces@dpdk.org Test-Label: iol-compile-amd64-testing Test-Status: WARNING http://dpdk.org/patch/154150 _Testing issues_ Submitter: Soumyadeep Hore Date: Sunday, June 08 2025 11:32:23 DPDK git baseline: Repo:dpdk Branch: master CommitID:f880ad11010de93f2c1c45369aebe42987515a23 154145-154150 --> testing issues Upstream job id: Generic-DPDK-Compile-Meson#395292 Test environment and result as below: +-------------------------------+--------------------+-------------------+------------------+-------------------------+-------------------+----------------------+ | Environment | dpdk_meson_compile | dpdk_compile_spdk | dpdk_compile_ovs | dpdk_llvm_clang_compile | dpdk_msvc_compile | dpdk_mingw64_compile | +===============================+====================+===================+==================+=========================+===================+======================+ | Debian GNU/Linux 12 | PASS | PASS | SKIPPED | SKIPPED | SKIPPED | SKIPPED | +-------------------------------+--------------------+-------------------+------------------+-------------------------+-------------------+----------------------+ | CentOS Stream 9 | PASS | PASS | SKIPPED | SKIPPED | SKIPPED | SKIPPED | +-------------------------------+--------------------+-------------------+------------------+-------------------------+-------------------+----------------------+ | CentOS Stream 10 | PASS | SKIPPED | SKIPPED | SKIPPED | SKIPPED | SKIPPED | +-------------------------------+--------------------+-------------------+------------------+-------------------------+-------------------+----------------------+ | Fedora 40 (Clang) | PASS | WARN | SKIPPED | SKIPPED | SKIPPED | SKIPPED | +-------------------------------+--------------------+-------------------+------------------+-------------------------+-------------------+----------------------+ | Fedora 41 | PASS | PASS | PASS | SKIPPED | SKIPPED | SKIPPED | +-------------------------------+--------------------+-------------------+------------------+-------------------------+-------------------+----------------------+ | Fedora 41 (Clang) | PASS | WARN | PASS | SKIPPED | SKIPPED | SKIPPED | +-------------------------------+--------------------+-------------------+------------------+-------------------------+-------------------+----------------------+ | Fedora 40 | PASS | PASS | SKIPPED | SKIPPED | SKIPPED | SKIPPED | +-------------------------------+--------------------+-------------------+------------------+-------------------------+-------------------+----------------------+ | Red Hat Enterprise Linux 8.10 | PASS | SKIPPED | SKIPPED | SKIPPED | SKIPPED | SKIPPED | +-------------------------------+--------------------+-------------------+------------------+-------------------------+-------------------+----------------------+ | openSUSE Leap 15.6 | PASS | SKIPPED | SKIPPED | SKIPPED | SKIPPED | SKIPPED | +-------------------------------+--------------------+-------------------+------------------+-------------------------+-------------------+----------------------+ | Red Hat Enterprise Linux 9.5 | PASS | SKIPPED | SKIPPED | SKIPPED | SKIPPED | SKIPPED | +-------------------------------+--------------------+-------------------+------------------+-------------------------+-------------------+----------------------+ | Ubuntu 20.04 | PASS | SKIPPED | SKIPPED | SKIPPED | SKIPPED | SKIPPED | +-------------------------------+--------------------+-------------------+------------------+-------------------------+-------------------+----------------------+ | Ubuntu 22.04 | PASS | PASS | SKIPPED | SKIPPED | SKIPPED | SKIPPED | +-------------------------------+--------------------+-------------------+------------------+-------------------------+-------------------+----------------------+ | Ubuntu 24.04 | PASS | PASS | PASS | SKIPPED | SKIPPED | SKIPPED | +-------------------------------+--------------------+-------------------+------------------+-------------------------+-------------------+----------------------+ | Alpine | PASS | SKIPPED | SKIPPED | SKIPPED | SKIPPED | SKIPPED | +-------------------------------+--------------------+-------------------+------------------+-------------------------+-------------------+----------------------+ | FreeBSD 14.2 | PASS | SKIPPED | SKIPPED | SKIPPED | SKIPPED | SKIPPED | +-------------------------------+--------------------+-------------------+------------------+-------------------------+-------------------+----------------------+ | Windows Server 2022 | SKIPPED | SKIPPED | SKIPPED | PASS | PASS | PASS | +-------------------------------+--------------------+-------------------+------------------+-------------------------+-------------------+----------------------+ ==== 20 line log output for Fedora 41 (Clang) (dpdk_compile_spdk): ==== --- Failed to get log output --- ==== End log output ==== Debian GNU/Linux 12 Kernel: 5.15 Compiler: gcc gcc (Debian 12.2.0-14) 12.2.0 CentOS Stream 9 Kernel: Depends on container host Compiler: gcc 11.5.0 20240719 (Red Hat 11.5.0-2) CentOS Stream 10 Kernel: Depends on container host Compiler: gcc 14.2.1 20241104 (Red Hat 14.2.1-6) Fedora 40 (Clang) Kernel: Depends on container host Compiler: clang 18.1.8 (Fedora 18.1.8-1.fc40) Fedora 41 Kernel: Depends on container host Compiler: gcc 14.2.1 20240912 (Red Hat 14.2.1-3) Fedora 41 (Clang) Kernel: Depends on container host Compiler: clang 19.1.5 (Fedora 19.1.5-1.fc41) Fedora 40 Kernel: Depends on container host Compiler: gcc 14.2.1 20240912 (Red Hat 14.2.1-3) Red Hat Enterprise Linux 8.10 Kernel: 5.15 Compiler: gcc gcc (GCC) 8.5.0 20210514 (Red Hat 8.5.0-22) openSUSE Leap 15.6 Kernel: 5.15 Compiler: gcc gcc (SUSE Linux) 7.5.0 Red Hat Enterprise Linux 9.5 Kernel: 5.15 Compiler: gcc gcc (GCC) 11.5.0 20240719 (Red Hat 11.5.0-2) Ubuntu 20.04 Kernel: 5.15 Compiler: gcc gcc (Ubuntu 9.4.0-1ubuntu1~20.04.2) 9.4.0 Ubuntu 22.04 Kernel: 5.15 Compiler: gcc gcc (Ubuntu 11.4.0-1ubuntu1~22.04) 11.4.0 Ubuntu 24.04 Kernel: 5.15 Compiler: gcc gcc (Ubuntu 13.3.0-6ubuntu2~24.04) 13.3.0 Alpine Kernel: Depends on container host Compiler: gcc (Alpine 14.2.0) 14.2.0 FreeBSD 14.2 Kernel: 14.2-RELEASE Compiler: clang 18.1.6 Windows Server 2022 Kernel: 10.0.20348.2031 Compiler: clang 15.0.7, gcc 14.1.0 (MinGW), and MSVC VS 19.39.33521 To view detailed results, visit: https://lab.dpdk.org/results/dashboard/patchsets/33350/ UNH-IOL DPDK Community Lab To manage your email subscriptions, visit: https://lab.dpdk.org/results/dashboard/preferences/subscriptions/