From mboxrd@z Thu Jan 1 00:00:00 1970 Return-Path: Received: from mails.dpdk.org (mails.dpdk.org [217.70.189.124]) by inbox.dpdk.org (Postfix) with ESMTP id 05F1C4686A for ; Mon, 9 Jun 2025 04:14:50 +0200 (CEST) Received: from mails.dpdk.org (localhost [127.0.0.1]) by mails.dpdk.org (Postfix) with ESMTP id D07C4402BB; Mon, 9 Jun 2025 04:14:49 +0200 (CEST) Received: from mail-qv1-f97.google.com (mail-qv1-f97.google.com [209.85.219.97]) by mails.dpdk.org (Postfix) with ESMTP id 70C5F402BB for ; Mon, 9 Jun 2025 04:14:48 +0200 (CEST) Received: by mail-qv1-f97.google.com with SMTP id 6a1803df08f44-6f0ad744811so26022226d6.1 for ; Sun, 08 Jun 2025 19:14:48 -0700 (PDT) DKIM-Signature: v=1; a=rsa-sha256; c=relaxed/relaxed; d=iol.unh.edu; s=unh-iol; t=1749435287; x=1750040087; darn=dpdk.org; h=references:in-reply-to:cc:to:from:subject:message-id:date:from:to :cc:subject:date:message-id:reply-to; bh=TUEHOeHr9S+urLdma+gWLaERWu4o4fYnUP+eFnx0cMI=; b=Crmxb0HCijSXDX1T9rwjzfypSAx8dWikpPE8Tsl81hArHzUkJFFJ030XGncJLL8r54 6sr0QueYVPglZ8fPfc5chsj5VxuElq47LKl7OnU42wQQmpct3iBItjEVXLyaIcSHndRS B0HUOcin7FL8HiKj3O7Zm/RcACamKsfFimpcs= X-Google-DKIM-Signature: v=1; a=rsa-sha256; c=relaxed/relaxed; d=1e100.net; s=20230601; t=1749435287; x=1750040087; h=references:in-reply-to:cc:to:from:subject:message-id:date :x-gm-message-state:from:to:cc:subject:date:message-id:reply-to; bh=TUEHOeHr9S+urLdma+gWLaERWu4o4fYnUP+eFnx0cMI=; b=A4GziTTc/skjkEvzKhycXW/B+fS3N0E4yJH8fPceKrITUo//pGK3iA3cecPCff6S0t gwgaj/BO0jtVv/R4Mku+s/m8qF/5dRm8M8TfQLJVE8XKwU6nzy2c0dY0u+uPCZZDNRO2 x5ozJ+Btolp2uqO/u57U9zux4WkfZpf+LkOnBlVrqlDthNBeRJPIsJ65qDP4GNMhEIl+ TH1QnoeSE7Ce5jp06ls/N9SMO2bzjnGmAOyFM8jAxxxXxAucpNWNdYb+gf6KEltvuukP rUjEZSqe0/RmUQ1+cxS+rsGPTDYitIE4xLvUs7ZTyNxQj2TFnYrhGqK4w/+Ey3EKtxW3 AnZg== X-Gm-Message-State: AOJu0YybV66SBKgHTYNM/xer8p4efdJcx80ehWkiHF/0ILz4N1gFKFLl CbmaHrr9NbU5CxhmqUbrWAAmcI6LYbu51NZins3njT3ks1PJyS+Jg9Q4gILfGzuXdjlpFy+NY6z dQiWJPw/tbPNVixf+3KMFMMMM+GU23dM5tciNXv7excbYoTKG8PE+8QqCsfcw X-Gm-Gg: ASbGncsX6b+3f1e+0AVkkVyEfEeG72bdWZ8Ktahqca1lHq9RTs0N63qOYpjfR0zU1TW oqEVbadQ1QUumW+HDK5Z4Z2g0UMcjHLHTtV3lHTrxMS3Ksgeq2VsKPI2r6rxBea1CuTIbVHV/Gk VvlPMzLbpQohLVi0GuyCVAV047bL84tUT1vrHdz9Jnc2Oy5rSTQaM3Xl56gOQfEMXDlK6jLwg5u e4SVPeNyI0VioY2HGCp9EcKDqzeYZ/xHi7+SJAqoPHZJvw3qkjQqrX5vg15FUyAL78ZFt4hGQFB Dv5HdSogcDrMBwW/XO2uoQPSN5ynpRY7warC X-Google-Smtp-Source: AGHT+IG8bXm/F/BKGtAlCSemTSub6Gu3pTwt1D9ut1+sPVFO5rUPcY0mRb0b9FPiKxRmjVQHVhgVTGgWG0HE X-Received: by 2002:a05:6214:2022:b0:6eb:1e80:19fa with SMTP id 6a1803df08f44-6fb08f43185mr187997476d6.1.1749435287666; Sun, 08 Jun 2025 19:14:47 -0700 (PDT) Received: from postal.iol.unh.edu (postal.iol.unh.edu. [2606:4100:3880:1234::84]) by smtp-relay.gmail.com with ESMTPS id 6a1803df08f44-6fb09ac43c2sm3685186d6.16.2025.06.08.19.14.47 (version=TLS1_2 cipher=ECDHE-ECDSA-AES128-GCM-SHA256 bits=128/128); Sun, 08 Jun 2025 19:14:47 -0700 (PDT) X-Relaying-Domain: iol.unh.edu Date: Sun, 08 Jun 2025 19:14:47 -0700 (PDT) Message-ID: <68464397.d40a0220.923ff.13d0SMTPIN_ADDED_MISSING@mx.google.com> Received: from [172.17.0.4] (unknown [172.18.0.74]) by postal.iol.unh.edu (Postfix) with ESMTP id 5347A6051830; Sun, 8 Jun 2025 22:14:47 -0400 (EDT) Subject: |SUCCESS| pw154145-154150 [PATCH] [v3,6/6] doc: announce TxPP suppor From: dpdklab@iol.unh.edu To: Test Report Cc: dpdk-test-reports@iol.unh.edu In-Reply-To: <20250608113223.487043-7-soumyadeep.hore@intel.com> References: <20250608113223.487043-7-soumyadeep.hore@intel.com> Content-Type: text/plain X-BeenThere: test-report@dpdk.org X-Mailman-Version: 2.1.29 Precedence: list List-Id: automatic DPDK test reports List-Unsubscribe: , List-Archive: List-Post: List-Help: List-Subscribe: , Errors-To: test-report-bounces@dpdk.org Test-Label: iol-compile-arm64-testing Test-Status: SUCCESS http://dpdk.org/patch/154150 _Testing PASS_ Submitter: Soumyadeep Hore Date: Sunday, June 08 2025 11:32:23 DPDK git baseline: Repo:dpdk Branch: master CommitID:f880ad11010de93f2c1c45369aebe42987515a23 154145-154150 --> testing pass Upstream job id: Generic-DPDK-Compile-Meson#395309 Test environment and result as below: +------------------------------+--------------------+ | Environment | dpdk_meson_compile | +==============================+====================+ | Red Hat Enterprise Linux 9.5 | PASS | +------------------------------+--------------------+ | Ubuntu 20.04 | PASS | +------------------------------+--------------------+ | Debian GNU/Linux 12 | PASS | +------------------------------+--------------------+ | Fedora 40 (ARM) | PASS | +------------------------------+--------------------+ | Fedora 40 (ARM Clang) | PASS | +------------------------------+--------------------+ | Fedora 41 (ARM) | PASS | +------------------------------+--------------------+ | Fedora 41 (ARM Clang) | PASS | +------------------------------+--------------------+ | Ubuntu 22.04 | PASS | +------------------------------+--------------------+ | CentOS Stream 9 (ARM) | PASS | +------------------------------+--------------------+ | Ubuntu 24.04 | PASS | +------------------------------+--------------------+ | CentOS Stream 10 (ARM) | PASS | +------------------------------+--------------------+ Red Hat Enterprise Linux 9.5 Kernel: 5.4 Compiler: gcc gcc (GCC) 11.5.0 20240719 (Red Hat 11.5.0-2) Ubuntu 20.04 Kernel: 5.15 Compiler: aarch64-linux-gnu-gcc gcc (Ubuntu 9.4.0-1ubuntu1~20.04.2) 9.4.0 Debian GNU/Linux 12 Kernel: 5.4 Compiler: gcc gcc (Debian 12.2.0-14) 12.2.0 Fedora 40 (ARM) Kernel: Depends on container host Compiler: gcc 14.2.1 20240912 (Red Hat 14.2.1-3) Fedora 40 (ARM Clang) Kernel: Depends on container host Compiler: clang 18.1.8 (Fedora 18.1.8-1.fc40) Fedora 41 (ARM) Kernel: Depends on container host Compiler: gcc 14.2.1 20240912 (Red Hat 14.2.1-3) Fedora 41 (ARM Clang) Kernel: Depends on container host Compiler: clang 19.1.5 (Fedora 19.1.5-1.fc41) Ubuntu 22.04 Kernel: 5.4 Compiler: gcc gcc (Ubuntu 11.4.0-1ubuntu1~22.04) 11.4.0 CentOS Stream 9 (ARM) Kernel: Depends on container host Compiler: gcc 11.5.0 20240719 (Red Hat 11.5.0-2) Ubuntu 24.04 Kernel: 5.4 Compiler: gcc gcc (Ubuntu 13.3.0-6ubuntu2~24.04) 13.3.0 CentOS Stream 10 (ARM) Kernel: Depends on container host Compiler: gcc 14.2.1 20241104 (Red Hat 14.2.1-6) To view detailed results, visit: https://lab.dpdk.org/results/dashboard/patchsets/33350/ UNH-IOL DPDK Community Lab To manage your email subscriptions, visit: https://lab.dpdk.org/results/dashboard/preferences/subscriptions/