From mboxrd@z Thu Jan 1 00:00:00 1970 Return-Path: Received: from mails.dpdk.org (mails.dpdk.org [217.70.189.124]) by inbox.dpdk.org (Postfix) with ESMTP id A4CE5468BA for ; Mon, 9 Jun 2025 10:55:54 +0200 (CEST) Received: from mails.dpdk.org (localhost [127.0.0.1]) by mails.dpdk.org (Postfix) with ESMTP id 80837402E3; Mon, 9 Jun 2025 10:55:54 +0200 (CEST) Received: from mail-pl1-f227.google.com (mail-pl1-f227.google.com [209.85.214.227]) by mails.dpdk.org (Postfix) with ESMTP id 423A0402E3 for ; Mon, 9 Jun 2025 10:55:52 +0200 (CEST) Received: by mail-pl1-f227.google.com with SMTP id d9443c01a7336-23539a1a421so34075975ad.0 for ; Mon, 09 Jun 2025 01:55:52 -0700 (PDT) DKIM-Signature: v=1; a=rsa-sha256; c=relaxed/relaxed; d=iol.unh.edu; s=unh-iol; t=1749459351; x=1750064151; darn=dpdk.org; h=references:in-reply-to:cc:to:from:subject:message-id:date:from:to :cc:subject:date:message-id:reply-to; bh=ox8KyBtI8qJiBHwYIxM1Xk1RWDouccIZrYN7fCR3D4E=; b=RBhDOfvZLSx2dTD0ooFGa8+u2rqiGyLcRa6xiO6TYHxnBw25qPx1JkH2x5folNa+Bk 8ZdZojsOE2TArx7/pdameZGg5Yma+HObD/r8SCC39OvFDVjVKc/s4lmKj21laMqLm8iP lHGRXgQl3b/ij99pGQ0NnMiK2W2GZ1HmiRTus= X-Google-DKIM-Signature: v=1; a=rsa-sha256; c=relaxed/relaxed; d=1e100.net; s=20230601; t=1749459351; x=1750064151; h=references:in-reply-to:cc:to:from:subject:message-id:date :x-gm-message-state:from:to:cc:subject:date:message-id:reply-to; bh=ox8KyBtI8qJiBHwYIxM1Xk1RWDouccIZrYN7fCR3D4E=; b=lS7PriZgTpJ6OQsHOOsJR8vIve97JRPHtrmBH9UD/drfpRKNXZAVedYuBAu13fbkDg 0MpIxjCIVKkvtdrg6idZ5IWQ9N9JYgL0O4ro8LNaQx8VX6kJslNBzTgGTu1ZgrIie7M1 nMLqZnPcwiLrr4/2T/0XxOIo62zQ39gaRWCjWWUECgbrtQ4vB8a71Fthw2FGXgM/U+kP Vqt1dCBuzUwTleV9YuHJeA+hiHacH8QvdajuHdgWSOSXbbuRLZf25e1C85x9nGCcnO4C R9kTWtEL+lAYBtbT16Jk7aGBgtfjjCBHTSwZQe+XaRGhL1ga4ykyXGu4IZxnVYFF8e3a Wufg== X-Gm-Message-State: AOJu0YyYHwKqTO9UG4VzAYznkDRe2iKPS/HSOle0ZAzQIXLip0hhRiw9 TTzOA+AwHdKo2ke+a70IhqGGyBLQdVYe7ehgtmftHo8TKAh8hXkxCdJs6MRvHiCNnQzbMkh4Ejn cbmSVeRu1tjzRzSl7idAHbcYZaoEkB9uTnv1FCS2fe4IKCWL2AYK9p3mIvzlM X-Gm-Gg: ASbGncvN7op8aIGUX7LTwACoqoxTaRv5Bax5NryeNytio/dkCJgY0O4tJbg6hDqvwtb QfczJpdCftHWk8xtosKSR8BNxnnlMrRxA2Wlv1qoaChh39Uf9bRgF0JjCAqjPYIJ7AvuBJfbRKf Q0gWvxabR/ta9XhUfzFKU25b3/UYSed1Ci58dwQ4wmYVRBXmvlJ/AkiQGs6a5qfDXdWv11TQ6k8 +Y2OcYKemRdiFNUIbSxIyZUBr/fuhPuZHK5cGTNtJiqZO5mB9RvypgKeVJvEiEWnrVXbicagV0R 8XJlxpfSk8/SzWx3BIO+xPD0YHWJ7q/dukNDFqk5wtiWsJg= X-Google-Smtp-Source: AGHT+IGpgh26rbc6GrJbrEEtGgO2Fyh9bYwIPiU7LJ0x5R8j8nY+gYrrSi4ZpiGlaRt6qIPgTOoXtp5Wlswv X-Received: by 2002:a17:902:d2c3:b0:234:bca7:2920 with SMTP id d9443c01a7336-23601d1870dmr194322205ad.24.1749459351089; Mon, 09 Jun 2025 01:55:51 -0700 (PDT) Received: from postal.iol.unh.edu (postal.iol.unh.edu. [2606:4100:3880:1234::84]) by smtp-relay.gmail.com with ESMTPS id d9443c01a7336-23603507a68sm3658605ad.114.2025.06.09.01.55.50 (version=TLS1_2 cipher=ECDHE-ECDSA-AES128-GCM-SHA256 bits=128/128); Mon, 09 Jun 2025 01:55:51 -0700 (PDT) X-Relaying-Domain: iol.unh.edu Date: Mon, 09 Jun 2025 01:55:51 -0700 (PDT) Message-ID: <6846a197.170a0220.2c55c4.11a2SMTPIN_ADDED_MISSING@mx.google.com> Received: from [172.17.0.2] (unknown [172.18.0.74]) by postal.iol.unh.edu (Postfix) with ESMTP id 4A9D66051830; Mon, 9 Jun 2025 04:55:50 -0400 (EDT) Subject: |SUCCESS| pw154151 [PATCH] uapi: update to 6.15 for vduse.h From: dpdklab@iol.unh.edu To: Test Report Cc: dpdk-test-reports@iol.unh.edu In-Reply-To: <20250609014106.11568-1-stephen@networkplumber.org> References: <20250609014106.11568-1-stephen@networkplumber.org> Content-Type: text/plain X-BeenThere: test-report@dpdk.org X-Mailman-Version: 2.1.29 Precedence: list List-Id: automatic DPDK test reports List-Unsubscribe: , List-Archive: List-Post: List-Help: List-Subscribe: , Errors-To: test-report-bounces@dpdk.org Test-Label: iol-compile-arm64-testing Test-Status: SUCCESS http://dpdk.org/patch/154151 _Testing PASS_ Submitter: Stephen Hemminger Date: Monday, June 09 2025 01:41:06 DPDK git baseline: Repo:dpdk Branch: master CommitID:de7d4a7a657b22a366caa2e14723cd03d40bdb7c 154151 --> testing pass Upstream job id: Generic-DPDK-Compile-Meson#395335 Test environment and result as below: +------------------------------+--------------------+ | Environment | dpdk_meson_compile | +==============================+====================+ | Red Hat Enterprise Linux 9.5 | PASS | +------------------------------+--------------------+ | Ubuntu 20.04 | PASS | +------------------------------+--------------------+ | Debian GNU/Linux 12 | PASS | +------------------------------+--------------------+ | Fedora 40 (ARM) | PASS | +------------------------------+--------------------+ | Fedora 41 (ARM Clang) | PASS | +------------------------------+--------------------+ | Fedora 40 (ARM Clang) | PASS | +------------------------------+--------------------+ | Fedora 41 (ARM) | PASS | +------------------------------+--------------------+ | CentOS Stream 9 (ARM) | PASS | +------------------------------+--------------------+ | CentOS Stream 10 (ARM) | PASS | +------------------------------+--------------------+ | Ubuntu 24.04 | PASS | +------------------------------+--------------------+ | Ubuntu 22.04 | PASS | +------------------------------+--------------------+ Red Hat Enterprise Linux 9.5 Kernel: 5.4 Compiler: gcc gcc (GCC) 11.5.0 20240719 (Red Hat 11.5.0-2) Ubuntu 20.04 Kernel: 5.15 Compiler: aarch64-linux-gnu-gcc gcc (Ubuntu 9.4.0-1ubuntu1~20.04.2) 9.4.0 Debian GNU/Linux 12 Kernel: 5.4 Compiler: gcc gcc (Debian 12.2.0-14) 12.2.0 Fedora 40 (ARM) Kernel: Depends on container host Compiler: gcc 14.2.1 20240912 (Red Hat 14.2.1-3) Fedora 41 (ARM Clang) Kernel: Depends on container host Compiler: clang 19.1.5 (Fedora 19.1.5-1.fc41) Fedora 40 (ARM Clang) Kernel: Depends on container host Compiler: clang 18.1.8 (Fedora 18.1.8-1.fc40) Fedora 41 (ARM) Kernel: Depends on container host Compiler: gcc 14.2.1 20240912 (Red Hat 14.2.1-3) CentOS Stream 9 (ARM) Kernel: Depends on container host Compiler: gcc 11.5.0 20240719 (Red Hat 11.5.0-2) CentOS Stream 10 (ARM) Kernel: Depends on container host Compiler: gcc 14.2.1 20241104 (Red Hat 14.2.1-6) Ubuntu 24.04 Kernel: 5.4 Compiler: gcc gcc (Ubuntu 13.3.0-6ubuntu2~24.04) 13.3.0 Ubuntu 22.04 Kernel: 5.4 Compiler: gcc gcc (Ubuntu 11.4.0-1ubuntu1~22.04) 11.4.0 To view detailed results, visit: https://lab.dpdk.org/results/dashboard/patchsets/33351/ UNH-IOL DPDK Community Lab To manage your email subscriptions, visit: https://lab.dpdk.org/results/dashboard/preferences/subscriptions/