From mboxrd@z Thu Jan 1 00:00:00 1970 Return-Path: Received: from mails.dpdk.org (mails.dpdk.org [217.70.189.124]) by inbox.dpdk.org (Postfix) with ESMTP id 6225B468B7 for ; Mon, 9 Jun 2025 17:52:51 +0200 (CEST) Received: from mails.dpdk.org (localhost [127.0.0.1]) by mails.dpdk.org (Postfix) with ESMTP id 5DC1C4064F; Mon, 9 Jun 2025 17:52:51 +0200 (CEST) Received: from mail-io1-f98.google.com (mail-io1-f98.google.com [209.85.166.98]) by mails.dpdk.org (Postfix) with ESMTP id 6D8214064F for ; Mon, 9 Jun 2025 17:52:50 +0200 (CEST) Received: by mail-io1-f98.google.com with SMTP id ca18e2360f4ac-86cf9f46b06so142559039f.2 for ; Mon, 09 Jun 2025 08:52:50 -0700 (PDT) DKIM-Signature: v=1; a=rsa-sha256; c=relaxed/relaxed; d=iol.unh.edu; s=unh-iol; t=1749484370; x=1750089170; darn=dpdk.org; h=references:in-reply-to:cc:to:from:subject:message-id:date:from:to :cc:subject:date:message-id:reply-to; bh=WizFU4boab2D/feyfb8uXKChcarRuLveI4ML0syPzCs=; b=LbTeWafs+F27jNVmXHXxYNO8SgcaOHeK56ZW0pdeWvezcD2gI2CMWO7USrafildrzF ay+/ekx7WzbC1KHvThuWJJ7jU0AgTzG59lH+zMfq669VMmKwSXumnVyHK8pMLzwlJLYJ ssSkkKV0U3X6PiDmDgFDXJx7Qdc2aS/zZiN44= X-Google-DKIM-Signature: v=1; a=rsa-sha256; c=relaxed/relaxed; d=1e100.net; s=20230601; t=1749484370; x=1750089170; h=references:in-reply-to:cc:to:from:subject:message-id:date :x-gm-message-state:from:to:cc:subject:date:message-id:reply-to; bh=WizFU4boab2D/feyfb8uXKChcarRuLveI4ML0syPzCs=; b=sJKFwh+Xp6ePNgFD1qQEzLHSm5dYbbytIYhKYusos6SBZImAdvNm0WpF0IgqKvwAZx aVQNoxqRLuFcGSi7KQQTb7kZ9tLxZ/DvhyAEuAX2IXvCwmWQbo8cU775Lsx3UMt/EpvH Wmz2EeJu/6tkblySchZulYkSporQGQQTCzfo9NYrbvuBGmElZ5ph+i8iCHtTyZstIsAb GIpOmG93GMeiDkPFLEciEbFzkFgVNKpQpNiZvheEGh5P4H+rpsVoS7jiNpdbgaboth+0 IH5/+HdKSb0to89MXFcoToh/Bpk9JcWyNgmRmLp/DjgIkApMZ4de8M4OJT1j5i67/Bgf NxDQ== X-Gm-Message-State: AOJu0YwLcbds2peVO+Ul+9jxJg4eda43ay/RVwmn+b78BtfpxPjFV1OT 2M9sgRVyQxcE/s6pZUuBpU1UmJTPMVLo+8enBN1HlDa9xrjAwF0vuGnQ5BZ/RLkq0ATxyQpnswF f/wmE50fkegKr4P0aEAom5oZz7tBMRznnTK+iyGwh1IX7 X-Gm-Gg: ASbGncuIpjkwR0awytzrzG9QKK/yIPCh0qAQAB6x0xD/ODFjeq7kDNBj35Pw7pqmORc o3D5BTqX3QlXSS7L9LqXVaATS6DA+dK5ayDHaaAMk1HaUNTocZb6ECmf+JtwjtWx8PoGNrjjhQ4 aBDKZP5840qdDnG3lD7vFswIpoJr57CaQeRKf4OhbLMXZA+03AEZfoc0ffecrxDE31/K2DF2kbn wRdAFkX+wmwp7+7j0bcvMaD95pm7mnn80qw2PofShG9bM0ZBix+U/majKUXM9loDruIVNNXTRM+ rNMdUKhB13WSB2c39NWlMBievsPlzSc0/sbKZ63ngxGXL9UzIU6eCAA8oFFrqpnwHLQZow== X-Google-Smtp-Source: AGHT+IGjJeA+X3C9jp5gy6zZXRi/7Q0JpJLk4Cp81OXCacvBigJP8ZnvjrO7LTFeIMyUc3+7I0yBO0qMfhFG X-Received: by 2002:a05:6e02:156f:b0:3dc:804b:2e74 with SMTP id e9e14a558f8ab-3ddce440f9amr141367005ab.19.1749484369615; Mon, 09 Jun 2025 08:52:49 -0700 (PDT) Received: from postal.iol.unh.edu (postal.iol.unh.edu. [132.177.123.84]) by smtp-relay.gmail.com with ESMTPS id 8926c6da1cb9f-500df40174asm379547173.12.2025.06.09.08.52.49 (version=TLS1_2 cipher=ECDHE-ECDSA-AES128-GCM-SHA256 bits=128/128); Mon, 09 Jun 2025 08:52:49 -0700 (PDT) X-Relaying-Domain: iol.unh.edu Date: Mon, 09 Jun 2025 08:52:49 -0700 (PDT) Message-ID: <68470351.050a0220.1b8300.1e30SMTPIN_ADDED_MISSING@mx.google.com> Received: from [172.21.0.19] (unknown [172.18.0.240]) by postal.iol.unh.edu (Postfix) with ESMTP id 20E8B604D420; Mon, 9 Jun 2025 11:52:49 -0400 (EDT) Subject: |WARNING| pw154178 [PATCH] net/virtio: Fix check of threshold for Tx From: dpdklab@iol.unh.edu To: Test Report Cc: dpdk-test-reports@iol.unh.edu In-Reply-To: <20250609072347.1748785-1-hengqi.chen@gmail.com> References: <20250609072347.1748785-1-hengqi.chen@gmail.com> Content-Type: text/plain X-BeenThere: test-report@dpdk.org X-Mailman-Version: 2.1.29 Precedence: list List-Id: automatic DPDK test reports List-Unsubscribe: , List-Archive: List-Post: List-Help: List-Subscribe: , Errors-To: test-report-bounces@dpdk.org Test-Label: iol-compile-amd64-testing Test-Status: WARNING http://dpdk.org/patch/154178 _Testing issues_ Submitter: Hengqi Chen Date: Monday, June 09 2025 07:23:47 DPDK git baseline: Repo:dpdk Branch: master CommitID:3223019e73391066cbb0d248051b163e5373034c 154178 --> testing issues Upstream job id: Generic-DPDK-Compile-Meson#395578 Test environment and result as below: +-------------------------------+--------------------+-------------------+------------------+-------------------+-------------------------+----------------------+ | Environment | dpdk_meson_compile | dpdk_compile_spdk | dpdk_compile_ovs | dpdk_msvc_compile | dpdk_llvm_clang_compile | dpdk_mingw64_compile | +===============================+====================+===================+==================+===================+=========================+======================+ | CentOS Stream 9 | PASS | PASS | SKIPPED | SKIPPED | SKIPPED | SKIPPED | +-------------------------------+--------------------+-------------------+------------------+-------------------+-------------------------+----------------------+ | Debian GNU/Linux 12 | PEND | SKIPPED | SKIPPED | SKIPPED | SKIPPED | SKIPPED | +-------------------------------+--------------------+-------------------+------------------+-------------------+-------------------------+----------------------+ | Fedora 40 (Clang) | PASS | WARN | SKIPPED | SKIPPED | SKIPPED | SKIPPED | +-------------------------------+--------------------+-------------------+------------------+-------------------+-------------------------+----------------------+ | Fedora 41 | PEND | PEND | PEND | SKIPPED | SKIPPED | SKIPPED | +-------------------------------+--------------------+-------------------+------------------+-------------------+-------------------------+----------------------+ | CentOS Stream 10 | PASS | SKIPPED | SKIPPED | SKIPPED | SKIPPED | SKIPPED | +-------------------------------+--------------------+-------------------+------------------+-------------------+-------------------------+----------------------+ | Fedora 41 (Clang) | PEND | PEND | PEND | SKIPPED | SKIPPED | SKIPPED | +-------------------------------+--------------------+-------------------+------------------+-------------------+-------------------------+----------------------+ | Fedora 40 | PEND | PEND | SKIPPED | SKIPPED | SKIPPED | SKIPPED | +-------------------------------+--------------------+-------------------+------------------+-------------------+-------------------------+----------------------+ | Red Hat Enterprise Linux 9.5 | PASS | SKIPPED | SKIPPED | SKIPPED | SKIPPED | SKIPPED | +-------------------------------+--------------------+-------------------+------------------+-------------------+-------------------------+----------------------+ | openSUSE Leap 15.6 | PASS | SKIPPED | SKIPPED | SKIPPED | SKIPPED | SKIPPED | +-------------------------------+--------------------+-------------------+------------------+-------------------+-------------------------+----------------------+ | Red Hat Enterprise Linux 8.10 | PASS | SKIPPED | SKIPPED | SKIPPED | SKIPPED | SKIPPED | +-------------------------------+--------------------+-------------------+------------------+-------------------+-------------------------+----------------------+ | Ubuntu 20.04 | PASS | SKIPPED | SKIPPED | SKIPPED | SKIPPED | SKIPPED | +-------------------------------+--------------------+-------------------+------------------+-------------------+-------------------------+----------------------+ | Ubuntu 24.04 | PASS | PEND | PEND | SKIPPED | SKIPPED | SKIPPED | +-------------------------------+--------------------+-------------------+------------------+-------------------+-------------------------+----------------------+ | Alpine | PEND | SKIPPED | SKIPPED | SKIPPED | SKIPPED | SKIPPED | +-------------------------------+--------------------+-------------------+------------------+-------------------+-------------------------+----------------------+ | FreeBSD 14.2 | PASS | SKIPPED | SKIPPED | SKIPPED | SKIPPED | SKIPPED | +-------------------------------+--------------------+-------------------+------------------+-------------------+-------------------------+----------------------+ | Ubuntu 22.04 | PASS | PASS | SKIPPED | SKIPPED | SKIPPED | SKIPPED | +-------------------------------+--------------------+-------------------+------------------+-------------------+-------------------------+----------------------+ | Windows Server 2022 | SKIPPED | SKIPPED | SKIPPED | PASS | PASS | PEND | +-------------------------------+--------------------+-------------------+------------------+-------------------+-------------------------+----------------------+ ==== 20 line log output for Fedora 40 (Clang) (dpdk_compile_spdk): ==== --- Failed to get log output --- ==== End log output ==== CentOS Stream 9 Kernel: Depends on container host Compiler: gcc 11.5.0 20240719 (Red Hat 11.5.0-2) Debian GNU/Linux 12 Kernel: 5.15 Compiler: gcc gcc (Debian 12.2.0-14) 12.2.0 Fedora 40 (Clang) Kernel: Depends on container host Compiler: clang 18.1.8 (Fedora 18.1.8-1.fc40) Fedora 41 Kernel: Depends on container host Compiler: gcc 14.2.1 20240912 (Red Hat 14.2.1-3) CentOS Stream 10 Kernel: Depends on container host Compiler: gcc 14.2.1 20241104 (Red Hat 14.2.1-6) Fedora 41 (Clang) Kernel: Depends on container host Compiler: clang 19.1.5 (Fedora 19.1.5-1.fc41) Fedora 40 Kernel: Depends on container host Compiler: gcc 14.2.1 20240912 (Red Hat 14.2.1-3) Red Hat Enterprise Linux 9.5 Kernel: 5.15 Compiler: gcc gcc (GCC) 11.5.0 20240719 (Red Hat 11.5.0-2) openSUSE Leap 15.6 Kernel: 5.15 Compiler: gcc gcc (SUSE Linux) 7.5.0 Red Hat Enterprise Linux 8.10 Kernel: 5.15 Compiler: gcc gcc (GCC) 8.5.0 20210514 (Red Hat 8.5.0-22) Ubuntu 20.04 Kernel: 5.15 Compiler: gcc gcc (Ubuntu 9.4.0-1ubuntu1~20.04.2) 9.4.0 Ubuntu 24.04 Kernel: 5.15 Compiler: gcc gcc (Ubuntu 13.3.0-6ubuntu2~24.04) 13.3.0 Alpine Kernel: Depends on container host Compiler: gcc (Alpine 14.2.0) 14.2.0 FreeBSD 14.2 Kernel: 14.2-RELEASE Compiler: clang 18.1.6 Ubuntu 22.04 Kernel: 5.15 Compiler: gcc gcc (Ubuntu 11.4.0-1ubuntu1~22.04) 11.4.0 Windows Server 2022 Kernel: 10.0.20348.2031 Compiler: clang 15.0.7, gcc 14.1.0 (MinGW), and MSVC VS 19.39.33521 To view detailed results, visit: https://lab.dpdk.org/results/dashboard/patchsets/33356/ UNH-IOL DPDK Community Lab To manage your email subscriptions, visit: https://lab.dpdk.org/results/dashboard/preferences/subscriptions/