From mboxrd@z Thu Jan 1 00:00:00 1970 Return-Path: Received: from mails.dpdk.org (mails.dpdk.org [217.70.189.124]) by inbox.dpdk.org (Postfix) with ESMTP id 7FAF0468B7 for ; Mon, 9 Jun 2025 17:53:21 +0200 (CEST) Received: from mails.dpdk.org (localhost [127.0.0.1]) by mails.dpdk.org (Postfix) with ESMTP id 7A1FF4064F; Mon, 9 Jun 2025 17:53:21 +0200 (CEST) Received: from mail-il1-f227.google.com (mail-il1-f227.google.com [209.85.166.227]) by mails.dpdk.org (Postfix) with ESMTP id 3029A4064F for ; Mon, 9 Jun 2025 17:53:20 +0200 (CEST) Received: by mail-il1-f227.google.com with SMTP id e9e14a558f8ab-3ddda0a8ba2so16048605ab.0 for ; Mon, 09 Jun 2025 08:53:20 -0700 (PDT) DKIM-Signature: v=1; a=rsa-sha256; c=relaxed/relaxed; d=iol.unh.edu; s=unh-iol; t=1749484399; x=1750089199; darn=dpdk.org; h=references:in-reply-to:cc:to:from:subject:message-id:date:from:to :cc:subject:date:message-id:reply-to; bh=jb9QyAIdO8en1To3qIY4IJewzFi+s5UwWX+HFamTYRU=; b=hE4ouiguX/myzWk8Er/xg64mpnskbRHZy8rsYi/62LQ7PZ1fEr5dCsPb8HXcW68vWr ejIGvxhftThcEpw9IVbq3RRfzTIifHBdCwiz2mSaL60s5fyz69huqjSIG40SBmfO/I9F vsuBrszJpUz4OSbrxuNGtnmHeiNpl1lWaKCHM= X-Google-DKIM-Signature: v=1; a=rsa-sha256; c=relaxed/relaxed; d=1e100.net; s=20230601; t=1749484399; x=1750089199; h=references:in-reply-to:cc:to:from:subject:message-id:date :x-gm-message-state:from:to:cc:subject:date:message-id:reply-to; bh=jb9QyAIdO8en1To3qIY4IJewzFi+s5UwWX+HFamTYRU=; b=A1uSBc3rhyDA1eQ4s3tRky5VlG/FqibOjUstQ6UMfnK+SDTy15Tah7wxQei7henptU bqmQ1v/1LjlSA+jkP1czd8nYncBrroS4xYkH4wzGHhbdrosPlIPsIwM4a4bJMxvS+lff hoKdkK6pz9WaTK8Aa9XmQPB9sKugSKgWd98KvHGqQ0HikgpXkgr1utdLap3CV1fb9cL9 As0oiqazofju159rkLQCsWPElq2xVeQzzNFGbjr3ebuxJoYozZK5IrIeokg7adm9pctM eWyQGZD0mQyPFzq1eRWUh59y4fghN4NJSXxcrD+iukxdPna6y/BgxLeQJr/SIrq1rqV8 6i5A== X-Gm-Message-State: AOJu0YzPFR1c444QsRhHbSVytS+rGk1rfvazalJr2kW/PKO6DA7XA05y H7m1FlHJtks76OK19s5ZVFaAX2ZawmE4s9P/07kWdDnI5XND399MNthA42nR41/PF+wHr2hk/Oz pIgiwVoTRx1bjS9EjQJ46a0RG9Ke7AZRp62ZbcoawykBpl/7sW8OFe8nEU+la X-Gm-Gg: ASbGncs4b9p8THgNA9J12ASSTO4qWnh0L98aL7wfbTtZ3N93iXWMJB2DUENcRDn7mWg q8dHGHhRAtva4eMWhx/rS1I/2SCOhRrIWBtF0yV59mNl47ObvUgn4hVqCOfdOJcvSyXbcW+b6BO UZOKRsOlLMo6wXG58yDZ1nkj3dgqKbSqsfwp42GZMAFsbU7wOB9Wl26E3rl4n15ntDKNZGa5aOc wW9mdZzU7xZ0sFb24J84iCswPcfqIADQh8v1nd7uEtfWcGMJS6Ew2axBnxHD/UO0J2vgbUojp+4 No9v88+Kga1iVYgpQn9Xlu39WqwDJyH7XPbH X-Google-Smtp-Source: AGHT+IGy0TstqoJCz4zKaQANT3LFGraNb1zH1nQkNgx/CKK7/ZSnnkp+Yhdgiu7i5H/gLNEF0WEpSvjVniOz X-Received: by 2002:a05:6e02:4517:20b0:3dd:ce9b:aa17 with SMTP id e9e14a558f8ab-3ddce9bad0amr89740895ab.20.1749484399430; Mon, 09 Jun 2025 08:53:19 -0700 (PDT) Received: from postal.iol.unh.edu (postal.iol.unh.edu. [2606:4100:3880:1234::84]) by smtp-relay.gmail.com with ESMTPS id 8926c6da1cb9f-500df5ddf51sm384494173.61.2025.06.09.08.53.19 (version=TLS1_2 cipher=ECDHE-ECDSA-AES128-GCM-SHA256 bits=128/128); Mon, 09 Jun 2025 08:53:19 -0700 (PDT) X-Relaying-Domain: iol.unh.edu Date: Mon, 09 Jun 2025 08:53:19 -0700 (PDT) Message-ID: <6847036f.050a0220.331a92.1da4SMTPIN_ADDED_MISSING@mx.google.com> Received: from [172.21.0.8] (unknown [172.18.0.240]) by postal.iol.unh.edu (Postfix) with ESMTP id E99BE604D420; Mon, 9 Jun 2025 11:53:18 -0400 (EDT) Subject: |WARNING| pw154178 [PATCH] net/virtio: Fix check of threshold for Tx From: dpdklab@iol.unh.edu To: Test Report Cc: dpdk-test-reports@iol.unh.edu In-Reply-To: <20250609072347.1748785-1-hengqi.chen@gmail.com> References: <20250609072347.1748785-1-hengqi.chen@gmail.com> Content-Type: text/plain X-BeenThere: test-report@dpdk.org X-Mailman-Version: 2.1.29 Precedence: list List-Id: automatic DPDK test reports List-Unsubscribe: , List-Archive: List-Post: List-Help: List-Subscribe: , Errors-To: test-report-bounces@dpdk.org Test-Label: iol-compile-amd64-testing Test-Status: WARNING http://dpdk.org/patch/154178 _Testing issues_ Submitter: Hengqi Chen Date: Monday, June 09 2025 07:23:47 DPDK git baseline: Repo:dpdk Branch: master CommitID:3223019e73391066cbb0d248051b163e5373034c 154178 --> testing issues Upstream job id: Generic-DPDK-Compile-Meson#395581 Test environment and result as below: +-------------------------------+--------------------+-------------------+------------------+-------------------+-------------------------+----------------------+ | Environment | dpdk_meson_compile | dpdk_compile_spdk | dpdk_compile_ovs | dpdk_msvc_compile | dpdk_llvm_clang_compile | dpdk_mingw64_compile | +===============================+====================+===================+==================+===================+=========================+======================+ | CentOS Stream 9 | PASS | PASS | SKIPPED | SKIPPED | SKIPPED | SKIPPED | +-------------------------------+--------------------+-------------------+------------------+-------------------+-------------------------+----------------------+ | Debian GNU/Linux 12 | PEND | SKIPPED | SKIPPED | SKIPPED | SKIPPED | SKIPPED | +-------------------------------+--------------------+-------------------+------------------+-------------------+-------------------------+----------------------+ | Fedora 40 (Clang) | PASS | WARN | SKIPPED | SKIPPED | SKIPPED | SKIPPED | +-------------------------------+--------------------+-------------------+------------------+-------------------+-------------------------+----------------------+ | Fedora 41 | PEND | PEND | PEND | SKIPPED | SKIPPED | SKIPPED | +-------------------------------+--------------------+-------------------+------------------+-------------------+-------------------------+----------------------+ | CentOS Stream 10 | PASS | SKIPPED | SKIPPED | SKIPPED | SKIPPED | SKIPPED | +-------------------------------+--------------------+-------------------+------------------+-------------------+-------------------------+----------------------+ | Fedora 41 (Clang) | PEND | PEND | PEND | SKIPPED | SKIPPED | SKIPPED | +-------------------------------+--------------------+-------------------+------------------+-------------------+-------------------------+----------------------+ | Fedora 40 | PEND | PEND | SKIPPED | SKIPPED | SKIPPED | SKIPPED | +-------------------------------+--------------------+-------------------+------------------+-------------------+-------------------------+----------------------+ | Red Hat Enterprise Linux 9.5 | PASS | SKIPPED | SKIPPED | SKIPPED | SKIPPED | SKIPPED | +-------------------------------+--------------------+-------------------+------------------+-------------------+-------------------------+----------------------+ | openSUSE Leap 15.6 | PASS | SKIPPED | SKIPPED | SKIPPED | SKIPPED | SKIPPED | +-------------------------------+--------------------+-------------------+------------------+-------------------+-------------------------+----------------------+ | Red Hat Enterprise Linux 8.10 | PASS | SKIPPED | SKIPPED | SKIPPED | SKIPPED | SKIPPED | +-------------------------------+--------------------+-------------------+------------------+-------------------+-------------------------+----------------------+ | Ubuntu 20.04 | PASS | SKIPPED | SKIPPED | SKIPPED | SKIPPED | SKIPPED | +-------------------------------+--------------------+-------------------+------------------+-------------------+-------------------------+----------------------+ | Ubuntu 24.04 | PASS | PEND | PEND | SKIPPED | SKIPPED | SKIPPED | +-------------------------------+--------------------+-------------------+------------------+-------------------+-------------------------+----------------------+ | Alpine | PEND | SKIPPED | SKIPPED | SKIPPED | SKIPPED | SKIPPED | +-------------------------------+--------------------+-------------------+------------------+-------------------+-------------------------+----------------------+ | FreeBSD 14.2 | PASS | SKIPPED | SKIPPED | SKIPPED | SKIPPED | SKIPPED | +-------------------------------+--------------------+-------------------+------------------+-------------------+-------------------------+----------------------+ | Ubuntu 22.04 | PASS | PASS | SKIPPED | SKIPPED | SKIPPED | SKIPPED | +-------------------------------+--------------------+-------------------+------------------+-------------------+-------------------------+----------------------+ | Windows Server 2022 | SKIPPED | SKIPPED | SKIPPED | PASS | PASS | PEND | +-------------------------------+--------------------+-------------------+------------------+-------------------+-------------------------+----------------------+ ==== 20 line log output for Fedora 40 (Clang) (dpdk_compile_spdk): ==== --- Failed to get log output --- ==== End log output ==== CentOS Stream 9 Kernel: Depends on container host Compiler: gcc 11.5.0 20240719 (Red Hat 11.5.0-2) Debian GNU/Linux 12 Kernel: 5.15 Compiler: gcc gcc (Debian 12.2.0-14) 12.2.0 Fedora 40 (Clang) Kernel: Depends on container host Compiler: clang 18.1.8 (Fedora 18.1.8-1.fc40) Fedora 41 Kernel: Depends on container host Compiler: gcc 14.2.1 20240912 (Red Hat 14.2.1-3) CentOS Stream 10 Kernel: Depends on container host Compiler: gcc 14.2.1 20241104 (Red Hat 14.2.1-6) Fedora 41 (Clang) Kernel: Depends on container host Compiler: clang 19.1.5 (Fedora 19.1.5-1.fc41) Fedora 40 Kernel: Depends on container host Compiler: gcc 14.2.1 20240912 (Red Hat 14.2.1-3) Red Hat Enterprise Linux 9.5 Kernel: 5.15 Compiler: gcc gcc (GCC) 11.5.0 20240719 (Red Hat 11.5.0-2) openSUSE Leap 15.6 Kernel: 5.15 Compiler: gcc gcc (SUSE Linux) 7.5.0 Red Hat Enterprise Linux 8.10 Kernel: 5.15 Compiler: gcc gcc (GCC) 8.5.0 20210514 (Red Hat 8.5.0-22) Ubuntu 20.04 Kernel: 5.15 Compiler: gcc gcc (Ubuntu 9.4.0-1ubuntu1~20.04.2) 9.4.0 Ubuntu 24.04 Kernel: 5.15 Compiler: gcc gcc (Ubuntu 13.3.0-6ubuntu2~24.04) 13.3.0 Alpine Kernel: Depends on container host Compiler: gcc (Alpine 14.2.0) 14.2.0 FreeBSD 14.2 Kernel: 14.2-RELEASE Compiler: clang 18.1.6 Ubuntu 22.04 Kernel: 5.15 Compiler: gcc gcc (Ubuntu 11.4.0-1ubuntu1~22.04) 11.4.0 Windows Server 2022 Kernel: 10.0.20348.2031 Compiler: clang 15.0.7, gcc 14.1.0 (MinGW), and MSVC VS 19.39.33521 To view detailed results, visit: https://lab.dpdk.org/results/dashboard/patchsets/33356/ UNH-IOL DPDK Community Lab To manage your email subscriptions, visit: https://lab.dpdk.org/results/dashboard/preferences/subscriptions/