From mboxrd@z Thu Jan 1 00:00:00 1970 Return-Path: Received: from mails.dpdk.org (mails.dpdk.org [217.70.189.124]) by inbox.dpdk.org (Postfix) with ESMTP id 3257A468B7 for ; Mon, 9 Jun 2025 17:55:47 +0200 (CEST) Received: from mails.dpdk.org (localhost [127.0.0.1]) by mails.dpdk.org (Postfix) with ESMTP id 2B3524064F; Mon, 9 Jun 2025 17:55:47 +0200 (CEST) Received: from mail-il1-f228.google.com (mail-il1-f228.google.com [209.85.166.228]) by mails.dpdk.org (Postfix) with ESMTP id AA7574064F for ; Mon, 9 Jun 2025 17:55:45 +0200 (CEST) Received: by mail-il1-f228.google.com with SMTP id e9e14a558f8ab-3dc6f6530c5so40004905ab.3 for ; Mon, 09 Jun 2025 08:55:45 -0700 (PDT) DKIM-Signature: v=1; a=rsa-sha256; c=relaxed/relaxed; d=iol.unh.edu; s=unh-iol; t=1749484545; x=1750089345; darn=dpdk.org; h=references:in-reply-to:cc:to:from:subject:message-id:date:from:to :cc:subject:date:message-id:reply-to; bh=FjJLENX23+Hbo+hgzl3c0xXaPPZExfkPnYv+3aUBL0w=; b=hQJGvpRe2/+vMtCKT2hMcmjW4tDNX4V/5YWLG3OfqIsvLVqTsg+7LdmPxdqv27Evgt qbzJ+JFW3/zjCp3l//gJXP4DNhHqj8jQqo7jaZDgIJnXOs5eyeSaz5SnchI8wWmXfTtR NQVwlr3LMvGmuNuc6XJZOeZYY6j1z2x72IweI= X-Google-DKIM-Signature: v=1; a=rsa-sha256; c=relaxed/relaxed; d=1e100.net; s=20230601; t=1749484545; x=1750089345; h=references:in-reply-to:cc:to:from:subject:message-id:date :x-gm-message-state:from:to:cc:subject:date:message-id:reply-to; bh=FjJLENX23+Hbo+hgzl3c0xXaPPZExfkPnYv+3aUBL0w=; b=YxbBkuDL3U386OheiyR3wE3joFogAcUr8B7WzbkmsY2aRb1fcxWP5y4skN+wJzNF4Q o+6UyITPkHX3YMP3xHRpFrnV+Hb7fj+a2mAg2QaGRBMv7WLPTodCSKktO2EJUZWVxIhA zoypMhgmvmWPOw6kidWUwVZ+eOhQxMDaRNt7cdq00xlpHEJ0P6wSm7mv3s2xxe32UKuM tHgvq23z4tK7kknXOnkKUXlrVYSXLcFPJhICSZ/sUema4EDKDJzoSs1D6UDX6KZUWQgt sLI+RZM3kuS/ncGZEV2L0P/LZhpJELY2TJgBxzMMLfbnkFlUZzevPJYJ8s0PcPkLu+aU E/1A== X-Gm-Message-State: AOJu0Yx3VR3cUdM933f1ghBivhiAf2LpNWbyGMvWtoqmcby0TGoXoH/4 u0/FgS7XDc0j+tKN1hGwcHzC3H7CkJsF9lF9hA+byjBDfx94gg1PapVW5PcKpDnjX4to8PPFw5z DDnlCkLDSkMcxcRpCr2KclgRAK7RzW0ayiRaYZkWQ0pxH X-Gm-Gg: ASbGncv989+Vzw77YwY7BRm82d0/FvpjP3UuSifyxTmezccvI1qZ/bYO+5VV1voRYn1 2+dfHfKQEHaspzDUPaF0JzCm1o0yz734EOpbTV01BWhfVYoIeZ4b5pHQyFRa3tFqzMsZXBrPOO3 zF/I8cN1lA2mcSOw88IVAGGI+PpHl/b+4pF+g55/4/HSMYhnE7lIviAnI8xxAN6H+9pWOsKlDMA MPVFbUAoccYZjRxFEwPzSC9ekn/x3R9F87Pn/q3jNuo7FyMwJqLg51JcUj7JtkPzNBKB3x6AmEs Y3OeUcIoQ0sDgw2AvKDXyzJCfSu1E2JCsVa5OYQLeubBP9S9p21Kx3ScO8EW2SPLMJyUwQ== X-Google-Smtp-Source: AGHT+IEX1uqrnto6nPar/5zdBmkLgwL2fSWGh1f5TQkRw/oR3w6wiCMVVTPoROU6pFs1FhKMHkQ2eI3Zc1lk X-Received: by 2002:a05:6e02:2161:b0:3dc:8423:543e with SMTP id e9e14a558f8ab-3ddce4a2490mr142728705ab.17.1749484544867; Mon, 09 Jun 2025 08:55:44 -0700 (PDT) Received: from postal.iol.unh.edu (postal.iol.unh.edu. [132.177.123.84]) by smtp-relay.gmail.com with ESMTPS id e9e14a558f8ab-3ddcf238d5dsm4010745ab.42.2025.06.09.08.55.44 (version=TLS1_2 cipher=ECDHE-ECDSA-AES128-GCM-SHA256 bits=128/128); Mon, 09 Jun 2025 08:55:44 -0700 (PDT) X-Relaying-Domain: iol.unh.edu Date: Mon, 09 Jun 2025 08:55:44 -0700 (PDT) Message-ID: <68470400.050a0220.107efe.25ecSMTPIN_ADDED_MISSING@mx.google.com> Received: from [172.21.0.10] (unknown [172.18.0.240]) by postal.iol.unh.edu (Postfix) with ESMTP id 63BE8604D420; Mon, 9 Jun 2025 11:55:44 -0400 (EDT) Subject: |WARNING| pw154178 [PATCH] net/virtio: Fix check of threshold for Tx From: dpdklab@iol.unh.edu To: Test Report Cc: dpdk-test-reports@iol.unh.edu In-Reply-To: <20250609072347.1748785-1-hengqi.chen@gmail.com> References: <20250609072347.1748785-1-hengqi.chen@gmail.com> Content-Type: text/plain X-BeenThere: test-report@dpdk.org X-Mailman-Version: 2.1.29 Precedence: list List-Id: automatic DPDK test reports List-Unsubscribe: , List-Archive: List-Post: List-Help: List-Subscribe: , Errors-To: test-report-bounces@dpdk.org Test-Label: iol-compile-amd64-testing Test-Status: WARNING http://dpdk.org/patch/154178 _Testing issues_ Submitter: Hengqi Chen Date: Monday, June 09 2025 07:23:47 DPDK git baseline: Repo:dpdk Branch: master CommitID:3223019e73391066cbb0d248051b163e5373034c 154178 --> testing issues Upstream job id: Generic-DPDK-Compile-Meson#395584 Test environment and result as below: +-------------------------------+--------------------+-------------------+------------------+-------------------+-------------------------+----------------------+ | Environment | dpdk_meson_compile | dpdk_compile_spdk | dpdk_compile_ovs | dpdk_msvc_compile | dpdk_llvm_clang_compile | dpdk_mingw64_compile | +===============================+====================+===================+==================+===================+=========================+======================+ | CentOS Stream 9 | PASS | PASS | SKIPPED | SKIPPED | SKIPPED | SKIPPED | +-------------------------------+--------------------+-------------------+------------------+-------------------+-------------------------+----------------------+ | Debian GNU/Linux 12 | PEND | SKIPPED | SKIPPED | SKIPPED | SKIPPED | SKIPPED | +-------------------------------+--------------------+-------------------+------------------+-------------------+-------------------------+----------------------+ | Fedora 40 (Clang) | PASS | WARN | SKIPPED | SKIPPED | SKIPPED | SKIPPED | +-------------------------------+--------------------+-------------------+------------------+-------------------+-------------------------+----------------------+ | Fedora 41 | PEND | PEND | PEND | SKIPPED | SKIPPED | SKIPPED | +-------------------------------+--------------------+-------------------+------------------+-------------------+-------------------------+----------------------+ | CentOS Stream 10 | PASS | SKIPPED | SKIPPED | SKIPPED | SKIPPED | SKIPPED | +-------------------------------+--------------------+-------------------+------------------+-------------------+-------------------------+----------------------+ | Fedora 41 (Clang) | PEND | PEND | PEND | SKIPPED | SKIPPED | SKIPPED | +-------------------------------+--------------------+-------------------+------------------+-------------------+-------------------------+----------------------+ | Fedora 40 | PEND | PEND | SKIPPED | SKIPPED | SKIPPED | SKIPPED | +-------------------------------+--------------------+-------------------+------------------+-------------------+-------------------------+----------------------+ | Red Hat Enterprise Linux 9.5 | PASS | SKIPPED | SKIPPED | SKIPPED | SKIPPED | SKIPPED | +-------------------------------+--------------------+-------------------+------------------+-------------------+-------------------------+----------------------+ | openSUSE Leap 15.6 | PASS | SKIPPED | SKIPPED | SKIPPED | SKIPPED | SKIPPED | +-------------------------------+--------------------+-------------------+------------------+-------------------+-------------------------+----------------------+ | Red Hat Enterprise Linux 8.10 | PASS | SKIPPED | SKIPPED | SKIPPED | SKIPPED | SKIPPED | +-------------------------------+--------------------+-------------------+------------------+-------------------+-------------------------+----------------------+ | Ubuntu 20.04 | PASS | SKIPPED | SKIPPED | SKIPPED | SKIPPED | SKIPPED | +-------------------------------+--------------------+-------------------+------------------+-------------------+-------------------------+----------------------+ | Ubuntu 24.04 | PASS | PEND | PEND | SKIPPED | SKIPPED | SKIPPED | +-------------------------------+--------------------+-------------------+------------------+-------------------+-------------------------+----------------------+ | Alpine | PEND | SKIPPED | SKIPPED | SKIPPED | SKIPPED | SKIPPED | +-------------------------------+--------------------+-------------------+------------------+-------------------+-------------------------+----------------------+ | FreeBSD 14.2 | PASS | SKIPPED | SKIPPED | SKIPPED | SKIPPED | SKIPPED | +-------------------------------+--------------------+-------------------+------------------+-------------------+-------------------------+----------------------+ | Ubuntu 22.04 | PASS | PASS | SKIPPED | SKIPPED | SKIPPED | SKIPPED | +-------------------------------+--------------------+-------------------+------------------+-------------------+-------------------------+----------------------+ | Windows Server 2022 | SKIPPED | SKIPPED | SKIPPED | PASS | PASS | PEND | +-------------------------------+--------------------+-------------------+------------------+-------------------+-------------------------+----------------------+ ==== 20 line log output for Fedora 40 (Clang) (dpdk_compile_spdk): ==== --- Failed to get log output --- ==== End log output ==== CentOS Stream 9 Kernel: Depends on container host Compiler: gcc 11.5.0 20240719 (Red Hat 11.5.0-2) Debian GNU/Linux 12 Kernel: 5.15 Compiler: gcc gcc (Debian 12.2.0-14) 12.2.0 Fedora 40 (Clang) Kernel: Depends on container host Compiler: clang 18.1.8 (Fedora 18.1.8-1.fc40) Fedora 41 Kernel: Depends on container host Compiler: gcc 14.2.1 20240912 (Red Hat 14.2.1-3) CentOS Stream 10 Kernel: Depends on container host Compiler: gcc 14.2.1 20241104 (Red Hat 14.2.1-6) Fedora 41 (Clang) Kernel: Depends on container host Compiler: clang 19.1.5 (Fedora 19.1.5-1.fc41) Fedora 40 Kernel: Depends on container host Compiler: gcc 14.2.1 20240912 (Red Hat 14.2.1-3) Red Hat Enterprise Linux 9.5 Kernel: 5.15 Compiler: gcc gcc (GCC) 11.5.0 20240719 (Red Hat 11.5.0-2) openSUSE Leap 15.6 Kernel: 5.15 Compiler: gcc gcc (SUSE Linux) 7.5.0 Red Hat Enterprise Linux 8.10 Kernel: 5.15 Compiler: gcc gcc (GCC) 8.5.0 20210514 (Red Hat 8.5.0-22) Ubuntu 20.04 Kernel: 5.15 Compiler: gcc gcc (Ubuntu 9.4.0-1ubuntu1~20.04.2) 9.4.0 Ubuntu 24.04 Kernel: 5.15 Compiler: gcc gcc (Ubuntu 13.3.0-6ubuntu2~24.04) 13.3.0 Alpine Kernel: Depends on container host Compiler: gcc (Alpine 14.2.0) 14.2.0 FreeBSD 14.2 Kernel: 14.2-RELEASE Compiler: clang 18.1.6 Ubuntu 22.04 Kernel: 5.15 Compiler: gcc gcc (Ubuntu 11.4.0-1ubuntu1~22.04) 11.4.0 Windows Server 2022 Kernel: 10.0.20348.2031 Compiler: clang 15.0.7, gcc 14.1.0 (MinGW), and MSVC VS 19.39.33521 To view detailed results, visit: https://lab.dpdk.org/results/dashboard/patchsets/33356/ UNH-IOL DPDK Community Lab To manage your email subscriptions, visit: https://lab.dpdk.org/results/dashboard/preferences/subscriptions/