From mboxrd@z Thu Jan 1 00:00:00 1970 Return-Path: Received: from mails.dpdk.org (mails.dpdk.org [217.70.189.124]) by inbox.dpdk.org (Postfix) with ESMTP id 50C95468B7 for ; Mon, 9 Jun 2025 19:27:50 +0200 (CEST) Received: from mails.dpdk.org (localhost [127.0.0.1]) by mails.dpdk.org (Postfix) with ESMTP id 3F80440298; Mon, 9 Jun 2025 19:27:50 +0200 (CEST) Received: from mail-yw1-f228.google.com (mail-yw1-f228.google.com [209.85.128.228]) by mails.dpdk.org (Postfix) with ESMTP id D293F40298 for ; Mon, 9 Jun 2025 19:27:48 +0200 (CEST) Received: by mail-yw1-f228.google.com with SMTP id 00721157ae682-7111d02c777so9130647b3.3 for ; Mon, 09 Jun 2025 10:27:48 -0700 (PDT) DKIM-Signature: v=1; a=rsa-sha256; c=relaxed/relaxed; d=iol.unh.edu; s=unh-iol; t=1749490068; x=1750094868; darn=dpdk.org; h=references:in-reply-to:cc:to:from:subject:message-id:date:from:to :cc:subject:date:message-id:reply-to; bh=hA2UpgqwknmXulbqq0HJb/pWmTJpn7GDIuVMdUFEIRE=; b=QyYz8On6YtDOTZIofWeSeDARwauv9EcyAwu1iRGWaQnjJtgEhh8zi4NMIg04cA0BcG cqvQSgKceCDwuuwuCeDLKVynIgzBLPvMganzDFLzzzQvUfiJ0rR7W76xFkPI5k95VApd 8yNXqPQ2Jun9SLYibongGYhr9oPKCQYU+OhZU= X-Google-DKIM-Signature: v=1; a=rsa-sha256; c=relaxed/relaxed; d=1e100.net; s=20230601; t=1749490068; x=1750094868; h=references:in-reply-to:cc:to:from:subject:message-id:date :x-gm-message-state:from:to:cc:subject:date:message-id:reply-to; bh=hA2UpgqwknmXulbqq0HJb/pWmTJpn7GDIuVMdUFEIRE=; b=GFCKUk+hdWPvsCjNmJGhAmVwSdoXjlBXgZBwr4uR8mZXK1Q2wur/EsXzxU2aGRP3vz 1rrhswNEp/9aGgslP724263lpw9GMaaWVx5jRInQ25C2z5EYR6MM2QkjR/omGbuyitc7 7OSn0qv5LqVZmgK6Bi8O/63UG3vLYNlgicMI1YaCttGYZZlzufyeqElFAeOicTesoo4j 2VhqJXuMT6kdhD0cmk8pNH29OOtQJ5raCgHjlkImQWgrm59vqOjQnRJY9a0cMVKhpi2l WtIRh3GU77fnZFtDb8nOKPS2nsBzXxbtPbPOyheugwZ+FXOG++6ZLKWKhryXeIUng37d uBtg== X-Gm-Message-State: AOJu0YxjUNyS8QU8YhvsuHxqobSd67fogvgvUhExVKB958pvSCMztNqL FxFp2eWkSCghZNNZwAgDxpivhRs9rsJheELNeeXoVLv1Jno/J80U7ObNMZZoAyVqwT04DITcQYx hJrhqtDww0KP+1TRa/MCKA5CSvAH9guYWMWhvbuH8Pcq4oV0idvvU7qlIYLDC X-Gm-Gg: ASbGncsaz9TPOB5hfGJ7/EbUkL9I7b7dMR6d6CM/kW5h04otcweZa0q+vhkLH3/9u2O 6VTQwgiw06ge0Lcm4Ghnz3YeZhXXNe5Lp08/fT6CBErW87pZaBQW8GWECFlXIKNrWgLhwzCxkge tj+C67RUbLfGz1LnBtp5sGpwpBvYqLj9Q9Q4vxPF8VYUbbmPveaM8rdei2JWAWvodhHYFMpBHI1 njjj3rUANpFK77QNY7qygkwzRBVB3PjdY6CMIa4JvWE/jHNYmReAK3fGMETG3gCAewKQ/N84Ihi kAW6JkEN9awqWM9EIBL1WOoYyNmBHLQ++CUGN0AoSEj7UIc= X-Google-Smtp-Source: AGHT+IH5GoMe8bYlToBM87UYT7Y+IWjg/06N+S0eCcS1+jnpBEYyQZr0yL5XYBbAfiLl2mGJbPmSRVyqXWAu X-Received: by 2002:a05:690c:690f:b0:705:750e:851 with SMTP id 00721157ae682-710f7750b2cmr193931397b3.37.1749490068116; Mon, 09 Jun 2025 10:27:48 -0700 (PDT) Received: from postal.iol.unh.edu (postal.iol.unh.edu. [2606:4100:3880:1234::84]) by smtp-relay.gmail.com with ESMTPS id 00721157ae682-710f99eeff9sm276967b3.40.2025.06.09.10.27.48 (version=TLS1_2 cipher=ECDHE-ECDSA-AES128-GCM-SHA256 bits=128/128); Mon, 09 Jun 2025 10:27:48 -0700 (PDT) X-Relaying-Domain: iol.unh.edu Date: Mon, 09 Jun 2025 10:27:48 -0700 (PDT) Message-ID: <68471994.050a0220.a89a9.135cSMTPIN_ADDED_MISSING@mx.google.com> Received: from [172.21.0.5] (unknown [172.18.0.240]) by postal.iol.unh.edu (Postfix) with ESMTP id BC7DD6051830; Mon, 9 Jun 2025 13:27:47 -0400 (EDT) Subject: |SUCCESS| pw154152-154162 [PATCH] [v3,11/11] net/dpaa2: enable softw From: dpdklab@iol.unh.edu To: Test Report Cc: dpdk-test-reports@iol.unh.edu In-Reply-To: <20250609025450.3997062-12-g.singh@nxp.com> References: <20250609025450.3997062-12-g.singh@nxp.com> Content-Type: text/plain X-BeenThere: test-report@dpdk.org X-Mailman-Version: 2.1.29 Precedence: list List-Id: automatic DPDK test reports List-Unsubscribe: , List-Archive: List-Post: List-Help: List-Subscribe: , Errors-To: test-report-bounces@dpdk.org Test-Label: iol-compile-arm64-testing Test-Status: SUCCESS http://dpdk.org/patch/154162 _Testing PASS_ Submitter: Gagandeep Singh Date: Monday, June 09 2025 02:54:50 DPDK git baseline: Repo:dpdk Branch: master CommitID:6f2a5eccc8fd2f2d51a0fcc0e76ec9784fe2e047 154152-154162 --> testing pass Upstream job id: Generic-DPDK-Compile-Meson#395496 Test environment and result as below: +------------------------------+--------------------+ | Environment | dpdk_meson_compile | +==============================+====================+ | Red Hat Enterprise Linux 9.5 | PASS | +------------------------------+--------------------+ | Ubuntu 20.04 | PASS | +------------------------------+--------------------+ | Fedora 40 (ARM Clang) | PASS | +------------------------------+--------------------+ | Debian GNU/Linux 12 | PASS | +------------------------------+--------------------+ | Fedora 40 (ARM) | PASS | +------------------------------+--------------------+ | Fedora 41 (ARM) | PASS | +------------------------------+--------------------+ | Fedora 41 (ARM Clang) | PASS | +------------------------------+--------------------+ | Ubuntu 24.04 | PASS | +------------------------------+--------------------+ | Ubuntu 22.04 | PASS | +------------------------------+--------------------+ | CentOS Stream 10 (ARM) | PASS | +------------------------------+--------------------+ | CentOS Stream 9 (ARM) | PASS | +------------------------------+--------------------+ Red Hat Enterprise Linux 9.5 Kernel: 5.4 Compiler: gcc gcc (GCC) 11.5.0 20240719 (Red Hat 11.5.0-2) Ubuntu 20.04 Kernel: 5.15 Compiler: aarch64-linux-gnu-gcc gcc (Ubuntu 9.4.0-1ubuntu1~20.04.2) 9.4.0 Fedora 40 (ARM Clang) Kernel: Depends on container host Compiler: clang 18.1.8 (Fedora 18.1.8-1.fc40) Debian GNU/Linux 12 Kernel: 5.4 Compiler: gcc gcc (Debian 12.2.0-14) 12.2.0 Fedora 40 (ARM) Kernel: Depends on container host Compiler: gcc 14.2.1 20240912 (Red Hat 14.2.1-3) Fedora 41 (ARM) Kernel: Depends on container host Compiler: gcc 14.2.1 20240912 (Red Hat 14.2.1-3) Fedora 41 (ARM Clang) Kernel: Depends on container host Compiler: clang 19.1.5 (Fedora 19.1.5-1.fc41) Ubuntu 24.04 Kernel: 5.4 Compiler: gcc gcc (Ubuntu 13.3.0-6ubuntu2~24.04) 13.3.0 Ubuntu 22.04 Kernel: 5.4 Compiler: gcc gcc (Ubuntu 11.4.0-1ubuntu1~22.04) 11.4.0 CentOS Stream 10 (ARM) Kernel: Depends on container host Compiler: gcc 14.2.1 20241104 (Red Hat 14.2.1-6) CentOS Stream 9 (ARM) Kernel: Depends on container host Compiler: gcc 11.5.0 20240719 (Red Hat 11.5.0-2) To view detailed results, visit: https://lab.dpdk.org/results/dashboard/patchsets/33352/ UNH-IOL DPDK Community Lab To manage your email subscriptions, visit: https://lab.dpdk.org/results/dashboard/preferences/subscriptions/