From mboxrd@z Thu Jan  1 00:00:00 1970
Return-Path: <test-report-bounces@dpdk.org>
Received: from mails.dpdk.org (mails.dpdk.org [217.70.189.124])
	by inbox.dpdk.org (Postfix) with ESMTP id 4D206468B7
	for <public@inbox.dpdk.org>; Mon,  9 Jun 2025 19:37:35 +0200 (CEST)
Received: from mails.dpdk.org (localhost [127.0.0.1])
	by mails.dpdk.org (Postfix) with ESMTP id 463C540298;
	Mon,  9 Jun 2025 19:37:35 +0200 (CEST)
Received: from mail-pl1-f227.google.com (mail-pl1-f227.google.com
 [209.85.214.227])
 by mails.dpdk.org (Postfix) with ESMTP id 14AB140298
 for <test-report@dpdk.org>; Mon,  9 Jun 2025 19:37:34 +0200 (CEST)
Received: by mail-pl1-f227.google.com with SMTP id
 d9443c01a7336-235e1d710d8so55757255ad.1
 for <test-report@dpdk.org>; Mon, 09 Jun 2025 10:37:34 -0700 (PDT)
DKIM-Signature: v=1; a=rsa-sha256; c=relaxed/relaxed;
 d=iol.unh.edu; s=unh-iol; t=1749490653; x=1750095453; darn=dpdk.org;
 h=references:in-reply-to:cc:to:from:subject:message-id:date:from:to
 :cc:subject:date:message-id:reply-to;
 bh=TK6I7NogO9GlsTphRU4qOUkjCB2YAtaHpSIo+wcXifo=;
 b=U+XPQW11phEdBsxU5lf64aTzTf7vgXMwbGz4yHwsEdkxnx2Ga0lBUVL/ec6DvGcHj2
 j089AdhdH4vBcdmGdL3br8EwgyCRaWH8eUJy2dyrSVEb2c1QyjIKYaOBhw1nPbs89oPn
 R8AtynZlENYVLX+3WmcWQ9Vd1GIDYIfiPQBEI=
X-Google-DKIM-Signature: v=1; a=rsa-sha256; c=relaxed/relaxed;
 d=1e100.net; s=20230601; t=1749490653; x=1750095453;
 h=references:in-reply-to:cc:to:from:subject:message-id:date
 :x-gm-message-state:from:to:cc:subject:date:message-id:reply-to;
 bh=TK6I7NogO9GlsTphRU4qOUkjCB2YAtaHpSIo+wcXifo=;
 b=Klr7vW493mAhghG1+m2t1eKhY1dSzmuhFVZjd16up5XAyzeEblg28/xXdEC700HPkY
 Gb7eEFUsv7aqKex2dIMscKdHRwG22D6wlKsw1ViNU8pyqaeAU8goT75ZIXAlsUDKoyef
 8y7cGilMDdSW6WcM39/ryhSv2k4ZIMmZW7N7bmfLBssLTqautXivqIDxam5dm+bWgIsz
 aW3KFUDLnbFfF/2ZVbK1F+li2GhqwVB2arxN5AZV4GFI+YPKAW4EStXW0LwwB1uENc+1
 4WislDad3Dp06XP8b9CENb/D315lUPhe1DGCWee4i2RO54llnNgw/eNAualsQzqk5W+W
 ywrA==
X-Gm-Message-State: AOJu0YyGZwy0yoUZtU82S8LnOk1msWAYqW9JCgCF/TX2RBKP6hwO9gEo
 EVxTC76Luro7yP/q+7A/GBB/HXdxwkTd/pLLbzB4swqBALPWAJtbRjF/6eszyl4oDPpE1q46AhV
 xDxq9oW2aznPTCGBOBBNvfIMjnOarPa3zWUhRowstN7sp
X-Gm-Gg: ASbGncv5p4SAznMNTaOw8CJYMqtIw8wtEoJGSkJUU5mtWPf2FS2qX6WZQt28cnKAsyk
 TLfSjJn5iVKIgzh7+qhKv4+B0gmF/oGZxWZHa8OxyIeSjwchr2Xs7jMefbCFo0uAvxGewYFeJOx
 SsZF2TWtIMfgKjFzI0vYcc3Xl0hYRJUbKRDumYEHNmDLyQUD4fjjXMIplFai+RbsumaYhkEpo3c
 VogM+9VtGqrac42lOk/ION0Ga+IFGlbR72tZf+Yij3/l7lTwy9q8KH7pPbCKwhVK6ftSX1Ce2RP
 7RnBHYzT9v/jidq9HxfR4I189BBttDs8QCjEItba+1/+e54C0zQ0ratDWcY=
X-Google-Smtp-Source: AGHT+IFZWn/R9edsuODqyI2Mso0kpYjyvwU2t/4M9vgJku4w6eupRtM/rtuR0poa5skMesIZPeUE0VdhIwCX
X-Received: by 2002:a17:903:1d2:b0:234:d292:be7a with SMTP id
 d9443c01a7336-23601cf0ac4mr209824365ad.1.1749490653112; 
 Mon, 09 Jun 2025 10:37:33 -0700 (PDT)
Received: from postal.iol.unh.edu (postal.iol.unh.edu. [132.177.123.84])
 by smtp-relay.gmail.com with ESMTPS id
 d9443c01a7336-23603091576sm4143165ad.39.2025.06.09.10.37.32
 (version=TLS1_2 cipher=ECDHE-ECDSA-AES128-GCM-SHA256 bits=128/128);
 Mon, 09 Jun 2025 10:37:33 -0700 (PDT)
X-Relaying-Domain: iol.unh.edu
Date: Mon, 09 Jun 2025 10:37:33 -0700 (PDT)
Message-ID: <68471bdd.170a0220.60195.37d3SMTPIN_ADDED_MISSING@mx.google.com>
Received: from [172.21.0.5] (unknown [172.18.0.240])
 by postal.iol.unh.edu (Postfix) with ESMTP id 53ACD604D420;
 Mon,  9 Jun 2025 13:37:32 -0400 (EDT)
Subject: |SUCCESS| pw154196-154195 [PATCH] [3/3] net/hns3: fix can't use vect
From: dpdklab@iol.unh.edu
To: Test Report <test-report@dpdk.org>
Cc: dpdk-test-reports@iol.unh.edu
In-Reply-To: <20250609130651.2752977-4-huangdengdui@huawei.com>
References: <20250609130651.2752977-4-huangdengdui@huawei.com>
Content-Type: text/plain
X-BeenThere: test-report@dpdk.org
X-Mailman-Version: 2.1.29
Precedence: list
List-Id: automatic DPDK test reports <test-report.dpdk.org>
List-Unsubscribe: <https://mails.dpdk.org/options/test-report>,
 <mailto:test-report-request@dpdk.org?subject=unsubscribe>
List-Archive: <http://mails.dpdk.org/archives/test-report/>
List-Post: <mailto:test-report@dpdk.org>
List-Help: <mailto:test-report-request@dpdk.org?subject=help>
List-Subscribe: <https://mails.dpdk.org/listinfo/test-report>,
 <mailto:test-report-request@dpdk.org?subject=subscribe>
Errors-To: test-report-bounces@dpdk.org

Test-Label: iol-abi-testing
Test-Status: SUCCESS
http://dpdk.org/patch/154195

_Testing PASS_

Submitter: Dengdui Huang <huangdengdui@huawei.com>
Date: Monday, June 09 2025 13:06:51 
DPDK git baseline: Repo:dpdk
  Branch: master
  CommitID:6f2a5eccc8fd2f2d51a0fcc0e76ec9784fe2e047

154196-154195 --> testing pass

Upstream job id: Generic-DPDK-Compile-ABI#129415

Test environment and result as below:

+-------------------------------+----------+
|          Environment          | abi_test |
+===============================+==========+
| CentOS Stream 9               | PASS     |
+-------------------------------+----------+
| CentOS Stream 10              | PASS     |
+-------------------------------+----------+
| Fedora 40 (Clang)             | PASS     |
+-------------------------------+----------+
| Debian GNU/Linux 12           | PASS     |
+-------------------------------+----------+
| Fedora 41                     | PASS     |
+-------------------------------+----------+
| Fedora 40                     | PASS     |
+-------------------------------+----------+
| Fedora 41 (Clang)             | PASS     |
+-------------------------------+----------+
| Ubuntu 24.04                  | PASS     |
+-------------------------------+----------+
| Red Hat Enterprise Linux 9.5  | PASS     |
+-------------------------------+----------+
| Red Hat Enterprise Linux 8.10 | PASS     |
+-------------------------------+----------+
| openSUSE Leap 15.6            | PASS     |
+-------------------------------+----------+
| Ubuntu 22.04                  | PASS     |
+-------------------------------+----------+


CentOS Stream 9
	Kernel: Depends on container host
	Compiler: gcc 11.5.0 20240719 (Red Hat 11.5.0-2)

CentOS Stream 10
	Kernel: Depends on container host
	Compiler: gcc 14.2.1 20241104 (Red Hat 14.2.1-6)

Fedora 40 (Clang)
	Kernel: Depends on container host
	Compiler: clang 18.1.8 (Fedora 18.1.8-1.fc40)

Debian GNU/Linux 12
	Kernel: 5.15
	Compiler: gcc gcc (Debian 12.2.0-14) 12.2.0

Fedora 41
	Kernel: Depends on container host
	Compiler: gcc 14.2.1 20240912 (Red Hat 14.2.1-3)

Fedora 40
	Kernel: Depends on container host
	Compiler: gcc 14.2.1 20240912 (Red Hat 14.2.1-3)

Fedora 41 (Clang)
	Kernel: Depends on container host
	Compiler: clang 19.1.5 (Fedora 19.1.5-1.fc41)

Ubuntu 24.04
	Kernel: 5.15
	Compiler: gcc gcc (Ubuntu 13.3.0-6ubuntu2~24.04) 13.3.0

Red Hat Enterprise Linux 9.5
	Kernel: 5.15
	Compiler: gcc gcc (GCC) 11.5.0 20240719 (Red Hat 11.5.0-2)

Red Hat Enterprise Linux 8.10
	Kernel: 5.15
	Compiler: gcc gcc (GCC) 8.5.0 20210514 (Red Hat 8.5.0-22)

openSUSE Leap 15.6
	Kernel: 5.15
	Compiler: gcc gcc (SUSE Linux) 7.5.0

Ubuntu 22.04
	Kernel: 5.15
	Compiler: gcc gcc (Ubuntu 11.4.0-1ubuntu1~22.04) 11.4.0

To view detailed results, visit:
https://lab.dpdk.org/results/dashboard/patchsets/33361/

UNH-IOL DPDK Community Lab

To manage your email subscriptions, visit: 
https://lab.dpdk.org/results/dashboard/preferences/subscriptions/