From mboxrd@z Thu Jan 1 00:00:00 1970 Return-Path: Received: from mails.dpdk.org (mails.dpdk.org [217.70.189.124]) by inbox.dpdk.org (Postfix) with ESMTP id D34FD468B7 for ; Mon, 9 Jun 2025 19:41:12 +0200 (CEST) Received: from mails.dpdk.org (localhost [127.0.0.1]) by mails.dpdk.org (Postfix) with ESMTP id CBBA740E34; Mon, 9 Jun 2025 19:41:12 +0200 (CEST) Received: from mail-pf1-f228.google.com (mail-pf1-f228.google.com [209.85.210.228]) by mails.dpdk.org (Postfix) with ESMTP id BC80841611 for ; Mon, 9 Jun 2025 19:41:10 +0200 (CEST) Received: by mail-pf1-f228.google.com with SMTP id d2e1a72fcca58-7482377b086so2228818b3a.1 for ; Mon, 09 Jun 2025 10:41:10 -0700 (PDT) DKIM-Signature: v=1; a=rsa-sha256; c=relaxed/relaxed; d=iol.unh.edu; s=unh-iol; t=1749490870; x=1750095670; darn=dpdk.org; h=references:in-reply-to:cc:to:from:subject:message-id:date:from:to :cc:subject:date:message-id:reply-to; bh=PGmQ561g2NMLL7KFEFXrBBIl+X1JewsX6TjGmrYH6sk=; b=MSKF8opdsdIzEHxkEnxbj3lFU0DLZf4oVuXVrWUPPPVJgPPQRl1du8IDVhDn4qj3nz HC35x8dI4/AM97QQ0AIEgbE4gqY1rLegm5zx0Ep/k+PnS5awZTV34c48pRKBUcrQVD/u fvJVVvIxkOqnUKySPnfd9YluSp7miAUVnxX7c= X-Google-DKIM-Signature: v=1; a=rsa-sha256; c=relaxed/relaxed; d=1e100.net; s=20230601; t=1749490870; x=1750095670; h=references:in-reply-to:cc:to:from:subject:message-id:date :x-gm-message-state:from:to:cc:subject:date:message-id:reply-to; bh=PGmQ561g2NMLL7KFEFXrBBIl+X1JewsX6TjGmrYH6sk=; b=E6dR2XLaAfQr85XRqHA3qakBx3pl9Rt7AbjkCuWfeE68/IVtI23Z9W30NMWl0eafAI vaKPg863QaACCzNcsoozQjt+Ly20bK5QWh5xi5H/urUkTn6uC/ND6yS2c5DnK/8baGEy S4lhHr0bNDvr4MqE0X6SQlDhy/A97/gSK/K2+Zj2n+dhcNU41+7sq4VmoMOKjBNhBWlk IHekUwXTZ3f04Va3jkU5hTRpOoXP/gKKhPevenVpWjoL1Aca4Eoe7trwotsg/L55ixA4 wNOxQYkcZvnkEiZbe5Fixb9fUevM3Y0Jlqi5QcSO8nBI+Tno1EXnLiiTb1Cqc9WuqhW4 ez6Q== X-Gm-Message-State: AOJu0Yz+0PU2elKclfzTqz7EizSF+eDYwQpzGW8kgI264kU8kF//fghm 37ZdSIqIPmGB8MQ9kx5edQ2NsMAN8BloO+d3wkmJbVzCZQfimKrzbnekDGW/F+AI4U4u3h77wfh h+H1FHMwtJVFwqh0eRLEXAUF04ccAv+pJkSNAUOe4wA/f89olDmzBRlZfS7AJ X-Gm-Gg: ASbGncvCJXRI+44mJQlH0bTSEAKt/7k2EkdR51wm/AQatjcZD4TOx4wLT7Ij43lzbMw lYZ2Xu/ZjRXi9vMeXrf+HqNVEX9W+cDZvn8n4euBFLSjGx+Y2zA/CYg8wS8fGdExIaQmsWY+xhr SHnuh8veR4E8l20dHqF9oo21i6unPHxJZ6aOVM126Z4rATaEFoJFW3R6BC5SYhcAVWBFwbjlvcW aJ2amwJLFhco9+gcyF3YsbqelqIsAucUylZlK4UD1tdV/5UGWsYVyp1w105muDXeFJIocRGZJfg 6TCzvLmhRM4C4B7XInxdo0Vzxu5tXNXsm1QYMMUht6+b6us= X-Google-Smtp-Source: AGHT+IGAH0b9SjEE4pfUxWwsM8iOXnObyfKZM1qDK5hixq8yUgTkxb8uHHFw6yLc/mp2RgvkQlWXOJTnPUJ3 X-Received: by 2002:a05:6a21:33aa:b0:215:e3ca:eaaf with SMTP id adf61e73a8af0-21ee25003f2mr20634358637.15.1749490869590; Mon, 09 Jun 2025 10:41:09 -0700 (PDT) Received: from postal.iol.unh.edu (postal.iol.unh.edu. [2606:4100:3880:1234::84]) by smtp-relay.gmail.com with ESMTPS id 41be03b00d2f7-b2f5f310124sm513947a12.16.2025.06.09.10.41.09 (version=TLS1_2 cipher=ECDHE-ECDSA-AES128-GCM-SHA256 bits=128/128); Mon, 09 Jun 2025 10:41:09 -0700 (PDT) X-Relaying-Domain: iol.unh.edu Date: Mon, 09 Jun 2025 10:41:09 -0700 (PDT) Message-ID: <68471cb5.630a0220.275c9.95fdSMTPIN_ADDED_MISSING@mx.google.com> Received: from [172.21.0.10] (unknown [172.18.0.240]) by postal.iol.unh.edu (Postfix) with ESMTP id C3B11604D420; Mon, 9 Jun 2025 13:41:08 -0400 (EDT) Subject: |SUCCESS| pw154178 [PATCH] net/virtio: Fix check of threshold for Tx From: dpdklab@iol.unh.edu To: Test Report Cc: dpdk-test-reports@iol.unh.edu In-Reply-To: <20250609072347.1748785-1-hengqi.chen@gmail.com> References: <20250609072347.1748785-1-hengqi.chen@gmail.com> Content-Type: text/plain X-BeenThere: test-report@dpdk.org X-Mailman-Version: 2.1.29 Precedence: list List-Id: automatic DPDK test reports List-Unsubscribe: , List-Archive: List-Post: List-Help: List-Subscribe: , Errors-To: test-report-bounces@dpdk.org Test-Label: iol-abi-testing Test-Status: SUCCESS http://dpdk.org/patch/154178 _Testing PASS_ Submitter: Hengqi Chen Date: Monday, June 09 2025 07:23:47 DPDK git baseline: Repo:dpdk Branch: master CommitID:3223019e73391066cbb0d248051b163e5373034c 154178 --> testing pass Upstream job id: Generic-DPDK-Compile-ABI#129379 Test environment and result as below: +-------------------------------+----------+ | Environment | abi_test | +===============================+==========+ | Fedora 40 (Clang) | PASS | +-------------------------------+----------+ | CentOS Stream 9 | PASS | +-------------------------------+----------+ | Debian GNU/Linux 12 | PASS | +-------------------------------+----------+ | Fedora 41 (Clang) | PASS | +-------------------------------+----------+ | Fedora 40 | PASS | +-------------------------------+----------+ | Fedora 41 | PASS | +-------------------------------+----------+ | Red Hat Enterprise Linux 8.10 | PASS | +-------------------------------+----------+ | Ubuntu 22.04 | PASS | +-------------------------------+----------+ | openSUSE Leap 15.6 | PASS | +-------------------------------+----------+ | CentOS Stream 10 | PASS | +-------------------------------+----------+ Fedora 40 (Clang) Kernel: Depends on container host Compiler: clang 18.1.8 (Fedora 18.1.8-1.fc40) CentOS Stream 9 Kernel: Depends on container host Compiler: gcc 11.5.0 20240719 (Red Hat 11.5.0-2) Debian GNU/Linux 12 Kernel: 5.15 Compiler: gcc gcc (Debian 12.2.0-14) 12.2.0 Fedora 41 (Clang) Kernel: Depends on container host Compiler: clang 19.1.5 (Fedora 19.1.5-1.fc41) Fedora 40 Kernel: Depends on container host Compiler: gcc 14.2.1 20240912 (Red Hat 14.2.1-3) Fedora 41 Kernel: Depends on container host Compiler: gcc 14.2.1 20240912 (Red Hat 14.2.1-3) Red Hat Enterprise Linux 8.10 Kernel: 5.15 Compiler: gcc gcc (GCC) 8.5.0 20210514 (Red Hat 8.5.0-22) Ubuntu 22.04 Kernel: 5.15 Compiler: gcc gcc (Ubuntu 11.4.0-1ubuntu1~22.04) 11.4.0 openSUSE Leap 15.6 Kernel: 5.15 Compiler: gcc gcc (SUSE Linux) 7.5.0 CentOS Stream 10 Kernel: Depends on container host Compiler: gcc 14.2.1 20241104 (Red Hat 14.2.1-6) To view detailed results, visit: https://lab.dpdk.org/results/dashboard/patchsets/33356/ UNH-IOL DPDK Community Lab To manage your email subscriptions, visit: https://lab.dpdk.org/results/dashboard/preferences/subscriptions/