From mboxrd@z Thu Jan 1 00:00:00 1970 Return-Path: Received: from mails.dpdk.org (mails.dpdk.org [217.70.189.124]) by inbox.dpdk.org (Postfix) with ESMTP id 12F9C468BE for ; Mon, 9 Jun 2025 20:39:49 +0200 (CEST) Received: from mails.dpdk.org (localhost [127.0.0.1]) by mails.dpdk.org (Postfix) with ESMTP id F327B40E34; Mon, 9 Jun 2025 20:39:48 +0200 (CEST) Received: from mail-pf1-f227.google.com (mail-pf1-f227.google.com [209.85.210.227]) by mails.dpdk.org (Postfix) with ESMTP id 2A53040E34 for ; Mon, 9 Jun 2025 20:39:47 +0200 (CEST) Received: by mail-pf1-f227.google.com with SMTP id d2e1a72fcca58-747d59045a0so3195563b3a.1 for ; Mon, 09 Jun 2025 11:39:47 -0700 (PDT) DKIM-Signature: v=1; a=rsa-sha256; c=relaxed/relaxed; d=iol.unh.edu; s=unh-iol; t=1749494386; x=1750099186; darn=dpdk.org; h=references:in-reply-to:cc:to:from:subject:message-id:date:from:to :cc:subject:date:message-id:reply-to; bh=GxTZ4HLEnrR/6N6VNl4FGqP/f2OCrNAVSBKtDWu1Br0=; b=CQskhX6ExgsLVBsCT+mze1NSoGeLYuCjp8SvHIDLzllm0Q2p3QFQ852/+K4I5l90vP UwPc/fRE25goXDWJFji5yKjA8msehSHApTuRqFAb3Iev5AO0V/TVjeFj6AzB7rqiCy5u A0N0xYmpLipeV3c9yY9yJHWGoMevfYlW9qlJs= X-Google-DKIM-Signature: v=1; a=rsa-sha256; c=relaxed/relaxed; d=1e100.net; s=20230601; t=1749494386; x=1750099186; h=references:in-reply-to:cc:to:from:subject:message-id:date :x-gm-message-state:from:to:cc:subject:date:message-id:reply-to; bh=GxTZ4HLEnrR/6N6VNl4FGqP/f2OCrNAVSBKtDWu1Br0=; b=nAi09TOl3eOe0YjbbZQn3K1BA6MGTDY/dRUCSvr/X7c1NI5htjZIOff7Z10lpEtEUY YiRXL7c5XxoH93GQZUxOHLvaB7uPASTh/L6buWnOUgoyiMnOIS5yVSl8lHM1Dkuf3F24 jkKln0VuC1MFo1g8Ekis4vxXMmg0KsGGNHkLCrug7JQ00lhh7bBCG6ifAVQFtfhliGWh IsZ5GDVPVLNeAi4BpwMaCzckU5AtTVOUBQpNkPgShBfqRApu7gHkXx7oM4wARORiTuLj oUMyMPQz6/0LUV0+R2GiLCuiVxOs5FWWG5frWSU0U/zaLa/b9xXNrpNEqjoo/frF9Iwa busQ== X-Gm-Message-State: AOJu0Yzsp50Ncq+9J+qhmYtQjNoqaDgaythGa1pFkzFXdovKEqQd7xMM 6kPW22QMs/Qx5y5fUpWa6zpkfLKJRgkTYSMUFo4qZpWiWe2luin7k/z8Yr8SvYTDPuFj0YFJU2q 5reYYxMmNyPlnSoli8T46iEs1EIrOg62k/4eCTb4xMlFp X-Gm-Gg: ASbGncsaczEkuQIrthgGhmR4pa4sT/pJZWFMeI7zRmOsQMEz/wjLxpBlA9mhwacd7sr GnO2bUsYEfaUlNdy3wvr29PavhoQcy79xP6KAqDJAS6Q80qX4+R7QnSup5JEF5Sb3LsU5Knppm8 OFCYnNCfJhjJFd5Mj6vgF2oQOp0aZRtXBgYTx99N19qKZV13u2MoX+tXQFLWg8gMgg7dUOO3APA f2VpcN333JlzUv8IRFCj48tYPfsCKywH27IAQh0R1yGFJeuqQFEqbPK0hCfFvOb9NSl3up8cUKA GAMjBdCchRx/2tcjYiH8Bt9pIrmOP0zbvkbH1dOc0IM8+0YlFlJWXzHAwfewRHJqMtft3Q== X-Google-Smtp-Source: AGHT+IHjJ9MBqYoROhaTh9u5kNEbQ+TuSpUW3NHa3FS755BkrMN9lSzz7Jyf8Q7QlTPOeYeTuw5RsvlRQGmb X-Received: by 2002:a05:6a20:7353:b0:21a:e091:ac25 with SMTP id adf61e73a8af0-21ee250ca56mr21161675637.6.1749494386104; Mon, 09 Jun 2025 11:39:46 -0700 (PDT) Received: from postal.iol.unh.edu (postal.iol.unh.edu. [132.177.123.84]) by smtp-relay.gmail.com with ESMTPS id d2e1a72fcca58-7482b0de74fsm475003b3a.16.2025.06.09.11.39.45 (version=TLS1_2 cipher=ECDHE-ECDSA-AES128-GCM-SHA256 bits=128/128); Mon, 09 Jun 2025 11:39:46 -0700 (PDT) X-Relaying-Domain: iol.unh.edu Date: Mon, 09 Jun 2025 11:39:46 -0700 (PDT) Message-ID: <68472a72.050a0220.1c6e70.6bc8SMTPIN_ADDED_MISSING@mx.google.com> Received: from [172.21.0.9] (unknown [172.18.0.240]) by postal.iol.unh.edu (Postfix) with ESMTP id 543B5604D420; Mon, 9 Jun 2025 14:39:45 -0400 (EDT) Subject: |SUCCESS| pw154178 [PATCH] net/virtio: Fix check of threshold for Tx From: dpdklab@iol.unh.edu To: Test Report Cc: dpdk-test-reports@iol.unh.edu In-Reply-To: <20250609072347.1748785-1-hengqi.chen@gmail.com> References: <20250609072347.1748785-1-hengqi.chen@gmail.com> Content-Type: text/plain X-BeenThere: test-report@dpdk.org X-Mailman-Version: 2.1.29 Precedence: list List-Id: automatic DPDK test reports List-Unsubscribe: , List-Archive: List-Post: List-Help: List-Subscribe: , Errors-To: test-report-bounces@dpdk.org Test-Label: iol-compile-arm64-testing Test-Status: SUCCESS http://dpdk.org/patch/154178 _Testing PASS_ Submitter: Hengqi Chen Date: Monday, June 09 2025 07:23:47 DPDK git baseline: Repo:dpdk Branch: master CommitID:3223019e73391066cbb0d248051b163e5373034c 154178 --> testing pass Upstream job id: Generic-DPDK-Compile-Meson#395530 Test environment and result as below: +------------------------------+--------------------+ | Environment | dpdk_meson_compile | +==============================+====================+ | Red Hat Enterprise Linux 9.5 | PASS | +------------------------------+--------------------+ | Ubuntu 20.04 | PASS | +------------------------------+--------------------+ | Debian GNU/Linux 12 | PASS | +------------------------------+--------------------+ | Fedora 40 (ARM) | PASS | +------------------------------+--------------------+ | Fedora 40 (ARM Clang) | PASS | +------------------------------+--------------------+ | Fedora 41 (ARM) | PASS | +------------------------------+--------------------+ | Fedora 41 (ARM Clang) | PASS | +------------------------------+--------------------+ | Ubuntu 22.04 | PASS | +------------------------------+--------------------+ | Ubuntu 24.04 | PASS | +------------------------------+--------------------+ | CentOS Stream 9 (ARM) | PASS | +------------------------------+--------------------+ | CentOS Stream 10 (ARM) | PASS | +------------------------------+--------------------+ Red Hat Enterprise Linux 9.5 Kernel: 5.4 Compiler: gcc gcc (GCC) 11.5.0 20240719 (Red Hat 11.5.0-2) Ubuntu 20.04 Kernel: 5.15 Compiler: aarch64-linux-gnu-gcc gcc (Ubuntu 9.4.0-1ubuntu1~20.04.2) 9.4.0 Debian GNU/Linux 12 Kernel: 5.4 Compiler: gcc gcc (Debian 12.2.0-14) 12.2.0 Fedora 40 (ARM) Kernel: Depends on container host Compiler: gcc 14.2.1 20240912 (Red Hat 14.2.1-3) Fedora 40 (ARM Clang) Kernel: Depends on container host Compiler: clang 18.1.8 (Fedora 18.1.8-1.fc40) Fedora 41 (ARM) Kernel: Depends on container host Compiler: gcc 14.2.1 20240912 (Red Hat 14.2.1-3) Fedora 41 (ARM Clang) Kernel: Depends on container host Compiler: clang 19.1.5 (Fedora 19.1.5-1.fc41) Ubuntu 22.04 Kernel: 5.4 Compiler: gcc gcc (Ubuntu 11.4.0-1ubuntu1~22.04) 11.4.0 Ubuntu 24.04 Kernel: 5.4 Compiler: gcc gcc (Ubuntu 13.3.0-6ubuntu2~24.04) 13.3.0 CentOS Stream 9 (ARM) Kernel: Depends on container host Compiler: gcc 11.5.0 20240719 (Red Hat 11.5.0-2) CentOS Stream 10 (ARM) Kernel: Depends on container host Compiler: gcc 14.2.1 20241104 (Red Hat 14.2.1-6) To view detailed results, visit: https://lab.dpdk.org/results/dashboard/patchsets/33356/ UNH-IOL DPDK Community Lab To manage your email subscriptions, visit: https://lab.dpdk.org/results/dashboard/preferences/subscriptions/