From mboxrd@z Thu Jan 1 00:00:00 1970 Return-Path: Received: from mails.dpdk.org (mails.dpdk.org [217.70.189.124]) by inbox.dpdk.org (Postfix) with ESMTP id DD896468BD for ; Mon, 9 Jun 2025 21:06:55 +0200 (CEST) Received: from mails.dpdk.org (localhost [127.0.0.1]) by mails.dpdk.org (Postfix) with ESMTP id BF6A540E34; Mon, 9 Jun 2025 21:06:55 +0200 (CEST) Received: from mail-vs1-f97.google.com (mail-vs1-f97.google.com [209.85.217.97]) by mails.dpdk.org (Postfix) with ESMTP id C2AB640E34 for ; Mon, 9 Jun 2025 21:06:54 +0200 (CEST) Received: by mail-vs1-f97.google.com with SMTP id ada2fe7eead31-4c9cea30173so1593807137.3 for ; Mon, 09 Jun 2025 12:06:54 -0700 (PDT) DKIM-Signature: v=1; a=rsa-sha256; c=relaxed/relaxed; d=iol.unh.edu; s=unh-iol; t=1749496014; x=1750100814; darn=dpdk.org; h=references:in-reply-to:cc:to:from:subject:message-id:date:from:to :cc:subject:date:message-id:reply-to; bh=D2puQURcGPsnro0cH2GTvF50YrOiAOVqExefwuuOUdY=; b=gypV2xKrSraymGhFH+IuEcvoKjVyRPc84+OccSuMV+GdnEAmsUE8EufO4FwIkumUOA gJdb05dLq9J5CPPCs00uBRKBU2i/Kt0LoccV5AxQi+Y5dXm5S1PAmxBFxHVmnX2xPSnl WvfRPNfmAkXP5lxGripgN9n3/YyppfSlAyS6o= X-Google-DKIM-Signature: v=1; a=rsa-sha256; c=relaxed/relaxed; d=1e100.net; s=20230601; t=1749496014; x=1750100814; h=references:in-reply-to:cc:to:from:subject:message-id:date :x-gm-message-state:from:to:cc:subject:date:message-id:reply-to; bh=D2puQURcGPsnro0cH2GTvF50YrOiAOVqExefwuuOUdY=; b=R5y7LOEmw3vZjWwdICZ01ZzgmGy4yDAk8tDEOC9vS9VbcmpH1vvyKASxW6XIQ7dRuz f3VDTExWeEiXC0lxrByv7I5i7sfTD8F6pQiwuX5Cmo4aciv9PEpOMbDp36F//hMXQALf 3CEzis1TolgZm6Xl26hlJzVqYwMsiADi21lOXrZgktqfN4oE8aOI5nHB4NFeZAmcN5jh C3rsKkZt/grRAuxhqdCT7u4gV8SFse9Ph9xV1IgZH/yw8bm0RDuhXCyU5ovZuQAx9XR9 9OrskebJ7E5A0p+x09Mk4yGCtBBjxtOrkqfNpcJ8gpxmcwiA1UlHKrF/CnBBt30jz9pm K7YA== X-Gm-Message-State: AOJu0YwbBxHgqik4XdNSTTNvwYyOexjwKGDrJ7Xe75r/K9JCwq8kDCks puuY3ilPtwRqHIxqOhkJEcBjWXYmmL54t/jOwEOdqsshMgkbtqvJz0VRINBYDsG7RdKjYlKdsaU l1OZ53z4Y4aymOz0p37GPSNu4CfC7HbuWiGm0UhnnYqbqe8P0oAvkk+wCYmUE X-Gm-Gg: ASbGncsrj/tnc+1Y6SaC2H0s+XOVlOomRp6zA4qcQMADWfgLl9wlD6mEf78ZGRDv+2Z 3n5vMsd1i8u/jJ5AurSJfpy4ghTPq9BVO0ItM1W7JjNE+brQ+0Fn53bgwl5NnUjaUGZSb/nQFq5 dDgOmrqXwggShZzNHKtB4f3XWBGUBL3e4irKLfb9cRbUdgy3dAE2F4582UI1fketWn0wm6rGw0/ xU+zviZx0g/fJ0KnGfYZ/KkX7aseS+V2Hh0yNzIxG+hNWiqUcIeKgzwFxr03qhZKuT+r/lTcrip p+oHEoHkxUipcL2j0Rq3hd2bI6ZK9EMU/mEMYzKm1EUu4EE= X-Google-Smtp-Source: AGHT+IE5tcjCbJJ229dgPO2NDJmVbxcKrjqNX+qTwBRQ2bGHshcpWrYeXuJzQh33snTbke5RLt8OROIjExhx X-Received: by 2002:a05:6102:41ab:b0:4e6:f86b:141f with SMTP id ada2fe7eead31-4e772978e16mr11946326137.12.1749496014010; Mon, 09 Jun 2025 12:06:54 -0700 (PDT) Received: from postal.iol.unh.edu (postal.iol.unh.edu. [2606:4100:3880:1234::84]) by smtp-relay.gmail.com with ESMTPS id ada2fe7eead31-4e7738c8601sm447539137.3.2025.06.09.12.06.53 (version=TLS1_2 cipher=ECDHE-ECDSA-AES128-GCM-SHA256 bits=128/128); Mon, 09 Jun 2025 12:06:54 -0700 (PDT) X-Relaying-Domain: iol.unh.edu Date: Mon, 09 Jun 2025 12:06:54 -0700 (PDT) Message-ID: <684730ce.050a0220.11383f.441aSMTPIN_ADDED_MISSING@mx.google.com> Received: from [172.21.0.5] (unknown [172.18.0.240]) by postal.iol.unh.edu (Postfix) with ESMTP id AAC1F604D420; Mon, 9 Jun 2025 15:06:53 -0400 (EDT) Subject: |SUCCESS| pw154178 [PATCH] net/virtio: Fix check of threshold for Tx From: dpdklab@iol.unh.edu To: Test Report Cc: dpdk-test-reports@iol.unh.edu In-Reply-To: <20250609072347.1748785-1-hengqi.chen@gmail.com> References: <20250609072347.1748785-1-hengqi.chen@gmail.com> Content-Type: text/plain X-BeenThere: test-report@dpdk.org X-Mailman-Version: 2.1.29 Precedence: list List-Id: automatic DPDK test reports List-Unsubscribe: , List-Archive: List-Post: List-Help: List-Subscribe: , Errors-To: test-report-bounces@dpdk.org Test-Label: iol-unit-amd64-testing Test-Status: SUCCESS http://dpdk.org/patch/154178 _Testing PASS_ Submitter: Hengqi Chen Date: Monday, June 09 2025 07:23:47 DPDK git baseline: Repo:dpdk Branch: master CommitID:3223019e73391066cbb0d248051b163e5373034c 154178 --> testing pass Upstream job id: Generic-Unit-Test-DPDK#344378 Test environment and result as below: +-------------------------------+----------------+ | Environment | dpdk_unit_test | +===============================+================+ | CentOS Stream 9 | PASS | +-------------------------------+----------------+ | Fedora 40 | PASS | +-------------------------------+----------------+ | CentOS Stream 10 | PASS | +-------------------------------+----------------+ | Debian GNU/Linux 12 | PASS | +-------------------------------+----------------+ | Red Hat Enterprise Linux 8.10 | PASS | +-------------------------------+----------------+ | Fedora 41 | PASS | +-------------------------------+----------------+ | Fedora 40 (Clang) | PASS | +-------------------------------+----------------+ | Red Hat Enterprise Linux 9.5 | PASS | +-------------------------------+----------------+ | Fedora 41 (Clang) | PASS | +-------------------------------+----------------+ | Ubuntu 20.04 | PASS | +-------------------------------+----------------+ | Ubuntu 22.04 | PASS | +-------------------------------+----------------+ | Ubuntu 24.04 | PASS | +-------------------------------+----------------+ | Windows Server 2022 | PASS | +-------------------------------+----------------+ CentOS Stream 9 Kernel: Depends on container host Compiler: gcc 11.5.0 20240719 (Red Hat 11.5.0-2) Fedora 40 Kernel: Depends on container host Compiler: gcc 14.2.1 20240912 (Red Hat 14.2.1-3) CentOS Stream 10 Kernel: Depends on container host Compiler: gcc 14.2.1 20241104 (Red Hat 14.2.1-6) Debian GNU/Linux 12 Kernel: 5.15 Compiler: gcc gcc (Debian 12.2.0-14) 12.2.0 Red Hat Enterprise Linux 8.10 Kernel: 5.15 Compiler: gcc gcc (GCC) 8.5.0 20210514 (Red Hat 8.5.0-22) Fedora 41 Kernel: Depends on container host Compiler: gcc 14.2.1 20240912 (Red Hat 14.2.1-3) Fedora 40 (Clang) Kernel: Depends on container host Compiler: clang 18.1.8 (Fedora 18.1.8-1.fc40) Red Hat Enterprise Linux 9.5 Kernel: 5.15 Compiler: gcc gcc (GCC) 11.5.0 20240719 (Red Hat 11.5.0-2) Fedora 41 (Clang) Kernel: Depends on container host Compiler: clang 19.1.5 (Fedora 19.1.5-1.fc41) Ubuntu 20.04 Kernel: 5.15 Compiler: gcc gcc (Ubuntu 9.4.0-1ubuntu1~20.04.2) 9.4.0 Ubuntu 22.04 Kernel: 5.15 Compiler: gcc gcc (Ubuntu 11.4.0-1ubuntu1~22.04) 11.4.0 Ubuntu 24.04 Kernel: 5.15 Compiler: gcc gcc (Ubuntu 13.3.0-6ubuntu2~24.04) 13.3.0 Windows Server 2022 Kernel: 10.0.20348.2031 Compiler: clang 15.0.7, gcc 14.1.0 (MinGW), and MSVC VS 19.39.33521 To view detailed results, visit: https://lab.dpdk.org/results/dashboard/patchsets/33356/ UNH-IOL DPDK Community Lab To manage your email subscriptions, visit: https://lab.dpdk.org/results/dashboard/preferences/subscriptions/