From mboxrd@z Thu Jan 1 00:00:00 1970 Return-Path: Received: from mails.dpdk.org (mails.dpdk.org [217.70.189.124]) by inbox.dpdk.org (Postfix) with ESMTP id 13161468C3 for ; Tue, 10 Jun 2025 11:21:35 +0200 (CEST) Received: from mails.dpdk.org (localhost [127.0.0.1]) by mails.dpdk.org (Postfix) with ESMTP id 0E70942E5D; Tue, 10 Jun 2025 11:21:35 +0200 (CEST) Received: from mail-pg1-f227.google.com (mail-pg1-f227.google.com [209.85.215.227]) by mails.dpdk.org (Postfix) with ESMTP id 170BD42E5D for ; Tue, 10 Jun 2025 11:21:34 +0200 (CEST) Received: by mail-pg1-f227.google.com with SMTP id 41be03b00d2f7-b2c4476d381so4429861a12.0 for ; Tue, 10 Jun 2025 02:21:34 -0700 (PDT) DKIM-Signature: v=1; a=rsa-sha256; c=relaxed/relaxed; d=iol.unh.edu; s=unh-iol; t=1749547293; x=1750152093; darn=dpdk.org; h=references:in-reply-to:cc:to:from:subject:message-id:date:from:to :cc:subject:date:message-id:reply-to; bh=3Na1RFysY5bm2PFLyzhgOnvYUgdLDlbAJbil1AzC7iw=; b=RDrrxsHDbReePMTVBXpwJHiU88IyE1022kodaBEVujmd/5PX2q1PQgSkR0hQ5C4Hkz Y5GHbX8wHg5/XbqxfiQd9650UZltBJr8uJlkEwRVL4YkBqR9IKS6QM2TQN66m/aRFTJQ NLU8Y2+gpaPcf4c6CyprIjubynAlqk6c1GNec= X-Google-DKIM-Signature: v=1; a=rsa-sha256; c=relaxed/relaxed; d=1e100.net; s=20230601; t=1749547293; x=1750152093; h=references:in-reply-to:cc:to:from:subject:message-id:date :x-gm-message-state:from:to:cc:subject:date:message-id:reply-to; bh=3Na1RFysY5bm2PFLyzhgOnvYUgdLDlbAJbil1AzC7iw=; b=qklv+Mtfm23eU3qj81XqjBBmLE+L/f4MeanUZhIHXz8AlV3fw6AQoQ4bzcygVn2Tyt j3bv016IOJPEso+VgNGSAjJFo9SaIlN1HHFLVvlBYVKmcASlO2eLG0XUdfGIcg0Ut/7f ix/5HHsJ+IwetJR3FfroVc7tZze7j65cDeeXZGyqxNMe759uMJwaQwLOojDth9BIlrvb MH/L/TRdVHqSbk5cKfRfrq/20SdCxRFa7L3s008tLFV14zxnpSWBPMwk26JcHfiakqnb cxXiu5whrQJnbkyuk3lohdjZ6vCJujFDqDIUDa4HNtlo3ksT8ylbVDzmEgnFd1qFEPe9 C0xA== X-Gm-Message-State: AOJu0YzcnMZ9uGAXA0J6ItL0GGJl7HuDwiPqfLlsoLxMwIRWDTI5LSbE 142Dlsv6XM6Ea5tS5BeWZLZ7RZHNa0hOBthZ5m5oEDoP9JccLzOjg/Sh/CIgy2k+LpsEueb2gSC HmoqcT9QXk07thMJPmy9waHGKEo5jcwHeByo15mTmO2JB X-Gm-Gg: ASbGncsfP5GHyO1AfN2KWY4qRlcXqgr5WoG/CyzVdEl1qX6GtxlHnSxOALf/u25EI/c 8VH9MHZf+MRGMAHFHnQKdrd3ArdhD21M+7m0AdRHsNIEH2KbMXPsM6Qf3NlewGDIAquhNNO0C4T TFWPJmyUwWXISXbz4gqrSaHXxUtyqPwF9jTpUv6X7a6PhDlfgvJfGhLSbvKulM9YhA1+VhIJizu BJG1D3PVTDNoF4j4A8xHJZ/M+X3EipxG2ZQE9JjzdFv51B7kNQSos6vXcEINH30l3gYIl7SGBvw joiYy2LPIce4IJChT0HhBdhrnwAy1I6+o6aH+6kw9PGrqqiT0QwaU3ab8JYKlWhqcUJf8g== X-Google-Smtp-Source: AGHT+IG65HPiCrWSLJjUFTAX6t41vcZRw0D7r2gCd5iziJ+3mPjPy0gVllbwkFVdxcwzswz4RR6K4UqJqPWi X-Received: by 2002:a17:90b:582e:b0:311:a5ab:3d47 with SMTP id 98e67ed59e1d1-3139dfc339fmr3994282a91.1.1749547293123; Tue, 10 Jun 2025 02:21:33 -0700 (PDT) Received: from postal.iol.unh.edu (postal.iol.unh.edu. [132.177.123.84]) by smtp-relay.gmail.com with ESMTPS id 98e67ed59e1d1-3134b074a68sm574942a91.5.2025.06.10.02.21.33 (version=TLS1_2 cipher=ECDHE-ECDSA-AES128-GCM-SHA256 bits=128/128); Tue, 10 Jun 2025 02:21:33 -0700 (PDT) X-Relaying-Domain: iol.unh.edu Date: Tue, 10 Jun 2025 02:21:33 -0700 (PDT) Message-ID: <6847f91d.170a0220.9bd5d.b08cSMTPIN_ADDED_MISSING@mx.google.com> Received: from [172.21.0.10] (unknown [172.18.0.240]) by postal.iol.unh.edu (Postfix) with ESMTP id 4891F6050A62; Tue, 10 Jun 2025 05:21:32 -0400 (EDT) Subject: |SUCCESS| pw154234-154241 [PATCH] [8/8] net/r8169: update HW configu From: dpdklab@iol.unh.edu To: Test Report Cc: dpdk-test-reports@iol.unh.edu In-Reply-To: <20250610060123.4104-8-howard_wang@realsil.com.cn> References: <20250610060123.4104-8-howard_wang@realsil.com.cn> Content-Type: text/plain X-BeenThere: test-report@dpdk.org X-Mailman-Version: 2.1.29 Precedence: list List-Id: automatic DPDK test reports List-Unsubscribe: , List-Archive: List-Post: List-Help: List-Subscribe: , Errors-To: test-report-bounces@dpdk.org Test-Label: iol-abi-testing Test-Status: SUCCESS http://dpdk.org/patch/154241 _Testing PASS_ Submitter: Howard Wang Date: Tuesday, June 10 2025 06:01:23 DPDK git baseline: Repo:dpdk Branch: master CommitID:d7355f98db2eb1b1bae7fcbb3339f6e8b97fe296 154234-154241 --> testing pass Upstream job id: Generic-DPDK-Compile-ABI#129569 Test environment and result as below: +-------------------------------+----------+ | Environment | abi_test | +===============================+==========+ | CentOS Stream 9 | PASS | +-------------------------------+----------+ | Debian GNU/Linux 12 | PASS | +-------------------------------+----------+ | Fedora 40 | PASS | +-------------------------------+----------+ | Fedora 41 (Clang) | PASS | +-------------------------------+----------+ | Fedora 40 (Clang) | PASS | +-------------------------------+----------+ | Fedora 41 | PASS | +-------------------------------+----------+ | CentOS Stream 10 | PASS | +-------------------------------+----------+ | openSUSE Leap 15.6 | PASS | +-------------------------------+----------+ | Ubuntu 24.04 | PASS | +-------------------------------+----------+ | Red Hat Enterprise Linux 8.10 | PASS | +-------------------------------+----------+ | Red Hat Enterprise Linux 9.5 | PASS | +-------------------------------+----------+ | Ubuntu 22.04 | PASS | +-------------------------------+----------+ CentOS Stream 9 Kernel: Depends on container host Compiler: gcc 11.5.0 20240719 (Red Hat 11.5.0-2) Debian GNU/Linux 12 Kernel: 5.15 Compiler: gcc gcc (Debian 12.2.0-14) 12.2.0 Fedora 40 Kernel: Depends on container host Compiler: gcc 14.2.1 20240912 (Red Hat 14.2.1-3) Fedora 41 (Clang) Kernel: Depends on container host Compiler: clang 19.1.5 (Fedora 19.1.5-1.fc41) Fedora 40 (Clang) Kernel: Depends on container host Compiler: clang 18.1.8 (Fedora 18.1.8-1.fc40) Fedora 41 Kernel: Depends on container host Compiler: gcc 14.2.1 20240912 (Red Hat 14.2.1-3) CentOS Stream 10 Kernel: Depends on container host Compiler: gcc 14.2.1 20241104 (Red Hat 14.2.1-6) openSUSE Leap 15.6 Kernel: 5.15 Compiler: gcc gcc (SUSE Linux) 7.5.0 Ubuntu 24.04 Kernel: 5.15 Compiler: gcc gcc (Ubuntu 13.3.0-6ubuntu2~24.04) 13.3.0 Red Hat Enterprise Linux 8.10 Kernel: 5.15 Compiler: gcc gcc (GCC) 8.5.0 20210514 (Red Hat 8.5.0-22) Red Hat Enterprise Linux 9.5 Kernel: 5.15 Compiler: gcc gcc (GCC) 11.5.0 20240719 (Red Hat 11.5.0-2) Ubuntu 22.04 Kernel: 5.15 Compiler: gcc gcc (Ubuntu 11.4.0-1ubuntu1~22.04) 11.4.0 To view detailed results, visit: https://lab.dpdk.org/results/dashboard/patchsets/33367/ UNH-IOL DPDK Community Lab To manage your email subscriptions, visit: https://lab.dpdk.org/results/dashboard/preferences/subscriptions/