From mboxrd@z Thu Jan  1 00:00:00 1970
Return-Path: <test-report-bounces@dpdk.org>
Received: from mails.dpdk.org (mails.dpdk.org [217.70.189.124])
	by inbox.dpdk.org (Postfix) with ESMTP id 6C7CE468CC
	for <public@inbox.dpdk.org>; Wed, 11 Jun 2025 01:52:46 +0200 (CEST)
Received: from mails.dpdk.org (localhost [127.0.0.1])
	by mails.dpdk.org (Postfix) with ESMTP id 63C67400EF;
	Wed, 11 Jun 2025 01:52:46 +0200 (CEST)
Received: from mail-oa1-f99.google.com (mail-oa1-f99.google.com
 [209.85.160.99]) by mails.dpdk.org (Postfix) with ESMTP id 40D57400EF
 for <test-report@dpdk.org>; Wed, 11 Jun 2025 01:52:44 +0200 (CEST)
Received: by mail-oa1-f99.google.com with SMTP id
 586e51a60fabf-2db2f23f174so3484419fac.2
 for <test-report@dpdk.org>; Tue, 10 Jun 2025 16:52:44 -0700 (PDT)
DKIM-Signature: v=1; a=rsa-sha256; c=relaxed/relaxed;
 d=iol.unh.edu; s=unh-iol; t=1749599563; x=1750204363; darn=dpdk.org;
 h=references:in-reply-to:cc:to:from:subject:message-id:date:from:to
 :cc:subject:date:message-id:reply-to;
 bh=N8rB8/MEHBQDYwF2TAAqj1uBoE9X3oIaup+m2s9SDOk=;
 b=AFjMec0UKeOwGzhnCbKskMLiI9b4tJAhMrF2/Ha1kRDINPjqGxklSm76HBXMhy4r+d
 lQr2SMymxiGtPq8C6eyfbPl8quYUGZZKquXa9+k0KlefOjmD5G8rt/S+F8Fb8jU4TOcj
 eMyYfsysUQUanXfHTA05lxhHiba2zdCvTnfSM=
X-Google-DKIM-Signature: v=1; a=rsa-sha256; c=relaxed/relaxed;
 d=1e100.net; s=20230601; t=1749599563; x=1750204363;
 h=references:in-reply-to:cc:to:from:subject:message-id:date
 :x-gm-message-state:from:to:cc:subject:date:message-id:reply-to;
 bh=N8rB8/MEHBQDYwF2TAAqj1uBoE9X3oIaup+m2s9SDOk=;
 b=wwMxsUz+w+plQbmEUr9lJMzLOkjaeSIvdYXDlS9BRYaa/Do6CiP9bwcORaJIhchrA7
 rFFlV+3oHtUpNpMpCURLzY6v0nFoc0dB5KUKvqzMug97It+Sfjj0/lWPbqgXufbaJT39
 leVZ9Ttz29eIctil+w5jDGGop8wmGQJ+ruupEJAC6bUjgqT5KMMhUeWQR5RVXN+aD+a6
 S98UnG+7EE7hD7HnTON+ZG0Me1PvM/njCIKn91dLpdFKilFJc5qtQ3aRpJlw0eKObC6T
 pAndwa/PyP7wiRgVfqgWVnja8jEfRVfcIGsBs18fEN67l0ueSvvvG99HPgupyiz6tB/X
 /uDg==
X-Gm-Message-State: AOJu0YzaZoK88fTC1lkAlSd36koTi+y+BqHRlBlFdbAMXCTEfeY0/LJr
 k+NuH2GX09Q/F4GuWGccEokSNmIMtwKv08/VlBeB0jggdi5VtnmWKrj+pdvwijD70pVvURltV4Y
 C67W7pMRxLRoCpSSPIkLnMtSaOir4JMXtttJ67Od1bx0e
X-Gm-Gg: ASbGncsLc5GJXJ25kYwE6K7pelYx5bUWccPesWI4PV4aRCF+ma48fkRP784OAe/HwKK
 rv8ueqaF2zXQzhIzlQb79wf/Ehp1iVt4yFfcC+uqcPCyI+4zrPZAuuNpmvsglU49kJt3jMntXAH
 oxjgy7fY8SUAgibzMHLAyotaX/5Dpkd7Rmpdd0uXBPcswxJCWPx+TWMLg8PVk8CiUvjR8V0c+J4
 nxSLsh3zXqJyacQNi2T6b0AwXTR3uC7f2ekbYKizCIFJOtfUgAZIOTIuTtEerM0Gk4OuVzaKKkF
 1JzIaBlPy6zLWZTXJMSk0CTpgTZZQNhMwDSm/W1pIBrrnHHoOqOdRoyjUgAwZ4HpmhlhAg==
X-Google-Smtp-Source: AGHT+IGdLq0yQPlYsdgsEtbQnNBbR+qcR2i1glihK8Hwplxlbwo5WGPNalIiK9jGrJvh2XJu9bCVlKHdDDU5
X-Received: by 2002:a05:6870:168b:b0:2c2:5b08:8e42 with SMTP id
 586e51a60fabf-2ea96f2825amr813854fac.27.1749599563465; 
 Tue, 10 Jun 2025 16:52:43 -0700 (PDT)
Received: from postal.iol.unh.edu (postal.iol.unh.edu. [132.177.123.84])
 by smtp-relay.gmail.com with ESMTPS id
 586e51a60fabf-2ea070a7cd2sm557972fac.16.2025.06.10.16.52.43
 (version=TLS1_2 cipher=ECDHE-ECDSA-AES128-GCM-SHA256 bits=128/128);
 Tue, 10 Jun 2025 16:52:43 -0700 (PDT)
X-Relaying-Domain: iol.unh.edu
Date: Tue, 10 Jun 2025 16:52:43 -0700 (PDT)
Message-ID: <6848c54b.050a0220.cc6b0.8eedSMTPIN_ADDED_MISSING@mx.google.com>
Received: from [172.17.0.3] (unknown [172.18.0.74])
 by postal.iol.unh.edu (Postfix) with ESMTP id EDBD96051830;
 Tue, 10 Jun 2025 19:52:42 -0400 (EDT)
Subject: |SUCCESS| pw154259-154260 [PATCH] [2/2] test/lcore: fix build with M
From: dpdklab@iol.unh.edu
To: Test Report <test-report@dpdk.org>
Cc: dpdk-test-reports@iol.unh.edu
In-Reply-To: <20250610083643.8466-2-david.marchand@redhat.com>
References: <20250610083643.8466-2-david.marchand@redhat.com>
Content-Type: text/plain
X-BeenThere: test-report@dpdk.org
X-Mailman-Version: 2.1.29
Precedence: list
List-Id: automatic DPDK test reports <test-report.dpdk.org>
List-Unsubscribe: <https://mails.dpdk.org/options/test-report>,
 <mailto:test-report-request@dpdk.org?subject=unsubscribe>
List-Archive: <http://mails.dpdk.org/archives/test-report/>
List-Post: <mailto:test-report@dpdk.org>
List-Help: <mailto:test-report-request@dpdk.org?subject=help>
List-Subscribe: <https://mails.dpdk.org/listinfo/test-report>,
 <mailto:test-report-request@dpdk.org?subject=subscribe>
Errors-To: test-report-bounces@dpdk.org

Test-Label: iol-compile-arm64-testing
Test-Status: SUCCESS
http://dpdk.org/patch/154260

_Testing PASS_

Submitter: David Marchand <david.marchand@redhat.com>
Date: Tuesday, June 10 2025 08:36:42 
DPDK git baseline: Repo:dpdk
  Branch: master
  CommitID:b1f3a7a8c375fbb66be48aed078222686d16fdb5

154259-154260 --> testing pass

Upstream job id: Generic-DPDK-Compile-Meson#396024

Test environment and result as below:

+------------------------------+--------------------+
|         Environment          | dpdk_meson_compile |
+==============================+====================+
| Red Hat Enterprise Linux 9.5 | PASS               |
+------------------------------+--------------------+
| Ubuntu 20.04                 | PASS               |
+------------------------------+--------------------+
| Debian GNU/Linux 12          | PASS               |
+------------------------------+--------------------+
| Fedora 40 (ARM)              | PASS               |
+------------------------------+--------------------+
| Fedora 40 (ARM Clang)        | PASS               |
+------------------------------+--------------------+
| Fedora 41 (ARM Clang)        | PASS               |
+------------------------------+--------------------+
| Ubuntu 22.04                 | PASS               |
+------------------------------+--------------------+
| Ubuntu 24.04                 | PASS               |
+------------------------------+--------------------+
| CentOS Stream 9 (ARM)        | PASS               |
+------------------------------+--------------------+
| CentOS Stream 10 (ARM)       | PASS               |
+------------------------------+--------------------+
| Fedora 41 (ARM)              | PASS               |
+------------------------------+--------------------+


Red Hat Enterprise Linux 9.5
	Kernel: 5.4
	Compiler: gcc gcc (GCC) 11.5.0 20240719 (Red Hat 11.5.0-2)

Ubuntu 20.04
	Kernel: 5.15
	Compiler: aarch64-linux-gnu-gcc gcc (Ubuntu 9.4.0-1ubuntu1~20.04.2) 9.4.0

Debian GNU/Linux 12
	Kernel: 5.4
	Compiler: gcc gcc (Debian 12.2.0-14) 12.2.0

Fedora 40 (ARM)
	Kernel: Depends on container host
	Compiler: gcc 14.2.1 20240912 (Red Hat 14.2.1-3)

Fedora 40 (ARM Clang)
	Kernel: Depends on container host
	Compiler: clang 18.1.8 (Fedora 18.1.8-1.fc40)

Fedora 41 (ARM Clang)
	Kernel: Depends on container host
	Compiler: clang 19.1.5 (Fedora 19.1.5-1.fc41)

Ubuntu 22.04
	Kernel: 5.4
	Compiler: gcc gcc (Ubuntu 11.4.0-1ubuntu1~22.04) 11.4.0

Ubuntu 24.04
	Kernel: 5.4
	Compiler: gcc gcc (Ubuntu 13.3.0-6ubuntu2~24.04) 13.3.0

CentOS Stream 9 (ARM)
	Kernel: Depends on container host
	Compiler: gcc 11.5.0 20240719 (Red Hat 11.5.0-2)

CentOS Stream 10 (ARM)
	Kernel: Depends on container host
	Compiler: gcc 14.2.1 20241104 (Red Hat 14.2.1-6)

Fedora 41 (ARM)
	Kernel: Depends on container host
	Compiler: gcc 14.2.1 20240912 (Red Hat 14.2.1-3)

To view detailed results, visit:
https://lab.dpdk.org/results/dashboard/patchsets/33371/

UNH-IOL DPDK Community Lab

To manage your email subscriptions, visit: 
https://lab.dpdk.org/results/dashboard/preferences/subscriptions/