From mboxrd@z Thu Jan 1 00:00:00 1970 Return-Path: Received: from mails.dpdk.org (mails.dpdk.org [217.70.189.124]) by inbox.dpdk.org (Postfix) with ESMTP id A6464468D4 for ; Wed, 11 Jun 2025 10:48:00 +0200 (CEST) Received: from mails.dpdk.org (localhost [127.0.0.1]) by mails.dpdk.org (Postfix) with ESMTP id 9C886402C6; Wed, 11 Jun 2025 10:48:00 +0200 (CEST) Received: from mail-yb1-f228.google.com (mail-yb1-f228.google.com [209.85.219.228]) by mails.dpdk.org (Postfix) with ESMTP id 58C52402C6 for ; Wed, 11 Jun 2025 10:47:59 +0200 (CEST) Received: by mail-yb1-f228.google.com with SMTP id 3f1490d57ef6-e7569ccf04cso5386515276.0 for ; Wed, 11 Jun 2025 01:47:59 -0700 (PDT) DKIM-Signature: v=1; a=rsa-sha256; c=relaxed/relaxed; d=iol.unh.edu; s=unh-iol; t=1749631678; x=1750236478; darn=dpdk.org; h=references:in-reply-to:cc:to:from:subject:message-id:date:from:to :cc:subject:date:message-id:reply-to; bh=ZtuyGFMh1ZGw/NLK5jJ6BfFFxPbNNrdj2cm092xZkP4=; b=U/whkBmQhH9J8Zajm2iYiyFYIdZlEfgKwDEz0MbTvhFNaCqXP6XfKio43o+lgqoSZX XCxbkPv+Xa4eGrW/IWr/242/dvUMi63pA7sSYCa7TtIj6y6/B/7cwEK6ZQRSpylW2W5o zdC6CQ6X++k+LpE1pAwJn//DdNYaFB0njgrPY= X-Google-DKIM-Signature: v=1; a=rsa-sha256; c=relaxed/relaxed; d=1e100.net; s=20230601; t=1749631678; x=1750236478; h=references:in-reply-to:cc:to:from:subject:message-id:date :x-gm-message-state:from:to:cc:subject:date:message-id:reply-to; bh=ZtuyGFMh1ZGw/NLK5jJ6BfFFxPbNNrdj2cm092xZkP4=; b=VT0bMBf2h3myJAFB4Gh9vIFP1Dja5HIR0REiWPKlIwGtPNfHqTN8GV+RK7zXnDjxRm 0j8c1/sRvljmU7OaC82+1soTUzaPzPTAMp8Ni87rGMTFhn9S1M6MitYNO59YXQ0GQ/UP OqK0oWPygdkHTcCg79sP+/YNJ8Uta4tTZKPCQ5YyRmCGqrMI23jPCbfjI7qeSrdDU4RZ gh65XacMcH6WAHmu9yl/ShWCdfciDEhD27huSVnITlcXXqnOVKmqh/VxZ/oCT7UyuZKl U7RBgvgpDzTzS3Z9GemrEpQs5F65L7SZ0U9rYKrt6VpS1WPZH0F1ITwUXj4VMuuM/u9C 1QQw== X-Gm-Message-State: AOJu0Yz4g8gzMV0cagKbYH/vMjXZfqmYiC1VsN9v5qW6hpqAA3cQaRQg d+ehmFtsilCyVXerfgcJidw7z/NbzHdextm9F86SEP7C1sj1ohFPs4O9cHRxQ55Uz5LRIe85WNG Wt8xgNQX03fKFqjlWYWjeB81cCJupgpjbekMPE+pV/u1g X-Gm-Gg: ASbGncv6FUe3MnmHLVXN8W8GeLQzyvsnkzS/pvEzKFwQCl7MBvTh45HgdGFx7kXigBX gPPEU0d9CFXeGcVo3jlM78DONu58NhTorxMxdJ1aYsJfa1DEpfqa/eWR7N7ZZmn0i+x+Bx4NEbD FX5NrvxBzZe95rmg2S5Hl6bNZ+ig8e0lMEVR9eq0uHMQPtmosIdulLbAjWXIO8vnrztqlbo/RVc TbAnxve/zOyMQ8EFIrMG4r+u4oVR0wnt8cpQuSUYfYhl7NW3EldkTDviq3tpfBiMqmNhP+tnGdY 81U6V32Z/7z5tyPT5KF8Y80iPaf3YXF/0S5EMXM33PK5aZ/ytH2O1iTH3q0DGNLT4AtM3A== X-Google-Smtp-Source: AGHT+IG9yp9/cwlBGFEyMNKdJOhA96BckqUiN/ZiPa/G0aKkQ8YLFmRuY6o94B31+eLsc+Ayvwf8idxRlg/G X-Received: by 2002:a05:6902:2210:b0:e81:7e16:aacb with SMTP id 3f1490d57ef6-e81fd9b3405mr3263089276.29.1749631678709; Wed, 11 Jun 2025 01:47:58 -0700 (PDT) Received: from postal.iol.unh.edu (postal.iol.unh.edu. [132.177.123.84]) by smtp-relay.gmail.com with ESMTPS id 3f1490d57ef6-e81a401805fsm742724276.9.2025.06.11.01.47.58 (version=TLS1_2 cipher=ECDHE-ECDSA-AES128-GCM-SHA256 bits=128/128); Wed, 11 Jun 2025 01:47:58 -0700 (PDT) X-Relaying-Domain: iol.unh.edu Date: Wed, 11 Jun 2025 01:47:58 -0700 (PDT) Message-ID: <684942be.250a0220.338d8d.2aa1SMTPIN_ADDED_MISSING@mx.google.com> Received: from [172.17.0.2] (unknown [172.18.0.74]) by postal.iol.unh.edu (Postfix) with ESMTP id 60C7D6051830; Wed, 11 Jun 2025 04:47:58 -0400 (EDT) Subject: |SUCCESS| pw154285 [PATCH] [RFC] fib6: implement RCU rule reclamatio From: dpdklab@iol.unh.edu To: Test Report Cc: dpdk-test-reports@iol.unh.edu In-Reply-To: <20250610145341.38271-2-rjarry@redhat.com> References: <20250610145341.38271-2-rjarry@redhat.com> Content-Type: text/plain X-BeenThere: test-report@dpdk.org X-Mailman-Version: 2.1.29 Precedence: list List-Id: automatic DPDK test reports List-Unsubscribe: , List-Archive: List-Post: List-Help: List-Subscribe: , Errors-To: test-report-bounces@dpdk.org Test-Label: iol-compile-arm64-testing Test-Status: SUCCESS http://dpdk.org/patch/154285 _Testing PASS_ Submitter: Robin Jarry Date: Tuesday, June 10 2025 14:53:42 DPDK git baseline: Repo:dpdk Branch: master CommitID:e3942de6c981e14a762185976a84cb02882699ed 154285 --> testing pass Upstream job id: Generic-DPDK-Compile-Meson#396212 Test environment and result as below: +------------------------------+--------------------+ | Environment | dpdk_meson_compile | +==============================+====================+ | Red Hat Enterprise Linux 9.5 | PASS | +------------------------------+--------------------+ | Ubuntu 20.04 | PASS | +------------------------------+--------------------+ | Debian GNU/Linux 12 | PASS | +------------------------------+--------------------+ | Fedora 40 (ARM) | PASS | +------------------------------+--------------------+ | Fedora 40 (ARM Clang) | PASS | +------------------------------+--------------------+ | Fedora 41 (ARM) | PASS | +------------------------------+--------------------+ | Fedora 41 (ARM Clang) | PASS | +------------------------------+--------------------+ | Ubuntu 22.04 | PASS | +------------------------------+--------------------+ | Ubuntu 24.04 | PASS | +------------------------------+--------------------+ | CentOS Stream 9 (ARM) | PASS | +------------------------------+--------------------+ | CentOS Stream 10 (ARM) | PASS | +------------------------------+--------------------+ Red Hat Enterprise Linux 9.5 Kernel: 5.4 Compiler: gcc gcc (GCC) 11.5.0 20240719 (Red Hat 11.5.0-2) Ubuntu 20.04 Kernel: 5.15 Compiler: aarch64-linux-gnu-gcc gcc (Ubuntu 9.4.0-1ubuntu1~20.04.2) 9.4.0 Debian GNU/Linux 12 Kernel: 5.4 Compiler: gcc gcc (Debian 12.2.0-14) 12.2.0 Fedora 40 (ARM) Kernel: Depends on container host Compiler: gcc 14.2.1 20240912 (Red Hat 14.2.1-3) Fedora 40 (ARM Clang) Kernel: Depends on container host Compiler: clang 18.1.8 (Fedora 18.1.8-1.fc40) Fedora 41 (ARM) Kernel: Depends on container host Compiler: gcc 14.2.1 20240912 (Red Hat 14.2.1-3) Fedora 41 (ARM Clang) Kernel: Depends on container host Compiler: clang 19.1.5 (Fedora 19.1.5-1.fc41) Ubuntu 22.04 Kernel: 5.4 Compiler: gcc gcc (Ubuntu 11.4.0-1ubuntu1~22.04) 11.4.0 Ubuntu 24.04 Kernel: 5.4 Compiler: gcc gcc (Ubuntu 13.3.0-6ubuntu2~24.04) 13.3.0 CentOS Stream 9 (ARM) Kernel: Depends on container host Compiler: gcc 11.5.0 20240719 (Red Hat 11.5.0-2) CentOS Stream 10 (ARM) Kernel: Depends on container host Compiler: gcc 14.2.1 20241104 (Red Hat 14.2.1-6) To view detailed results, visit: https://lab.dpdk.org/results/dashboard/patchsets/33378/ UNH-IOL DPDK Community Lab To manage your email subscriptions, visit: https://lab.dpdk.org/results/dashboard/preferences/subscriptions/