From mboxrd@z Thu Jan 1 00:00:00 1970 Return-Path: Received: from mails.dpdk.org (mails.dpdk.org [217.70.189.124]) by inbox.dpdk.org (Postfix) with ESMTP id 37EBA468D4 for ; Wed, 11 Jun 2025 11:53:34 +0200 (CEST) Received: from mails.dpdk.org (localhost [127.0.0.1]) by mails.dpdk.org (Postfix) with ESMTP id 0624940144; Wed, 11 Jun 2025 11:53:34 +0200 (CEST) Received: from mail-io1-f98.google.com (mail-io1-f98.google.com [209.85.166.98]) by mails.dpdk.org (Postfix) with ESMTP id 485AF40144 for ; Wed, 11 Jun 2025 11:53:33 +0200 (CEST) Received: by mail-io1-f98.google.com with SMTP id ca18e2360f4ac-86d0c5981b3so219182639f.3 for ; Wed, 11 Jun 2025 02:53:33 -0700 (PDT) DKIM-Signature: v=1; a=rsa-sha256; c=relaxed/relaxed; d=iol.unh.edu; s=unh-iol; t=1749635612; x=1750240412; darn=dpdk.org; h=references:in-reply-to:cc:to:from:subject:message-id:date:from:to :cc:subject:date:message-id:reply-to; bh=bkpYPN3bXOTGt1hf4yQDzjiNioFFkow0lU904ewl+LI=; b=ZoMdEqw6TAUdL+oM8cvX1z1rP3lBBGZgO8sVLMqDReU8R5X4L6Kii3c7q633iawP7H nPd67vOW2PsEsbHrQrRJNToXbOqxibqSkx9mp9zEWJF1tMXu6iq+qnBDQfoAoSnaUbDL 9RvzD+X1AkqxNkU83BQJNX073x3Zdml6ZSd/4= X-Google-DKIM-Signature: v=1; a=rsa-sha256; c=relaxed/relaxed; d=1e100.net; s=20230601; t=1749635612; x=1750240412; h=references:in-reply-to:cc:to:from:subject:message-id:date :x-gm-message-state:from:to:cc:subject:date:message-id:reply-to; bh=bkpYPN3bXOTGt1hf4yQDzjiNioFFkow0lU904ewl+LI=; b=P/lfsPIy0ZMPPs6PCDiwDB/3krO/86E6XI8ncTUei9jf3FZeWmQREpINKDP5UM07o2 trP/vLNWuuiOk5ADE2BIFB6+QkUBUNMYtgtGiekohKI2+oFCEz1ANwjDwxGiu06JeQ52 5T5kQd07FGUwz8qsmeFt4dkLn2iEWL5yKshRd+VNE4TiGawH1lVZvTpu6EsRzmA+kj3O 5bS1RL0EIMiXkFWz+uiEziXIzX2t4F0gkljpiZNkX5U/tPFsi0/KQejJpuebyKuye5qa /p/qMFxZnJBd2mQBXndy884kuxDP4TV03QCXcFGVkjt/LWggP8F2Z168Z7jj91mM0LA0 xcpw== X-Gm-Message-State: AOJu0Yz1uFyK6K/kPA68NNOmjP8Foh7FYiwf302Uyl4hZLZrI6R5sTt0 l70ZsGdm+C+LGNcoDy59tTrZAjNwhP3zGlap782+tX7Ruqkqa5xqgTXQjlPkK4R/GLFt83kY3O/ /DWImyeA/+1m9hA+O5CS7B/jr5cu1YS0/Kv9GM707n3o5sDHrj6g1eUqNG4dl X-Gm-Gg: ASbGnctvOyhACjEnKISYte3mchjRkWutqP4QLl0GBmWNJ0v5a3uQcfQOKTjQaYh53db bK2L8Rv6YKSNR1a8xsTM9ASqyFoYmgix7CaAsxSJEbPdU4M2/0pKerYtiG3bYs/TBWneu2Na4Te YeA62YmSnhw7wJkx8R7h+WGFHMWHUes0E6b0NyP7JRNP6WOgtrGfQkYhJSGPEXRoDZdiLL88m7T tGtwpDRYx0SKWjz9A81+Uqjxh2UKv5/c8Q/orL7U0MdOaMwps4hpp1WlWjH1Na2KjB2zjc/Blaz rz6UqjkaFnK0GPwMGiNibijj51dOkMo+QFgVX8cTLt7cauM= X-Google-Smtp-Source: AGHT+IEEKQF82UkXKZF+iBy9iReFgf3w2yBWWXf5GCQE4jcph4LX0cOZERev8dSzlwTEmHfHfU7tRONGwvT3 X-Received: by 2002:a05:6602:4883:b0:875:acf6:21a with SMTP id ca18e2360f4ac-875bccab746mr284113339f.11.1749635612530; Wed, 11 Jun 2025 02:53:32 -0700 (PDT) Received: from postal.iol.unh.edu (postal.iol.unh.edu. [2606:4100:3880:1234::84]) by smtp-relay.gmail.com with ESMTPS id ca18e2360f4ac-875bc58cc5asm11938439f.4.2025.06.11.02.53.32 (version=TLS1_2 cipher=ECDHE-ECDSA-AES128-GCM-SHA256 bits=128/128); Wed, 11 Jun 2025 02:53:32 -0700 (PDT) X-Relaying-Domain: iol.unh.edu Date: Wed, 11 Jun 2025 02:53:32 -0700 (PDT) Message-ID: <6849521c.050a0220.1266bf.446eSMTPIN_ADDED_MISSING@mx.google.com> Received: from [172.21.0.6] (unknown [172.18.0.240]) by postal.iol.unh.edu (Postfix) with ESMTP id 058B26051830; Wed, 11 Jun 2025 05:53:32 -0400 (EDT) Subject: |SUCCESS| pw154277-154282 [PATCH] [v8,7/7] test: update to latencyst From: dpdklab@iol.unh.edu To: Test Report Cc: dpdk-test-reports@iol.unh.edu In-Reply-To: <20250610141355.91759-8-stephen@networkplumber.org> References: <20250610141355.91759-8-stephen@networkplumber.org> Content-Type: text/plain X-BeenThere: test-report@dpdk.org X-Mailman-Version: 2.1.29 Precedence: list List-Id: automatic DPDK test reports List-Unsubscribe: , List-Archive: List-Post: List-Help: List-Subscribe: , Errors-To: test-report-bounces@dpdk.org Test-Label: iol-unit-arm64-testing Test-Status: SUCCESS http://dpdk.org/patch/154282 _Testing PASS_ Submitter: Stephen Hemminger Date: Tuesday, June 10 2025 14:12:46 DPDK git baseline: Repo:dpdk Branch: master CommitID:e3942de6c981e14a762185976a84cb02882699ed 154277-154282 --> testing pass Upstream job id: Generic-Unit-Test-DPDK#344821 Test environment and result as below: +------------------------------+----------------+--------------+---------------------------+------------------------------+ | Environment | dpdk_unit_test | lpm_autotest | cryptodev_sw_zuc_autotest | cryptodev_sw_snow3g_autotest | +==============================+================+==============+===========================+==============================+ | CentOS Stream 9 (ARM) | PASS | SKIPPED | SKIPPED | SKIPPED | +------------------------------+----------------+--------------+---------------------------+------------------------------+ | CentOS Stream 10 (ARM) | PASS | SKIPPED | SKIPPED | SKIPPED | +------------------------------+----------------+--------------+---------------------------+------------------------------+ | Fedora 40 (ARM) | PASS | SKIPPED | SKIPPED | SKIPPED | +------------------------------+----------------+--------------+---------------------------+------------------------------+ | Debian GNU/Linux 12 | PASS | SKIPPED | SKIPPED | SKIPPED | +------------------------------+----------------+--------------+---------------------------+------------------------------+ | Fedora 40 (ARM Clang) | PASS | SKIPPED | SKIPPED | SKIPPED | +------------------------------+----------------+--------------+---------------------------+------------------------------+ | Fedora 41 (ARM) | PASS | SKIPPED | SKIPPED | SKIPPED | +------------------------------+----------------+--------------+---------------------------+------------------------------+ | Fedora 41 (ARM Clang) | PASS | SKIPPED | SKIPPED | SKIPPED | +------------------------------+----------------+--------------+---------------------------+------------------------------+ | Red Hat Enterprise Linux 9.5 | PASS | SKIPPED | SKIPPED | SKIPPED | +------------------------------+----------------+--------------+---------------------------+------------------------------+ | Ubuntu 20.04 | PASS | PASS | SKIPPED | SKIPPED | +------------------------------+----------------+--------------+---------------------------+------------------------------+ | Ubuntu 22.04 | PASS | SKIPPED | SKIPPED | SKIPPED | +------------------------------+----------------+--------------+---------------------------+------------------------------+ | Ubuntu 24.04 | PASS | SKIPPED | SKIPPED | SKIPPED | +------------------------------+----------------+--------------+---------------------------+------------------------------+ | Debian 12 (arm) | SKIPPED | SKIPPED | PASS | PASS | +------------------------------+----------------+--------------+---------------------------+------------------------------+ CentOS Stream 9 (ARM) Kernel: Depends on container host Compiler: gcc 11.5.0 20240719 (Red Hat 11.5.0-2) CentOS Stream 10 (ARM) Kernel: Depends on container host Compiler: gcc 14.2.1 20241104 (Red Hat 14.2.1-6) Fedora 40 (ARM) Kernel: Depends on container host Compiler: gcc 14.2.1 20240912 (Red Hat 14.2.1-3) Debian GNU/Linux 12 Kernel: 5.4 Compiler: gcc gcc (Debian 12.2.0-14) 12.2.0 Fedora 40 (ARM Clang) Kernel: Depends on container host Compiler: clang 18.1.8 (Fedora 18.1.8-1.fc40) Fedora 41 (ARM) Kernel: Depends on container host Compiler: gcc 14.2.1 20240912 (Red Hat 14.2.1-3) Fedora 41 (ARM Clang) Kernel: Depends on container host Compiler: clang 19.1.5 (Fedora 19.1.5-1.fc41) Red Hat Enterprise Linux 9.5 Kernel: 5.4 Compiler: gcc gcc (GCC) 11.5.0 20240719 (Red Hat 11.5.0-2) Ubuntu 20.04 Kernel: 5.4 Compiler: gcc gcc (Ubuntu 9.4.0-1ubuntu1~20.04.2) 9.4.0 Ubuntu 22.04 Kernel: 5.4 Compiler: gcc gcc (Ubuntu 11.4.0-1ubuntu1~22.04) 11.4.0 Ubuntu 24.04 Kernel: 5.4 Compiler: gcc gcc (Ubuntu 13.3.0-6ubuntu2~24.04) 13.3.0 Debian 12 (arm) Kernel: Depends on container host Compiler: gcc (Debian 12.2.0-14) 12.2.0 To view detailed results, visit: https://lab.dpdk.org/results/dashboard/patchsets/33376/ UNH-IOL DPDK Community Lab To manage your email subscriptions, visit: https://lab.dpdk.org/results/dashboard/preferences/subscriptions/