From mboxrd@z Thu Jan 1 00:00:00 1970 Return-Path: Received: from mails.dpdk.org (mails.dpdk.org [217.70.189.124]) by inbox.dpdk.org (Postfix) with ESMTP id 13417468D6 for ; Wed, 11 Jun 2025 14:17:48 +0200 (CEST) Received: from mails.dpdk.org (localhost [127.0.0.1]) by mails.dpdk.org (Postfix) with ESMTP id 0E6AC402EF; Wed, 11 Jun 2025 14:17:48 +0200 (CEST) Received: from mail-il1-f228.google.com (mail-il1-f228.google.com [209.85.166.228]) by mails.dpdk.org (Postfix) with ESMTP id 9A599402EF for ; Wed, 11 Jun 2025 14:17:47 +0200 (CEST) Received: by mail-il1-f228.google.com with SMTP id e9e14a558f8ab-3ddda8e419bso3183295ab.0 for ; Wed, 11 Jun 2025 05:17:47 -0700 (PDT) DKIM-Signature: v=1; a=rsa-sha256; c=relaxed/relaxed; d=iol.unh.edu; s=unh-iol; t=1749644267; x=1750249067; darn=dpdk.org; h=references:in-reply-to:cc:to:from:subject:message-id:date:from:to :cc:subject:date:message-id:reply-to; bh=/dk5s0qn92TC+3zpzdzh8GGlaoSQKfsh0xD1KBQR3Lk=; b=F3CobVfDgOjLidQMdlJaSixh0f0EEf31PbrpHLLKRhUGkwIsgppzscv4IiwN2ClndL D2Gm4682cFcWeO3WDv8TtxQTSlcxa+sRyuhBqn41NxZHPr1PrY3fO+0Vxi8cbZHUqw75 sEk5YwQ195XvoPVHBBB6GHMIEJ4Rn63H7DAQE= X-Google-DKIM-Signature: v=1; a=rsa-sha256; c=relaxed/relaxed; d=1e100.net; s=20230601; t=1749644267; x=1750249067; h=references:in-reply-to:cc:to:from:subject:message-id:date :x-gm-message-state:from:to:cc:subject:date:message-id:reply-to; bh=/dk5s0qn92TC+3zpzdzh8GGlaoSQKfsh0xD1KBQR3Lk=; b=eFny8sPzaz7aBWgYuJoJrBD250mNl+Z2HVUtWt4hvh1TXQas66BF89b9hPSUg4roEl 49o59a6U+6Ym2K5Sb94lVcCG6mE0NT3LeKArA/yMNHU9I80i/XloaWwqHsq57yRryH76 Oaj/FPGHlz/nWOIu+wo2L+lBGzPiBRLHg4E3EjrEIhzROP9bL2kKqLP1+GGhJIG5J92h UFSAxIXjFqExpJ/XF6pgc4nRRgfmyGLtg1WPNJnEj5PSzABoL78iXqaP03O6kG5dJMO3 y1e/tRNyf53C3htNpdzNJqiBJZh4rUy8U4GsEYBNF0IhgLkzzgPj1R1eUFUHvgt7H4k+ dGiw== X-Gm-Message-State: AOJu0YzgGJ/oGygh9PYdQ+KVwJpXR3ACQrnYZpc4tEiJREHnQhHJgol4 49rlpBufj9rdHP/yGrqchm4Q4REeRHJKnEQavPur41hQftihjt/E0JDdiAGt6PQ0OsDB4zhrAsl swQ3F+C6UX1r016PlF9MBGbWLwst5h+p62YEdGAj0s/NH X-Gm-Gg: ASbGncvkFal3hSIUaJlUw8PdMqNnGSrij1eb5B5C5VuKdya4NJqr1RHZgLUxteghr+3 4ImHLQVxbXhB3y27sPcAonwX8JFRwmcW+yIc84nAEsl0c2/pEY8PG/OKAxMAcm5aPktgpG4lySJ RSgRS2YpPwjJSfHFaHNR4S6v3wMLLWJ3BT9ty5hpZxb5tmQ4lh10+IuXljOBWzyAhTx/mk+X6cZ F/c0YAp6kaPgIeXZwLQv6fFEm7Cfv3XzqZsYPO/9w1cWfdXnlZIgqMYj3eHXZf858fkZ14NFx7p rsrGQ50aO+P2+XDLnGqCjA5khjmfFmhds6Fg3F/Wi8xtuxIrqKolWypGJnvLy+TNW9kJVg== X-Google-Smtp-Source: AGHT+IHkUc4W1gLkLufs4CMTdd+gSwzHCvWr8lFEJs8mnr6NbP+T5K9DKhtWuu9Mmg4H57q+cokJXs+VpuTS X-Received: by 2002:a92:c243:0:b0:3dd:c067:20bf with SMTP id e9e14a558f8ab-3ddf3cfe1fbmr33958015ab.2.1749644266868; Wed, 11 Jun 2025 05:17:46 -0700 (PDT) Received: from postal.iol.unh.edu (postal.iol.unh.edu. [132.177.123.84]) by smtp-relay.gmail.com with ESMTPS id 8926c6da1cb9f-5012a8cfcfcsm113178173.5.2025.06.11.05.17.46 (version=TLS1_2 cipher=ECDHE-ECDSA-AES128-GCM-SHA256 bits=128/128); Wed, 11 Jun 2025 05:17:46 -0700 (PDT) X-Relaying-Domain: iol.unh.edu Date: Wed, 11 Jun 2025 05:17:46 -0700 (PDT) Message-ID: <684973ea.050a0220.82cef.3de7SMTPIN_ADDED_MISSING@mx.google.com> Received: from [172.21.0.5] (unknown [172.18.0.240]) by postal.iol.unh.edu (Postfix) with ESMTP id 7B5786051830; Wed, 11 Jun 2025 08:17:46 -0400 (EDT) Subject: |SUCCESS| pw154321-154325 [PATCH] [v7,5/5] usertools: enable pmdinfo From: dpdklab@iol.unh.edu To: Test Report Cc: dpdk-test-reports@iol.unh.edu In-Reply-To: <20250611094532.1242167-6-david.marchand@redhat.com> References: <20250611094532.1242167-6-david.marchand@redhat.com> Content-Type: text/plain X-BeenThere: test-report@dpdk.org X-Mailman-Version: 2.1.29 Precedence: list List-Id: automatic DPDK test reports List-Unsubscribe: , List-Archive: List-Post: List-Help: List-Subscribe: , Errors-To: test-report-bounces@dpdk.org Test-Label: iol-unit-amd64-testing Test-Status: SUCCESS http://dpdk.org/patch/154325 _Testing PASS_ Submitter: David Marchand Date: Wednesday, June 11 2025 09:45:32 DPDK git baseline: Repo:dpdk Branch: master CommitID:321f0a60005e7d3192300988b6a31e2a50945c4b 154321-154325 --> testing pass Upstream job id: Generic-Unit-Test-DPDK#345006 Test environment and result as below: +-------------------------------+----------------+ | Environment | dpdk_unit_test | +===============================+================+ | Debian GNU/Linux 12 | PASS | +-------------------------------+----------------+ | CentOS Stream 10 | PASS | +-------------------------------+----------------+ | CentOS Stream 9 | PASS | +-------------------------------+----------------+ | Fedora 40 | PASS | +-------------------------------+----------------+ | Fedora 40 (Clang) | PASS | +-------------------------------+----------------+ | Fedora 41 | PASS | +-------------------------------+----------------+ | Fedora 41 (Clang) | PASS | +-------------------------------+----------------+ | Red Hat Enterprise Linux 8.10 | PASS | +-------------------------------+----------------+ | Ubuntu 20.04 | PASS | +-------------------------------+----------------+ | Red Hat Enterprise Linux 9.5 | PASS | +-------------------------------+----------------+ | Ubuntu 22.04 | PASS | +-------------------------------+----------------+ | Ubuntu 24.04 | PASS | +-------------------------------+----------------+ Debian GNU/Linux 12 Kernel: 5.15 Compiler: gcc gcc (Debian 12.2.0-14) 12.2.0 CentOS Stream 10 Kernel: Depends on container host Compiler: gcc 14.2.1 20241104 (Red Hat 14.2.1-6) CentOS Stream 9 Kernel: Depends on container host Compiler: gcc 11.5.0 20240719 (Red Hat 11.5.0-2) Fedora 40 Kernel: Depends on container host Compiler: gcc 14.2.1 20240912 (Red Hat 14.2.1-3) Fedora 40 (Clang) Kernel: Depends on container host Compiler: clang 18.1.8 (Fedora 18.1.8-1.fc40) Fedora 41 Kernel: Depends on container host Compiler: gcc 14.2.1 20240912 (Red Hat 14.2.1-3) Fedora 41 (Clang) Kernel: Depends on container host Compiler: clang 19.1.5 (Fedora 19.1.5-1.fc41) Red Hat Enterprise Linux 8.10 Kernel: 5.15 Compiler: gcc gcc (GCC) 8.5.0 20210514 (Red Hat 8.5.0-22) Ubuntu 20.04 Kernel: 5.15 Compiler: gcc gcc (Ubuntu 9.4.0-1ubuntu1~20.04.2) 9.4.0 Red Hat Enterprise Linux 9.5 Kernel: 5.15 Compiler: gcc gcc (GCC) 11.5.0 20240719 (Red Hat 11.5.0-2) Ubuntu 22.04 Kernel: 5.15 Compiler: gcc gcc (Ubuntu 11.4.0-1ubuntu1~22.04) 11.4.0 Ubuntu 24.04 Kernel: 5.15 Compiler: gcc gcc (Ubuntu 13.3.0-6ubuntu2~24.04) 13.3.0 To view detailed results, visit: https://lab.dpdk.org/results/dashboard/patchsets/33385/ UNH-IOL DPDK Community Lab To manage your email subscriptions, visit: https://lab.dpdk.org/results/dashboard/preferences/subscriptions/