From mboxrd@z Thu Jan 1 00:00:00 1970 Return-Path: Received: from mails.dpdk.org (mails.dpdk.org [217.70.189.124]) by inbox.dpdk.org (Postfix) with ESMTP id C017C468DA for ; Thu, 12 Jun 2025 00:13:49 +0200 (CEST) Received: from mails.dpdk.org (localhost [127.0.0.1]) by mails.dpdk.org (Postfix) with ESMTP id 856EC40156; Thu, 12 Jun 2025 00:13:49 +0200 (CEST) Received: from mail-pf1-f226.google.com (mail-pf1-f226.google.com [209.85.210.226]) by mails.dpdk.org (Postfix) with ESMTP id 4B09F40156 for ; Thu, 12 Jun 2025 00:13:47 +0200 (CEST) Received: by mail-pf1-f226.google.com with SMTP id d2e1a72fcca58-747e41d5469so439708b3a.3 for ; Wed, 11 Jun 2025 15:13:47 -0700 (PDT) DKIM-Signature: v=1; a=rsa-sha256; c=relaxed/relaxed; d=iol.unh.edu; s=unh-iol; t=1749680026; x=1750284826; darn=dpdk.org; h=references:in-reply-to:cc:to:from:subject:message-id:date:from:to :cc:subject:date:message-id:reply-to; bh=O1kW51iYmFqF3iZ37k0RCV4HGAr8l8scBBUQPtGSfYI=; b=Oarus6j9AMb4BIC/oJS1GIUh5PwVTN9hKOPj/yY3hVU3wK89GeG4o9Ih8lzhhrHR1C dk+TKCZ61aAS8DvZDTc5ONF/YowKgDjQln1+QHs7NGxRhDTUgyy89geMSkuMH4pO6XTc +LWRdrf1lGDDW+PPZlNdlbZl/CSdRNQY/evII= X-Google-DKIM-Signature: v=1; a=rsa-sha256; c=relaxed/relaxed; d=1e100.net; s=20230601; t=1749680026; x=1750284826; h=references:in-reply-to:cc:to:from:subject:message-id:date :x-gm-message-state:from:to:cc:subject:date:message-id:reply-to; bh=O1kW51iYmFqF3iZ37k0RCV4HGAr8l8scBBUQPtGSfYI=; b=M8TToKEC6pWSCQNnGQIr8GPVtJ5gVZBJQIzFBqVpYKsTF7PhgCYMWuKbRtwJXRH1aH FNZfRmpfozCbs+U0hAVR2QPgRjjJId9z+d73CNmd/hVajRyU1m/jX2tTgHJj5e26L3Kf nbNmpRSvzeTtwDqkXg+MIJEw4qPyfgzEfJL3Q5yEux5O55lWdShuwDYWuhiJYSoAgQdc 3whGptfZOyAqUomswksxgqoKd6/nvw3eYM3entTvFAJrqsvGRrgrgJ9H1j/7QOeF7t0z 4EQhnRF/j6HRFInSU23yw+NqP6BX5sH8aXPT3ysJ+1kGqTlLOxczD6Hig5AYgbMmanGM P5jA== X-Gm-Message-State: AOJu0Yw+boRGrUb5jS9ugxx8Vf07Hc2eQFFe35sn+C+N6G5+/Pg0ejj/ Xs8uY86oUUALb7fDQjL7BCEfv1HTr1vHtFene+LXl00vtCCCycZ8G3J28uzrScQSoBjNPNnqDeg kmvvJV+3/bUYrWy5YDc3w1yYBSqGF/HJyppbeVMXF9tln X-Gm-Gg: ASbGncve5CAhJVGVfKcWKApN6yFlLDjjnhz4TkZA9I+K/+fbogzakKQ9NlBt2/KdgD/ +uSUFBsimL1jhE8C/2guWadDYL/esDEjILlWi++XHki5p02X8sdfxoiE/qq8TbWfSfRBVnbHLd/ 8qboO+E4XzmMjhCdLZ0CWu5qWQkQsyd+q6Sci7s/496ie8NJMQGdd05Z+Kbls9z8/PgDM/pWccL xw0ZUWfdYGGNLcaEg+msB0ebwRKCmRFtnm7ri/7KNf31zTJWvi0lOeVwqM8eMNBWRWFIo/M66NY ipcULT2C85USMD3tEN/2/0K1kjoxzEMyz7AKV5JgKDjjIDepaWQ/iSKg528Z9DOholwHQA== X-Google-Smtp-Source: AGHT+IGVRfs4mnHZNdDoIL1Hjn+JlIAcQNSpBu6UauajRm1YOvGkBi/NReTW3Zq2Emxq7/HiqD5M5c3C091x X-Received: by 2002:a05:6a21:6d8c:b0:215:d565:3026 with SMTP id adf61e73a8af0-21f9b8f469fmr609057637.20.1749680026387; Wed, 11 Jun 2025 15:13:46 -0700 (PDT) Received: from postal.iol.unh.edu (postal.iol.unh.edu. [132.177.123.84]) by smtp-relay.gmail.com with ESMTPS id 41be03b00d2f7-b2fd61004a7sm9771a12.7.2025.06.11.15.13.46 (version=TLS1_2 cipher=ECDHE-ECDSA-AES128-GCM-SHA256 bits=128/128); Wed, 11 Jun 2025 15:13:46 -0700 (PDT) X-Relaying-Domain: iol.unh.edu Date: Wed, 11 Jun 2025 15:13:46 -0700 (PDT) Message-ID: <6849ff9a.630a0220.302d34.06e1SMTPIN_ADDED_MISSING@mx.google.com> Received: from [172.17.0.2] (unknown [172.18.0.74]) by postal.iol.unh.edu (Postfix) with ESMTP id 9042D6051830; Wed, 11 Jun 2025 18:13:45 -0400 (EDT) Subject: |SUCCESS| pw154338 [PATCH] [v5] build: reduce use of AVX compiler fl From: dpdklab@iol.unh.edu To: Test Report Cc: dpdk-test-reports@iol.unh.edu In-Reply-To: <20250611105310.472523-1-bruce.richardson@intel.com> References: <20250611105310.472523-1-bruce.richardson@intel.com> Content-Type: text/plain X-BeenThere: test-report@dpdk.org X-Mailman-Version: 2.1.29 Precedence: list List-Id: automatic DPDK test reports List-Unsubscribe: , List-Archive: List-Post: List-Help: List-Subscribe: , Errors-To: test-report-bounces@dpdk.org Test-Label: iol-unit-arm64-testing Test-Status: SUCCESS http://dpdk.org/patch/154338 _Testing PASS_ Submitter: Bruce Richardson Date: Wednesday, June 11 2025 10:53:10 DPDK git baseline: Repo:dpdk Branch: master CommitID:412b3b4e4f4db8e87794b956e4e57a47bc3b52a8 154338 --> testing pass Upstream job id: Generic-Unit-Test-DPDK#345073 Test environment and result as below: +------------------------------+--------------+---------------------------+------------------------------+----------------+ | Environment | lpm_autotest | cryptodev_sw_zuc_autotest | cryptodev_sw_snow3g_autotest | dpdk_unit_test | +==============================+==============+===========================+==============================+================+ | Ubuntu 20.04 | PASS | SKIPPED | SKIPPED | PASS | +------------------------------+--------------+---------------------------+------------------------------+----------------+ | Debian 12 (arm) | SKIPPED | PASS | PASS | SKIPPED | +------------------------------+--------------+---------------------------+------------------------------+----------------+ | Debian GNU/Linux 12 | SKIPPED | SKIPPED | SKIPPED | PASS | +------------------------------+--------------+---------------------------+------------------------------+----------------+ | Fedora 40 (ARM) | SKIPPED | SKIPPED | SKIPPED | PASS | +------------------------------+--------------+---------------------------+------------------------------+----------------+ | CentOS Stream 9 (ARM) | SKIPPED | SKIPPED | SKIPPED | PASS | +------------------------------+--------------+---------------------------+------------------------------+----------------+ | CentOS Stream 10 (ARM) | SKIPPED | SKIPPED | SKIPPED | PASS | +------------------------------+--------------+---------------------------+------------------------------+----------------+ | Fedora 40 (ARM Clang) | SKIPPED | SKIPPED | SKIPPED | PASS | +------------------------------+--------------+---------------------------+------------------------------+----------------+ | Fedora 41 (ARM) | SKIPPED | SKIPPED | SKIPPED | PASS | +------------------------------+--------------+---------------------------+------------------------------+----------------+ | Fedora 41 (ARM Clang) | SKIPPED | SKIPPED | SKIPPED | PASS | +------------------------------+--------------+---------------------------+------------------------------+----------------+ | Red Hat Enterprise Linux 9.5 | SKIPPED | SKIPPED | SKIPPED | PASS | +------------------------------+--------------+---------------------------+------------------------------+----------------+ | Ubuntu 24.04 | SKIPPED | SKIPPED | SKIPPED | PASS | +------------------------------+--------------+---------------------------+------------------------------+----------------+ | Ubuntu 22.04 | SKIPPED | SKIPPED | SKIPPED | PASS | +------------------------------+--------------+---------------------------+------------------------------+----------------+ Ubuntu 20.04 Kernel: 5.4 Compiler: gcc gcc (Ubuntu 9.4.0-1ubuntu1~20.04.2) 9.4.0 Debian 12 (arm) Kernel: Depends on container host Compiler: gcc (Debian 12.2.0-14) 12.2.0 Debian GNU/Linux 12 Kernel: 5.4 Compiler: gcc gcc (Debian 12.2.0-14) 12.2.0 Fedora 40 (ARM) Kernel: Depends on container host Compiler: gcc 14.2.1 20240912 (Red Hat 14.2.1-3) CentOS Stream 9 (ARM) Kernel: Depends on container host Compiler: gcc 11.5.0 20240719 (Red Hat 11.5.0-2) CentOS Stream 10 (ARM) Kernel: Depends on container host Compiler: gcc 14.2.1 20241104 (Red Hat 14.2.1-6) Fedora 40 (ARM Clang) Kernel: Depends on container host Compiler: clang 18.1.8 (Fedora 18.1.8-1.fc40) Fedora 41 (ARM) Kernel: Depends on container host Compiler: gcc 14.2.1 20240912 (Red Hat 14.2.1-3) Fedora 41 (ARM Clang) Kernel: Depends on container host Compiler: clang 19.1.5 (Fedora 19.1.5-1.fc41) Red Hat Enterprise Linux 9.5 Kernel: 5.4 Compiler: gcc gcc (GCC) 11.5.0 20240719 (Red Hat 11.5.0-2) Ubuntu 24.04 Kernel: 5.4 Compiler: gcc gcc (Ubuntu 13.3.0-6ubuntu2~24.04) 13.3.0 Ubuntu 22.04 Kernel: 5.4 Compiler: gcc gcc (Ubuntu 11.4.0-1ubuntu1~22.04) 11.4.0 To view detailed results, visit: https://lab.dpdk.org/results/dashboard/patchsets/33388/ UNH-IOL DPDK Community Lab To manage your email subscriptions, visit: https://lab.dpdk.org/results/dashboard/preferences/subscriptions/