From mboxrd@z Thu Jan  1 00:00:00 1970
Return-Path: <test-report-bounces@dpdk.org>
Received: from mails.dpdk.org (mails.dpdk.org [217.70.189.124])
	by inbox.dpdk.org (Postfix) with ESMTP id 2717C46714
	for <public@inbox.dpdk.org>; Thu, 12 Jun 2025 02:24:50 +0200 (CEST)
Received: from mails.dpdk.org (localhost [127.0.0.1])
	by mails.dpdk.org (Postfix) with ESMTP id 0491740156;
	Thu, 12 Jun 2025 02:24:50 +0200 (CEST)
Received: from mail-pl1-f227.google.com (mail-pl1-f227.google.com
 [209.85.214.227])
 by mails.dpdk.org (Postfix) with ESMTP id C67E540156
 for <test-report@dpdk.org>; Thu, 12 Jun 2025 02:24:48 +0200 (CEST)
Received: by mail-pl1-f227.google.com with SMTP id
 d9443c01a7336-2363e973db1so12625245ad.0
 for <test-report@dpdk.org>; Wed, 11 Jun 2025 17:24:48 -0700 (PDT)
DKIM-Signature: v=1; a=rsa-sha256; c=relaxed/relaxed;
 d=iol.unh.edu; s=unh-iol; t=1749687888; x=1750292688; darn=dpdk.org;
 h=references:in-reply-to:cc:to:from:subject:message-id:date:from:to
 :cc:subject:date:message-id:reply-to;
 bh=uQ9pRdwAOesT0kz5jDuoOqH2EFzhI89LtRJ5TaJ2Ybo=;
 b=Pn6WNaHrPogt6+6rFMeie4HYvHsK5bAsMhv1oosfz72BMQg/2DuWouxZsmeRCpAWL7
 q7d9OblhTyeyPYvq9O9DbYdU0nFeKXy8A0nK6eT1XGAKa9WQe6SjJTBMY3Z0CKBxmYBx
 BSJzl/xAS9bwxbuY7XujT0EMHALgUXsB6bEVI=
X-Google-DKIM-Signature: v=1; a=rsa-sha256; c=relaxed/relaxed;
 d=1e100.net; s=20230601; t=1749687888; x=1750292688;
 h=references:in-reply-to:cc:to:from:subject:message-id:date
 :x-gm-message-state:from:to:cc:subject:date:message-id:reply-to;
 bh=uQ9pRdwAOesT0kz5jDuoOqH2EFzhI89LtRJ5TaJ2Ybo=;
 b=ISfrxQGHxC040ZtVoCB2k6EgqtxXw75OxuQPLks1Wi7um7PD/UOgzG8TLdGIpKO8z7
 FrI3xcqtme5xPjEM7s7YWhbpTz7smoMhTDmSxkOLuGGM1dqMtPiol2zayfRQw9Moew/7
 P87djMA9jPacEQrZhdg3Y+KFqgVmTBfWyMyIB2D2NEuNic+AY5szEcJ1H/yA6XHahhf4
 FRa1h27Mn0Dc9RcMROOE/8c4ZZGD4q30xfddmQypgTkF7RnHO3chpumg3lbE6xKQwTPc
 F2JwcU3gUSahtqjT4MVBrTfVYq0VYqQ/YF1XCCCO4wb+qkAUId25T9R7C68keuzXQucz
 ZuLQ==
X-Gm-Message-State: AOJu0YxP5tI4b7KWRysW/MhenWsYEutgytjPnXxxDrr2/Y3ntw9pZ4xR
 yFnWAoVDkv9/9br7pbF5+vEmEkypAct8cvVuMgOKYhbpOSf3bHlcmzUE1XQG9lxIehAxPTg93Ep
 omQWyPY/trjaaoyu63dafqRSYCP7bYQi5sxI0rgjCSH/v
X-Gm-Gg: ASbGncsq2QmpjJyqAhGzSE0oA8HNGyDwWwoiQdJkOv0hx6v+JSxsYWuFnmjvwc3Xf6d
 jY76c42C0bZTBnGsRjA/R+JUYVjUmjX0pckxA39BYYlIvB9AxOGx3vFshU0RdpQ+YoD4dx5mLbY
 AVeVU6P5Enb9E4WgpxbW6ByrusmX2Hcdd9X5Vci4pHq1j6AOv4IWMgeKh3wPyUmxym0dWglxJX0
 NWkHBkASxXpQ8Y0DPbHRf54bgX79/r19Y53nw88i6abAsmzNrW12dCvSvUzuwsJ+n4BM5me2xpE
 xv2YBg1p6V2nUU4JSZT0U7ZxpwCioY/IF74t3+zGsg5pyYh+/j8xCV1Es/qSUjm5Vaq47A==
X-Google-Smtp-Source: AGHT+IFyLABqaHFP00n6xV/f4Qb7WVGz0+J2aexQcIgDylFyvLNFMNvlB0XjCJgQelPM0d8LQKMDBh5EX6iJ
X-Received: by 2002:a17:902:d492:b0:231:c89f:4e94 with SMTP id
 d9443c01a7336-2364ceddfedmr17631285ad.21.1749687887815; 
 Wed, 11 Jun 2025 17:24:47 -0700 (PDT)
Received: from postal.iol.unh.edu (postal.iol.unh.edu. [132.177.123.84])
 by smtp-relay.gmail.com with ESMTPS id
 d9443c01a7336-2364e6b9896sm176975ad.83.2025.06.11.17.24.47
 (version=TLS1_2 cipher=ECDHE-ECDSA-AES128-GCM-SHA256 bits=128/128);
 Wed, 11 Jun 2025 17:24:47 -0700 (PDT)
X-Relaying-Domain: iol.unh.edu
Date: Wed, 11 Jun 2025 17:24:47 -0700 (PDT)
Message-ID: <684a1e4f.170a0220.15c7d5.0cffSMTPIN_ADDED_MISSING@mx.google.com>
Received: from [172.17.0.2] (unknown [172.18.0.74])
 by postal.iol.unh.edu (Postfix) with ESMTP id 0029B604D420;
 Wed, 11 Jun 2025 20:24:47 -0400 (EDT)
Subject: |SUCCESS| pw154305-154311 [PATCH] [v4,10/10] bus/dpaa: optimize qman
From: dpdklab@iol.unh.edu
To: Test Report <test-report@dpdk.org>
Cc: dpdk-test-reports@iol.unh.edu
In-Reply-To: <20250611071039.2939950-11-vanshika.shukla@nxp.com>
References: <20250611071039.2939950-11-vanshika.shukla@nxp.com>
Content-Type: text/plain
X-BeenThere: test-report@dpdk.org
X-Mailman-Version: 2.1.29
Precedence: list
List-Id: automatic DPDK test reports <test-report.dpdk.org>
List-Unsubscribe: <https://mails.dpdk.org/options/test-report>,
 <mailto:test-report-request@dpdk.org?subject=unsubscribe>
List-Archive: <http://mails.dpdk.org/archives/test-report/>
List-Post: <mailto:test-report@dpdk.org>
List-Help: <mailto:test-report-request@dpdk.org?subject=help>
List-Subscribe: <https://mails.dpdk.org/listinfo/test-report>,
 <mailto:test-report-request@dpdk.org?subject=subscribe>
Errors-To: test-report-bounces@dpdk.org

Test-Label: iol-compile-arm64-testing
Test-Status: SUCCESS
http://dpdk.org/patch/154311

_Testing PASS_

Submitter: Vanshika Shukla <vanshika.shukla@nxp.com>
Date: Wednesday, June 11 2025 07:10:39 
DPDK git baseline: Repo:dpdk
  Branch: master
  CommitID:ae29f5873362938994cd9a0948a8746d25d79e7d

154305-154311 --> testing pass

Upstream job id: Generic-DPDK-Compile-Meson#396422

Test environment and result as below:

+------------------------------+--------------------+
|         Environment          | dpdk_meson_compile |
+==============================+====================+
| Red Hat Enterprise Linux 9.5 | PASS               |
+------------------------------+--------------------+
| Ubuntu 20.04                 | PASS               |
+------------------------------+--------------------+
| Debian GNU/Linux 12          | PASS               |
+------------------------------+--------------------+
| Fedora 40 (ARM)              | PASS               |
+------------------------------+--------------------+
| Fedora 41 (ARM)              | PASS               |
+------------------------------+--------------------+
| Fedora 41 (ARM Clang)        | PASS               |
+------------------------------+--------------------+
| Ubuntu 22.04                 | PASS               |
+------------------------------+--------------------+
| Ubuntu 24.04                 | PASS               |
+------------------------------+--------------------+
| CentOS Stream 9 (ARM)        | PASS               |
+------------------------------+--------------------+
| CentOS Stream 10 (ARM)       | PASS               |
+------------------------------+--------------------+
| Fedora 40 (ARM Clang)        | PASS               |
+------------------------------+--------------------+


Red Hat Enterprise Linux 9.5
	Kernel: 5.4
	Compiler: gcc gcc (GCC) 11.5.0 20240719 (Red Hat 11.5.0-2)

Ubuntu 20.04
	Kernel: 5.15
	Compiler: aarch64-linux-gnu-gcc gcc (Ubuntu 9.4.0-1ubuntu1~20.04.2) 9.4.0

Debian GNU/Linux 12
	Kernel: 5.4
	Compiler: gcc gcc (Debian 12.2.0-14) 12.2.0

Fedora 40 (ARM)
	Kernel: Depends on container host
	Compiler: gcc 14.2.1 20240912 (Red Hat 14.2.1-3)

Fedora 41 (ARM)
	Kernel: Depends on container host
	Compiler: gcc 14.2.1 20240912 (Red Hat 14.2.1-3)

Fedora 41 (ARM Clang)
	Kernel: Depends on container host
	Compiler: clang 19.1.5 (Fedora 19.1.5-1.fc41)

Ubuntu 22.04
	Kernel: 5.4
	Compiler: gcc gcc (Ubuntu 11.4.0-1ubuntu1~22.04) 11.4.0

Ubuntu 24.04
	Kernel: 5.4
	Compiler: gcc gcc (Ubuntu 13.3.0-6ubuntu2~24.04) 13.3.0

CentOS Stream 9 (ARM)
	Kernel: Depends on container host
	Compiler: gcc 11.5.0 20240719 (Red Hat 11.5.0-2)

CentOS Stream 10 (ARM)
	Kernel: Depends on container host
	Compiler: gcc 14.2.1 20241104 (Red Hat 14.2.1-6)

Fedora 40 (ARM Clang)
	Kernel: Depends on container host
	Compiler: clang 18.1.8 (Fedora 18.1.8-1.fc40)

To view detailed results, visit:
https://lab.dpdk.org/results/dashboard/patchsets/33383/

UNH-IOL DPDK Community Lab

To manage your email subscriptions, visit: 
https://lab.dpdk.org/results/dashboard/preferences/subscriptions/