From mboxrd@z Thu Jan 1 00:00:00 1970 Return-Path: Received: from mails.dpdk.org (mails.dpdk.org [217.70.189.124]) by inbox.dpdk.org (Postfix) with ESMTP id 4BB69468C3 for ; Thu, 12 Jun 2025 04:26:54 +0200 (CEST) Received: from mails.dpdk.org (localhost [127.0.0.1]) by mails.dpdk.org (Postfix) with ESMTP id 16F864021F; Thu, 12 Jun 2025 04:26:54 +0200 (CEST) Received: from mail-oa1-f100.google.com (mail-oa1-f100.google.com [209.85.160.100]) by mails.dpdk.org (Postfix) with ESMTP id 8F4364021F for ; Thu, 12 Jun 2025 04:26:52 +0200 (CEST) Received: by mail-oa1-f100.google.com with SMTP id 586e51a60fabf-2d09d495c6cso112498fac.3 for ; Wed, 11 Jun 2025 19:26:52 -0700 (PDT) DKIM-Signature: v=1; a=rsa-sha256; c=relaxed/relaxed; d=iol.unh.edu; s=unh-iol; t=1749695211; x=1750300011; darn=dpdk.org; h=references:in-reply-to:cc:to:from:subject:message-id:date:from:to :cc:subject:date:message-id:reply-to; bh=EpvMUlAxvGSunXebBH06uYrdyhlYbqelO31LDhUAHZo=; b=UzxTsTawcmKE6WEM2+b8QXJ3+xwh0EfJ9BY5b4vkwWq5pR36crtI/ejF6X+XYdJYgY VnHgQwtVmyZ3jfV5Vz94kGM/NXYuUyuLVs7hSPzRI5iccisfIZgIDRHiJPP9P8eFzzOV 9nfIrfm4ASCBoFFV3YJFIEHep7jsa+6I7tWW4= X-Google-DKIM-Signature: v=1; a=rsa-sha256; c=relaxed/relaxed; d=1e100.net; s=20230601; t=1749695211; x=1750300011; h=references:in-reply-to:cc:to:from:subject:message-id:date :x-gm-message-state:from:to:cc:subject:date:message-id:reply-to; bh=EpvMUlAxvGSunXebBH06uYrdyhlYbqelO31LDhUAHZo=; b=cjWxbGC0dKDQE7MeZAnkCkOLSOEuvV/fpNfAnHqwoI884kyRF9QyO5w3WTMv9CV10P ZDg/trd+bmlN8iVxk8NNq5A1N9DgxowhWpfKrnyoGtBJiA2O+w7tD8z5m2fR8rj/hi69 UhZDy4AUt60v8J19Vin8Y2hP36z9ewlxQBm/wFMWshWptDjdRuUrxQ3S1sI5f0phOX6d wboF0pLvLngbsO9cCZTjSamVvchkGwILBO+WkWbx2494/nGevov54dg+7q6EcqivwTnW 2OfGt/9ifeWmgQZnu1BN17p9IFa69I+ljW0FRnpOPnKgExInm4meMHIGjjUGqgYhL5o4 hSjQ== X-Gm-Message-State: AOJu0YyWRN0WfCWlk3PkaJuvzbMSM6dSCtd+cAzhv4xFZiPCiuO4gKoT aZWYvQL7YTSVgG9b4ALOKRNPZqINjEg8j/AvpjQrCG+7tU6qqVcTt0rbitfuz68DL1Pmixn2Loh wnEdR0ybNZs6A82sG79xFiEDgeHU0GRzVu8inH3z9wU7yA+4kSemHzh9Mrwrm X-Gm-Gg: ASbGncu3J+C/slalNGgKa5xGAcZWTjqwZ52IObUuvAT8J8OIlqRcSH4uYc9tgFQ9gFI MAaz2FIlBKoxRCpTyDHTL3f+MG2IKZ+FHSiLGMhy/gO44uUU5FxZ1HTVH0xRmY+oS5xu0GjDWHG YRnGRoqxzyMKmgsI9rDA447EZo3RsDsuX5HGJUtFAxp0uDdKs66fEAzzv61AFabC2BatWLVqgQo KvQZmAB2JncrmCtkQii8o1Hcu9K+Xj71LOsHEp/OPrni8Up1fRs1krg4tt27CGusHITuOWCbnln QwaomiggoHgqBsWePqlKND4vXFPS2E4SAb/F+S5IH/M/tzw= X-Google-Smtp-Source: AGHT+IG8bb5lxLAxo/OVdKeuyHhcrfe9Adm7QDr4xM2tDZsQbOYbd4q6bz3GDe4LJaDAnajFRrz150FetYbz X-Received: by 2002:a05:6870:ecab:b0:2e9:365:d0d3 with SMTP id 586e51a60fabf-2eab4333725mr1049784fac.21.1749695211632; Wed, 11 Jun 2025 19:26:51 -0700 (PDT) Received: from postal.iol.unh.edu (postal.iol.unh.edu. [2606:4100:3880:1234::84]) by smtp-relay.gmail.com with ESMTPS id 586e51a60fabf-2eab8ded933sm29899fac.25.2025.06.11.19.26.51 (version=TLS1_2 cipher=ECDHE-ECDSA-AES128-GCM-SHA256 bits=128/128); Wed, 11 Jun 2025 19:26:51 -0700 (PDT) X-Relaying-Domain: iol.unh.edu Date: Wed, 11 Jun 2025 19:26:51 -0700 (PDT) Message-ID: <684a3aeb.050a0220.130535.15d0SMTPIN_ADDED_MISSING@mx.google.com> Received: from [172.21.0.5] (unknown [172.18.0.240]) by postal.iol.unh.edu (Postfix) with ESMTP id 3D94A604D420; Wed, 11 Jun 2025 22:26:51 -0400 (EDT) Subject: |SUCCESS| pw154348 [PATCH] test/event: fix event vector adapter time From: dpdklab@iol.unh.edu To: Test Report Cc: dpdk-test-reports@iol.unh.edu In-Reply-To: <20250612001338.71098-1-pbhagavatula@marvell.com> References: <20250612001338.71098-1-pbhagavatula@marvell.com> Content-Type: text/plain X-BeenThere: test-report@dpdk.org X-Mailman-Version: 2.1.29 Precedence: list List-Id: automatic DPDK test reports List-Unsubscribe: , List-Archive: List-Post: List-Help: List-Subscribe: , Errors-To: test-report-bounces@dpdk.org Test-Label: iol-unit-arm64-testing Test-Status: SUCCESS http://dpdk.org/patch/154348 _Testing PASS_ Submitter: Pavan Nikhilesh Bhagavatula Date: Thursday, June 12 2025 00:13:38 DPDK git baseline: Repo:dpdk Branch: master CommitID:321f0a60005e7d3192300988b6a31e2a50945c4b 154348 --> testing pass Upstream job id: Generic-Unit-Test-DPDK#345155 Test environment and result as below: +------------------------------+------------------------------+---------------------------+--------------+----------------+ | Environment | cryptodev_sw_snow3g_autotest | cryptodev_sw_zuc_autotest | lpm_autotest | dpdk_unit_test | +==============================+==============================+===========================+==============+================+ | Debian 12 (arm) | PASS | PASS | SKIPPED | SKIPPED | +------------------------------+------------------------------+---------------------------+--------------+----------------+ | Ubuntu 20.04 | SKIPPED | SKIPPED | PASS | PASS | +------------------------------+------------------------------+---------------------------+--------------+----------------+ | CentOS Stream 10 (ARM) | SKIPPED | SKIPPED | SKIPPED | PASS | +------------------------------+------------------------------+---------------------------+--------------+----------------+ | Debian GNU/Linux 12 | SKIPPED | SKIPPED | SKIPPED | PASS | +------------------------------+------------------------------+---------------------------+--------------+----------------+ | CentOS Stream 9 (ARM) | SKIPPED | SKIPPED | SKIPPED | PASS | +------------------------------+------------------------------+---------------------------+--------------+----------------+ | Fedora 41 (ARM Clang) | SKIPPED | SKIPPED | SKIPPED | PASS | +------------------------------+------------------------------+---------------------------+--------------+----------------+ | Fedora 41 (ARM) | SKIPPED | SKIPPED | SKIPPED | PASS | +------------------------------+------------------------------+---------------------------+--------------+----------------+ | Fedora 40 (ARM) | SKIPPED | SKIPPED | SKIPPED | PASS | +------------------------------+------------------------------+---------------------------+--------------+----------------+ | Red Hat Enterprise Linux 9.5 | SKIPPED | SKIPPED | SKIPPED | PASS | +------------------------------+------------------------------+---------------------------+--------------+----------------+ | Fedora 40 (ARM Clang) | SKIPPED | SKIPPED | SKIPPED | PASS | +------------------------------+------------------------------+---------------------------+--------------+----------------+ | Ubuntu 22.04 | SKIPPED | SKIPPED | SKIPPED | PASS | +------------------------------+------------------------------+---------------------------+--------------+----------------+ | Ubuntu 24.04 | SKIPPED | SKIPPED | SKIPPED | PASS | +------------------------------+------------------------------+---------------------------+--------------+----------------+ Debian 12 (arm) Kernel: Depends on container host Compiler: gcc (Debian 12.2.0-14) 12.2.0 Ubuntu 20.04 Kernel: 5.4 Compiler: gcc gcc (Ubuntu 9.4.0-1ubuntu1~20.04.2) 9.4.0 CentOS Stream 10 (ARM) Kernel: Depends on container host Compiler: gcc 14.2.1 20241104 (Red Hat 14.2.1-6) Debian GNU/Linux 12 Kernel: 5.4 Compiler: gcc gcc (Debian 12.2.0-14) 12.2.0 CentOS Stream 9 (ARM) Kernel: Depends on container host Compiler: gcc 11.5.0 20240719 (Red Hat 11.5.0-2) Fedora 41 (ARM Clang) Kernel: Depends on container host Compiler: clang 19.1.5 (Fedora 19.1.5-1.fc41) Fedora 41 (ARM) Kernel: Depends on container host Compiler: gcc 14.2.1 20240912 (Red Hat 14.2.1-3) Fedora 40 (ARM) Kernel: Depends on container host Compiler: gcc 14.2.1 20240912 (Red Hat 14.2.1-3) Red Hat Enterprise Linux 9.5 Kernel: 5.4 Compiler: gcc gcc (GCC) 11.5.0 20240719 (Red Hat 11.5.0-2) Fedora 40 (ARM Clang) Kernel: Depends on container host Compiler: clang 18.1.8 (Fedora 18.1.8-1.fc40) Ubuntu 22.04 Kernel: 5.4 Compiler: gcc gcc (Ubuntu 11.4.0-1ubuntu1~22.04) 11.4.0 Ubuntu 24.04 Kernel: 5.4 Compiler: gcc gcc (Ubuntu 13.3.0-6ubuntu2~24.04) 13.3.0 To view detailed results, visit: https://lab.dpdk.org/results/dashboard/patchsets/33392/ UNH-IOL DPDK Community Lab To manage your email subscriptions, visit: https://lab.dpdk.org/results/dashboard/preferences/subscriptions/