From mboxrd@z Thu Jan 1 00:00:00 1970 Return-Path: Received: from mails.dpdk.org (mails.dpdk.org [217.70.189.124]) by inbox.dpdk.org (Postfix) with ESMTP id B1201468DB for ; Thu, 12 Jun 2025 06:34:13 +0200 (CEST) Received: from mails.dpdk.org (localhost [127.0.0.1]) by mails.dpdk.org (Postfix) with ESMTP id 9529F4021F; Thu, 12 Jun 2025 06:34:13 +0200 (CEST) Received: from mail-qv1-f100.google.com (mail-qv1-f100.google.com [209.85.219.100]) by mails.dpdk.org (Postfix) with ESMTP id E6F804021F for ; Thu, 12 Jun 2025 06:34:12 +0200 (CEST) Received: by mail-qv1-f100.google.com with SMTP id 6a1803df08f44-6fb01566184so5564046d6.1 for ; Wed, 11 Jun 2025 21:34:12 -0700 (PDT) DKIM-Signature: v=1; a=rsa-sha256; c=relaxed/relaxed; d=iol.unh.edu; s=unh-iol; t=1749702852; x=1750307652; darn=dpdk.org; h=references:in-reply-to:cc:to:from:subject:message-id:date:from:to :cc:subject:date:message-id:reply-to; bh=6b219TRSxsz8Qj3uosKVCXwUMMvLcQ976xt9c2WYymE=; b=C4NlSevd9AD/pIbRbTBlQ/zMOnsiMAFG1vL7CQVMLjlBTzJyFY656buy97Ye382krh tJC9LzeTMpg9JSJz8y3g8Q0nSq7G4PEnNT5JZJh0b//GZXfAQvVzDfQwF8pH5cNFMiBb y7bFXPq9UAyMhveX0bymDLE4mx/Stx2tus3zY= X-Google-DKIM-Signature: v=1; a=rsa-sha256; c=relaxed/relaxed; d=1e100.net; s=20230601; t=1749702852; x=1750307652; h=references:in-reply-to:cc:to:from:subject:message-id:date :x-gm-message-state:from:to:cc:subject:date:message-id:reply-to; bh=6b219TRSxsz8Qj3uosKVCXwUMMvLcQ976xt9c2WYymE=; b=u+Kw5IdrXeKjPS8N90+QhjeItxcFTWFe8t3hpJW7rgucjNbrBYsJl8RVmwy3F3jk4p l4HSJBlzxVMdGsaVInnKJqU73hu3y/aDZOsc57Jbqo0BtFpw/8/nAsflCz9aqWwoLO3j p83PJcZcmiv//bxAFqSJ6sEFRyF16aVltS10X7qQsCKmRFdKt7vlC4OV7c1lSq3Iyc2H vTTcu96ta2qhsLsfJPf7tCIrESZVhWIHQq6WWZhcQBHG94cP7g/0iLMy3mIyhJTYtqVN FSf2ahG89rndOrWrXTDETAF393wUVyN8d8pH3Y4Nf9lnAmmN/k1OC8ArpFU2pd8IFSeh MVKg== X-Gm-Message-State: AOJu0Ywznd0SkEGLSIi67GrVzIJbRfzAnc5bXJnzIr0cyNtxaiuqhg1j AEokMDB5SEdRKhJgRYguLa1eNdMWnbpL12Zz6qVAeX6xhxLWeY7yeFWJl8ufq6VqVZFj3VYTsAJ fcGCbzdRjiy/E47eDAiZjtloaMwjqbRyFfi26rF5x8XQu X-Gm-Gg: ASbGnctdK1M4yWe/rXo2iAAtAWfxYh6ngGTAMFAsP3KMZXiNV42SuaFVNfOAmRLYcxg ibDEA6eKqXYx4TtSuQzbf75X/sQrRsK0IeEsHShP6a3yQ1RyfOh2/qwX/wIfqJy3qfWUe21WOND cecCmMZ6jJl1SNv4clwnjzBAoz1jjWF/4rS8sPhFLvEIJUG9PTtdXl3DcsZsJKh6obNItxc7Vga yTO2c4AJuR5CMXMhMEUlTHCQAayjHB54rOdId6pwgGLGPR+fw1Y7k7nBnjsBtrh4q/7Ovwlp/LU NRsLzJ1/z60iOydC1cJTAy0UYeyluUq6Y3usEeGA6oYA2N8y7OMQU1nqVM3WPQM9fe9d7A== X-Google-Smtp-Source: AGHT+IEE/90fOHoD/yY62awBHcYIbY4gvK6+Zs+2Pw63LA5DYYMjI9rD5y60eX6XXjuju9lQXK4mQZps0TDJ X-Received: by 2002:a05:6214:4109:b0:6fa:a0af:7644 with SMTP id 6a1803df08f44-6fb2c365ff8mr106947286d6.27.1749702852292; Wed, 11 Jun 2025 21:34:12 -0700 (PDT) Received: from postal.iol.unh.edu (postal.iol.unh.edu. [132.177.123.84]) by smtp-relay.gmail.com with ESMTPS id 6a1803df08f44-6fb35b30cb0sm245596d6.21.2025.06.11.21.34.12 (version=TLS1_2 cipher=ECDHE-ECDSA-AES128-GCM-SHA256 bits=128/128); Wed, 11 Jun 2025 21:34:12 -0700 (PDT) X-Relaying-Domain: iol.unh.edu Date: Wed, 11 Jun 2025 21:34:12 -0700 (PDT) Message-ID: <684a58c4.050a0220.43a3d.110fSMTPIN_ADDED_MISSING@mx.google.com> Received: from [172.21.0.7] (unknown [172.18.0.240]) by postal.iol.unh.edu (Postfix) with ESMTP id B0C0B6000381; Thu, 12 Jun 2025 00:34:11 -0400 (EDT) Subject: |WARNING| pw154348 [PATCH] test/event: fix event vector adapter time From: dpdklab@iol.unh.edu To: Test Report Cc: dpdk-test-reports@iol.unh.edu In-Reply-To: <20250612001338.71098-1-pbhagavatula@marvell.com> References: <20250612001338.71098-1-pbhagavatula@marvell.com> Content-Type: text/plain X-BeenThere: test-report@dpdk.org X-Mailman-Version: 2.1.29 Precedence: list List-Id: automatic DPDK test reports List-Unsubscribe: , List-Archive: List-Post: List-Help: List-Subscribe: , Errors-To: test-report-bounces@dpdk.org Test-Label: iol-compile-amd64-testing Test-Status: WARNING http://dpdk.org/patch/154348 _Testing issues_ Submitter: Pavan Nikhilesh Bhagavatula Date: Thursday, June 12 2025 00:13:38 DPDK git baseline: Repo:dpdk Branch: master CommitID:321f0a60005e7d3192300988b6a31e2a50945c4b 154348 --> testing issues Upstream job id: Generic-DPDK-Compile-Meson#396622 Test environment and result as below: +-------------------------------+--------------------+-------------------+------------------+-------------------------+-------------------+----------------------+ | Environment | dpdk_meson_compile | dpdk_compile_spdk | dpdk_compile_ovs | dpdk_llvm_clang_compile | dpdk_msvc_compile | dpdk_mingw64_compile | +===============================+====================+===================+==================+=========================+===================+======================+ | CentOS Stream 9 | PASS | PASS | SKIPPED | SKIPPED | SKIPPED | SKIPPED | +-------------------------------+--------------------+-------------------+------------------+-------------------------+-------------------+----------------------+ | CentOS Stream 10 | PASS | SKIPPED | SKIPPED | SKIPPED | SKIPPED | SKIPPED | +-------------------------------+--------------------+-------------------+------------------+-------------------------+-------------------+----------------------+ | Fedora 40 (Clang) | PASS | WARN | SKIPPED | SKIPPED | SKIPPED | SKIPPED | +-------------------------------+--------------------+-------------------+------------------+-------------------------+-------------------+----------------------+ | Debian GNU/Linux 12 | PASS | PASS | SKIPPED | SKIPPED | SKIPPED | SKIPPED | +-------------------------------+--------------------+-------------------+------------------+-------------------------+-------------------+----------------------+ | Fedora 41 (Clang) | PASS | WARN | PASS | SKIPPED | SKIPPED | SKIPPED | +-------------------------------+--------------------+-------------------+------------------+-------------------------+-------------------+----------------------+ | Fedora 40 | PASS | PASS | SKIPPED | SKIPPED | SKIPPED | SKIPPED | +-------------------------------+--------------------+-------------------+------------------+-------------------------+-------------------+----------------------+ | openSUSE Leap 15.6 | PASS | SKIPPED | SKIPPED | SKIPPED | SKIPPED | SKIPPED | +-------------------------------+--------------------+-------------------+------------------+-------------------------+-------------------+----------------------+ | Fedora 41 | PASS | PASS | PASS | SKIPPED | SKIPPED | SKIPPED | +-------------------------------+--------------------+-------------------+------------------+-------------------------+-------------------+----------------------+ | Red Hat Enterprise Linux 8.10 | PASS | SKIPPED | SKIPPED | SKIPPED | SKIPPED | SKIPPED | +-------------------------------+--------------------+-------------------+------------------+-------------------------+-------------------+----------------------+ | Red Hat Enterprise Linux 9.5 | PASS | SKIPPED | SKIPPED | SKIPPED | SKIPPED | SKIPPED | +-------------------------------+--------------------+-------------------+------------------+-------------------------+-------------------+----------------------+ | Ubuntu 22.04 | PASS | PASS | SKIPPED | SKIPPED | SKIPPED | SKIPPED | +-------------------------------+--------------------+-------------------+------------------+-------------------------+-------------------+----------------------+ | Ubuntu 20.04 | PASS | SKIPPED | SKIPPED | SKIPPED | SKIPPED | SKIPPED | +-------------------------------+--------------------+-------------------+------------------+-------------------------+-------------------+----------------------+ | Ubuntu 24.04 | PASS | PASS | PASS | SKIPPED | SKIPPED | SKIPPED | +-------------------------------+--------------------+-------------------+------------------+-------------------------+-------------------+----------------------+ | Alpine | PASS | SKIPPED | SKIPPED | SKIPPED | SKIPPED | SKIPPED | +-------------------------------+--------------------+-------------------+------------------+-------------------------+-------------------+----------------------+ | FreeBSD 14.2 | PASS | SKIPPED | SKIPPED | SKIPPED | SKIPPED | SKIPPED | +-------------------------------+--------------------+-------------------+------------------+-------------------------+-------------------+----------------------+ | Windows Server 2022 | SKIPPED | SKIPPED | SKIPPED | PASS | PASS | PASS | +-------------------------------+--------------------+-------------------+------------------+-------------------------+-------------------+----------------------+ ==== 20 line log output for Fedora 41 (Clang) (dpdk_compile_spdk): ==== --- Failed to get log output --- ==== End log output ==== CentOS Stream 9 Kernel: Depends on container host Compiler: gcc 11.5.0 20240719 (Red Hat 11.5.0-2) CentOS Stream 10 Kernel: Depends on container host Compiler: gcc 14.2.1 20241104 (Red Hat 14.2.1-6) Fedora 40 (Clang) Kernel: Depends on container host Compiler: clang 18.1.8 (Fedora 18.1.8-1.fc40) Debian GNU/Linux 12 Kernel: 5.15 Compiler: gcc gcc (Debian 12.2.0-14) 12.2.0 Fedora 41 (Clang) Kernel: Depends on container host Compiler: clang 19.1.5 (Fedora 19.1.5-1.fc41) Fedora 40 Kernel: Depends on container host Compiler: gcc 14.2.1 20240912 (Red Hat 14.2.1-3) openSUSE Leap 15.6 Kernel: 5.15 Compiler: gcc gcc (SUSE Linux) 7.5.0 Fedora 41 Kernel: Depends on container host Compiler: gcc 14.2.1 20240912 (Red Hat 14.2.1-3) Red Hat Enterprise Linux 8.10 Kernel: 5.15 Compiler: gcc gcc (GCC) 8.5.0 20210514 (Red Hat 8.5.0-22) Red Hat Enterprise Linux 9.5 Kernel: 5.15 Compiler: gcc gcc (GCC) 11.5.0 20240719 (Red Hat 11.5.0-2) Ubuntu 22.04 Kernel: 5.15 Compiler: gcc gcc (Ubuntu 11.4.0-1ubuntu1~22.04) 11.4.0 Ubuntu 20.04 Kernel: 5.15 Compiler: gcc gcc (Ubuntu 9.4.0-1ubuntu1~20.04.2) 9.4.0 Ubuntu 24.04 Kernel: 5.15 Compiler: gcc gcc (Ubuntu 13.3.0-6ubuntu2~24.04) 13.3.0 Alpine Kernel: Depends on container host Compiler: gcc (Alpine 14.2.0) 14.2.0 FreeBSD 14.2 Kernel: 14.2-RELEASE Compiler: clang 18.1.6 Windows Server 2022 Kernel: 10.0.20348.2031 Compiler: clang 15.0.7, gcc 14.1.0 (MinGW), and MSVC VS 19.39.33521 To view detailed results, visit: https://lab.dpdk.org/results/dashboard/patchsets/33392/ UNH-IOL DPDK Community Lab To manage your email subscriptions, visit: https://lab.dpdk.org/results/dashboard/preferences/subscriptions/