From mboxrd@z Thu Jan  1 00:00:00 1970
Return-Path: <test-report-bounces@dpdk.org>
Received: from mails.dpdk.org (mails.dpdk.org [217.70.189.124])
	by inbox.dpdk.org (Postfix) with ESMTP id 75684468E2
	for <public@inbox.dpdk.org>; Thu, 12 Jun 2025 18:09:22 +0200 (CEST)
Received: from mails.dpdk.org (localhost [127.0.0.1])
	by mails.dpdk.org (Postfix) with ESMTP id 6F42042789;
	Thu, 12 Jun 2025 18:09:22 +0200 (CEST)
Received: from mail-io1-f100.google.com (mail-io1-f100.google.com
 [209.85.166.100])
 by mails.dpdk.org (Postfix) with ESMTP id 247C842789
 for <test-report@dpdk.org>; Thu, 12 Jun 2025 18:09:21 +0200 (CEST)
Received: by mail-io1-f100.google.com with SMTP id
 ca18e2360f4ac-86cfa53d151so10358639f.2
 for <test-report@dpdk.org>; Thu, 12 Jun 2025 09:09:21 -0700 (PDT)
DKIM-Signature: v=1; a=rsa-sha256; c=relaxed/relaxed;
 d=iol.unh.edu; s=unh-iol; t=1749744560; x=1750349360; darn=dpdk.org;
 h=references:in-reply-to:cc:to:from:subject:message-id:date:from:to
 :cc:subject:date:message-id:reply-to;
 bh=dFGfFtm22WSl/Xw2AQxsn4BKkhxocYCipT/p+Ao5jWA=;
 b=cn6KQ/mXsa/WbILmUs9KI6unrVDyizpAh8dJIt4Eaa9C8LAEt0yPSRI7rdp4tpa5rV
 FXN/HnT9CO8sCFzuj0uyfNyPwg2WGPfsu+Zdwx51U61GG9dAz1fS87DeNufwBuwhCTeW
 xSPszVxLICy1bipHagtZhvEwAn54Ad+5WG6Gk=
X-Google-DKIM-Signature: v=1; a=rsa-sha256; c=relaxed/relaxed;
 d=1e100.net; s=20230601; t=1749744560; x=1750349360;
 h=references:in-reply-to:cc:to:from:subject:message-id:date
 :x-gm-message-state:from:to:cc:subject:date:message-id:reply-to;
 bh=dFGfFtm22WSl/Xw2AQxsn4BKkhxocYCipT/p+Ao5jWA=;
 b=Y5ha0BvN9MJ8Y8xA8skaxaexTU+4nLvq18vb6oMCMwZHtkwK1LscRiQI2ZSB42IVlf
 0VLxYKmTvRdXtxD/qTh3x3VMTAR5v3Ax4b8h60lpAPUp9ABEM1mcLff1ARsA72VYBerL
 JqbgIIFFQgyXCbjrhDf51kVMUtpzZBKrEP1hdwpuJ3yjhMfllWQP6RZvX7Bg8T/gSkvr
 YtAiGxBneul6jPhdecM27Zv/1lw2IKf5R7d+Trv8Y4GdworC3U1fX7UgIL4LT/nr1Z1X
 OdJCE6aYy+8EE2VzJD7lPXAK7/3bnMvqv4qJYYS61o4iMsauRdyowZ0/PpXvsG23Fk6G
 qVzg==
X-Gm-Message-State: AOJu0Yz9rHy5rv5zVy9rUdNBUjoogl5EVBmeUUAHYN5Os0aHlQ1CoMTJ
 JTGL5552D9HLtanOoz8bSy3LfEnsr1bnYgkLJO+awd67rX7zjSdpGkT2XxfkKTEi0aJ38CrJigq
 AGvyoz5nws+Ojv2m8YTXhnUOBwktzzzxtJDgihjvCI+ir
X-Gm-Gg: ASbGncsgXNawme5ZITCZbnmQo7f+6tYLfsJRFmbnU862jHhgsuYw4qMT3F7lUHFG/ry
 c/TUhkMGk+QZJnV9eJGRORdR/vYasuyFuohchxtI5Ftku1ySweTf8Rwdxewmwm1iXCrh846iO8h
 FV7fmJAKojz7ntafwCdlq+XOMx/Lo3kpWTkLqrSk+qPeK8xFLYnP5Pzhny8nskRWn0I7thGC+PF
 xrzQR//gAUMBFoLRwYwYrOVVe/sIMQDiVu7vR5dzHq09VJxWY5CjU2oA26nDQX+a+XmjkgyKWlI
 P09xFMxaEeTtZCzcpFZMJf/7KpHEViyO+RhNbDL5bwgFnHLpGBlKOEMmhgF0+c7embwufw==
X-Google-Smtp-Source: AGHT+IHxQBZLuLtxmLQcCaXINOwWYMFccS4iePuKUrm3NGpylTUPtFR263VbiP6zEqfd6Fyi79dQpUEQNBMY
X-Received: by 2002:a05:6602:474a:b0:862:fe54:df4e with SMTP id
 ca18e2360f4ac-875d30c7de4mr18778539f.7.1749744560417; 
 Thu, 12 Jun 2025 09:09:20 -0700 (PDT)
Received: from postal.iol.unh.edu (postal.iol.unh.edu. [132.177.123.84])
 by smtp-relay.gmail.com with ESMTPS id
 ca18e2360f4ac-875c7faab9bsm8553439f.30.2025.06.12.09.09.20
 (version=TLS1_2 cipher=ECDHE-ECDSA-AES128-GCM-SHA256 bits=128/128);
 Thu, 12 Jun 2025 09:09:20 -0700 (PDT)
X-Relaying-Domain: iol.unh.edu
Date: Thu, 12 Jun 2025 09:09:20 -0700 (PDT)
Message-ID: <684afbb0.050a0220.ca253.3affSMTPIN_ADDED_MISSING@mx.google.com>
Received: from [172.21.0.5] (unknown [172.18.0.240])
 by postal.iol.unh.edu (Postfix) with ESMTP id E36D9604D420;
 Thu, 12 Jun 2025 12:09:19 -0400 (EDT)
Subject: |SUCCESS| pw154286-154287 [PATCH] [2/2] uapi: update headers to 6.15
From: dpdklab@iol.unh.edu
To: Test Report <test-report@dpdk.org>
Cc: dpdk-test-reports@iol.unh.edu
In-Reply-To: <20250610151158.209572-3-stephen@networkplumber.org>
References: <20250610151158.209572-3-stephen@networkplumber.org>
Content-Type: text/plain
X-BeenThere: test-report@dpdk.org
X-Mailman-Version: 2.1.29
Precedence: list
List-Id: automatic DPDK test reports <test-report.dpdk.org>
List-Unsubscribe: <https://mails.dpdk.org/options/test-report>,
 <mailto:test-report-request@dpdk.org?subject=unsubscribe>
List-Archive: <http://mails.dpdk.org/archives/test-report/>
List-Post: <mailto:test-report@dpdk.org>
List-Help: <mailto:test-report-request@dpdk.org?subject=help>
List-Subscribe: <https://mails.dpdk.org/listinfo/test-report>,
 <mailto:test-report-request@dpdk.org?subject=subscribe>
Errors-To: test-report-bounces@dpdk.org

Test-Label: iol-unit-amd64-testing
Test-Status: SUCCESS
http://dpdk.org/patch/154287

_Testing PASS_

Submitter: Stephen Hemminger <stephen@networkplumber.org>
Date: Tuesday, June 10 2025 15:11:21 
DPDK git baseline: Repo:dpdk
  Branch: master
  CommitID:e3942de6c981e14a762185976a84cb02882699ed

154286-154287 --> testing pass

Upstream job id: Generic-VM-Unit-Test-DPDK#29085

Test environment and result as below:

+-------------------------------+----------------+
|          Environment          | dpdk_unit_test |
+===============================+================+
| CentOS Stream 9               | PASS           |
+-------------------------------+----------------+
| Debian GNU/Linux 12           | PASS           |
+-------------------------------+----------------+
| CentOS Stream 10              | PASS           |
+-------------------------------+----------------+
| Fedora 40 (Clang)             | PASS           |
+-------------------------------+----------------+
| Fedora 40                     | PASS           |
+-------------------------------+----------------+
| Fedora 41                     | PASS           |
+-------------------------------+----------------+
| Fedora 41 (Clang)             | PASS           |
+-------------------------------+----------------+
| Red Hat Enterprise Linux 9.5  | PASS           |
+-------------------------------+----------------+
| Red Hat Enterprise Linux 8.10 | PASS           |
+-------------------------------+----------------+
| Ubuntu 20.04                  | PASS           |
+-------------------------------+----------------+
| Ubuntu 22.04                  | PASS           |
+-------------------------------+----------------+
| Ubuntu 24.04                  | PASS           |
+-------------------------------+----------------+
| Windows Server 2022           | PASS           |
+-------------------------------+----------------+


CentOS Stream 9
	Kernel: Depends on container host
	Compiler: gcc 11.5.0 20240719 (Red Hat 11.5.0-2)

Debian GNU/Linux 12
	Kernel: 5.15
	Compiler: gcc gcc (Debian 12.2.0-14) 12.2.0

CentOS Stream 10
	Kernel: Depends on container host
	Compiler: gcc 14.2.1 20241104 (Red Hat 14.2.1-6)

Fedora 40 (Clang)
	Kernel: Depends on container host
	Compiler: clang 18.1.8 (Fedora 18.1.8-1.fc40)

Fedora 40
	Kernel: Depends on container host
	Compiler: gcc 14.2.1 20240912 (Red Hat 14.2.1-3)

Fedora 41
	Kernel: Depends on container host
	Compiler: gcc 14.2.1 20240912 (Red Hat 14.2.1-3)

Fedora 41 (Clang)
	Kernel: Depends on container host
	Compiler: clang 19.1.5 (Fedora 19.1.5-1.fc41)

Red Hat Enterprise Linux 9.5
	Kernel: 5.15
	Compiler: gcc gcc (GCC) 11.5.0 20240719 (Red Hat 11.5.0-2)

Red Hat Enterprise Linux 8.10
	Kernel: 5.15
	Compiler: gcc gcc (GCC) 8.5.0 20210514 (Red Hat 8.5.0-22)

Ubuntu 20.04
	Kernel: 5.15
	Compiler: gcc gcc (Ubuntu 9.4.0-1ubuntu1~20.04.2) 9.4.0

Ubuntu 22.04
	Kernel: 5.15
	Compiler: gcc gcc (Ubuntu 11.4.0-1ubuntu1~22.04) 11.4.0

Ubuntu 24.04
	Kernel: 5.15
	Compiler: gcc gcc (Ubuntu 13.3.0-6ubuntu2~24.04) 13.3.0

Windows Server 2022
	Kernel: 10.0.20348.2031
	Compiler: clang 15.0.7, gcc 14.1.0 (MinGW), and MSVC VS 19.39.33521

To view detailed results, visit:
https://lab.dpdk.org/results/dashboard/patchsets/33379/

UNH-IOL DPDK Community Lab

To manage your email subscriptions, visit: 
https://lab.dpdk.org/results/dashboard/preferences/subscriptions/