From mboxrd@z Thu Jan 1 00:00:00 1970 Return-Path: Received: from mails.dpdk.org (mails.dpdk.org [217.70.189.124]) by inbox.dpdk.org (Postfix) with ESMTP id 427C8469DA for ; Tue, 17 Jun 2025 19:03:01 +0200 (CEST) Received: from mails.dpdk.org (localhost [127.0.0.1]) by mails.dpdk.org (Postfix) with ESMTP id 37F86402C5; Tue, 17 Jun 2025 19:03:01 +0200 (CEST) Received: from mail-pl1-f226.google.com (mail-pl1-f226.google.com [209.85.214.226]) by mails.dpdk.org (Postfix) with ESMTP id 64E60402C5 for ; Tue, 17 Jun 2025 19:03:00 +0200 (CEST) Received: by mail-pl1-f226.google.com with SMTP id d9443c01a7336-2363e973db1so55238955ad.0 for ; Tue, 17 Jun 2025 10:03:00 -0700 (PDT) DKIM-Signature: v=1; a=rsa-sha256; c=relaxed/relaxed; d=iol.unh.edu; s=unh-iol; t=1750179779; x=1750784579; darn=dpdk.org; h=references:in-reply-to:cc:to:from:subject:message-id:date:from:to :cc:subject:date:message-id:reply-to; bh=n9DDWRbmEFNFd/4/ssq8PseomPMc+1ceUk7MKtvj3aM=; b=NPkcNhwhdPnXF7cFaWCEy3zccvKCXlbIp9Yt5QERGk5dpVbn5h4uevuJmxxebKQT+F RkWDdqccIt9CCjfKRbduVGvkaEcJBW6Q0fMpJJVAYUKhBxmxrVoZjyevH+n66YEPXjqS JhcAI/gSeDybhAfDYqy0NInU3BjR3Ng2RrxiA= X-Google-DKIM-Signature: v=1; a=rsa-sha256; c=relaxed/relaxed; d=1e100.net; s=20230601; t=1750179779; x=1750784579; h=references:in-reply-to:cc:to:from:subject:message-id:date :x-gm-message-state:from:to:cc:subject:date:message-id:reply-to; bh=n9DDWRbmEFNFd/4/ssq8PseomPMc+1ceUk7MKtvj3aM=; b=f15U2V31IP/zz9MuVqI8FRz2Y/J5a92AS0y5w/H1Axkp8LzX+VJB8TAqSunmihUN5F 90AqmciUinGKHRXI0cyGVztQN0RUcmPew4hxn/Ars/C7hUUhwEdHM2IHgnWH/V8adHw/ 8WYUsqwWPBoGe8gN0S20jZzDwOjLXxKjnefZjCc6wyyr3K+jSbg36CMGAeMxHuHdxSa/ a14VFhJdONCeGqixPSy+GkcEBhWI4FJegdoUg6T2J3YQPC4td8fVHGhv5ytluHVej7u0 2y3kyZjt1wSDBu68C3b1V88/pMkq/t+Yd0artVUNOcX1bFmW0swGwT/dXI3wpDeA1lTm eelw== X-Gm-Message-State: AOJu0Yx5Pj8V8FH+sRMoEq/ub2Ef7U3CMXdjVFLjL5ekBBpWpXQeDfA3 QVDgSXgWntfF7e15u7tgvSbZ6RS8uzwMqw9FL6yVyTdvmqh3GIxAhGo6oOqGiLlgPY/Vi5yC6WY btdIKIAztQqJeqrH64D7Y7IQDYycVx5EKQIU6s3pKrX6n+QEgMV32U1Sl9MX5 X-Gm-Gg: ASbGnctk0yP1t0HIscrJAPsrmw/IefkAlKUMvod6hGH5UnUXBpxXUH2jlhjtE2BTfvA tHzOgx2fOmlCAH2QhAKOojgBP1Wk2/+0jQ4qnUjk/SRWBFecDcm2p48prbJh7vH7L8ouQjBelav 8HS95Egigx3rIbPLHvc4mHszOgsFG47kkZF1ZIu0G1FnGiQfPOVPh06AEBDEuVhPuN+CFxCeA2q zfVM88zjTAPJ8yVchfs7HPD/zR2kebxbQ0nL1VNuWubngvruC/d6fmF6NoWP7mAqf8PNJ+sE6JH xqYywqWA4rippfjknHbDX77BOTy16/8SIoFzjyE8Sn5G/XI= X-Google-Smtp-Source: AGHT+IE5bKnp1byk8TJ1ooW+/XUpoMZK6xVtco8+a0S/HfvB7ffDQFy/b/0m5heQVxO3pClBc78wnItdSRKJ X-Received: by 2002:a17:903:3bc6:b0:235:e1e4:edb0 with SMTP id d9443c01a7336-23691ecc8f1mr48637515ad.22.1750179779451; Tue, 17 Jun 2025 10:02:59 -0700 (PDT) Received: from postal.iol.unh.edu (postal.iol.unh.edu. [2606:4100:3880:1234::84]) by smtp-relay.gmail.com with ESMTPS id d9443c01a7336-2365d8a4d61sm5073065ad.47.2025.06.17.10.02.59 (version=TLS1_2 cipher=ECDHE-ECDSA-AES128-GCM-SHA256 bits=128/128); Tue, 17 Jun 2025 10:02:59 -0700 (PDT) X-Relaying-Domain: iol.unh.edu Date: Tue, 17 Jun 2025 10:02:59 -0700 (PDT) Message-ID: <68519fc3.170a0220.68502.7ad6SMTPIN_ADDED_MISSING@mx.google.com> Received: from [172.21.0.5] (unknown [172.18.0.240]) by postal.iol.unh.edu (Postfix) with ESMTP id 9ADC8604D420; Tue, 17 Jun 2025 13:02:58 -0400 (EDT) Subject: |SUCCESS| pw154514-154517 [PATCH] [v5,4/4] doc: announce TxPP suppor From: dpdklab@iol.unh.edu To: Test Report Cc: dpdk-test-reports@iol.unh.edu In-Reply-To: <20250617001429.551262-5-soumyadeep.hore@intel.com> References: <20250617001429.551262-5-soumyadeep.hore@intel.com> Content-Type: text/plain X-BeenThere: test-report@dpdk.org X-Mailman-Version: 2.1.29 Precedence: list List-Id: automatic DPDK test reports List-Unsubscribe: , List-Archive: List-Post: List-Help: List-Subscribe: , Errors-To: test-report-bounces@dpdk.org Test-Label: iol-unit-arm64-testing Test-Status: SUCCESS http://dpdk.org/patch/154517 _Testing PASS_ Submitter: Soumyadeep Hore Date: Tuesday, June 17 2025 00:14:29 DPDK git baseline: Repo:dpdk Branch: master CommitID:dbeb8ae8d09387bd525353f4a5aa6ec152cddffa 154514-154517 --> testing pass Upstream job id: Generic-Unit-Test-DPDK#346710 Test environment and result as below: +------------------------------+--------------+---------------------------+------------------------------+----------------+ | Environment | lpm_autotest | cryptodev_sw_zuc_autotest | cryptodev_sw_snow3g_autotest | dpdk_unit_test | +==============================+==============+===========================+==============================+================+ | Ubuntu 20.04 | PASS | SKIPPED | SKIPPED | PASS | +------------------------------+--------------+---------------------------+------------------------------+----------------+ | Debian 12 (arm) | SKIPPED | PASS | PASS | SKIPPED | +------------------------------+--------------+---------------------------+------------------------------+----------------+ | CentOS Stream 9 (ARM) | SKIPPED | SKIPPED | SKIPPED | PASS | +------------------------------+--------------+---------------------------+------------------------------+----------------+ | Debian GNU/Linux 12 | SKIPPED | SKIPPED | SKIPPED | PASS | +------------------------------+--------------+---------------------------+------------------------------+----------------+ | CentOS Stream 10 (ARM) | SKIPPED | SKIPPED | SKIPPED | PASS | +------------------------------+--------------+---------------------------+------------------------------+----------------+ | Red Hat Enterprise Linux 9.5 | SKIPPED | SKIPPED | SKIPPED | PASS | +------------------------------+--------------+---------------------------+------------------------------+----------------+ | Ubuntu 22.04 | SKIPPED | SKIPPED | SKIPPED | PASS | +------------------------------+--------------+---------------------------+------------------------------+----------------+ | Fedora 41 (ARM) | SKIPPED | SKIPPED | SKIPPED | PASS | +------------------------------+--------------+---------------------------+------------------------------+----------------+ | Fedora 40 (ARM) | SKIPPED | SKIPPED | SKIPPED | PASS | +------------------------------+--------------+---------------------------+------------------------------+----------------+ | Fedora Linux 41 | SKIPPED | SKIPPED | SKIPPED | PASS | +------------------------------+--------------+---------------------------+------------------------------+----------------+ | Fedora 40 (ARM Clang) | SKIPPED | SKIPPED | SKIPPED | PASS | +------------------------------+--------------+---------------------------+------------------------------+----------------+ | Ubuntu 24.04 | SKIPPED | SKIPPED | SKIPPED | PASS | +------------------------------+--------------+---------------------------+------------------------------+----------------+ Ubuntu 20.04 Kernel: 5.4 Compiler: gcc gcc (Ubuntu 9.4.0-1ubuntu1~20.04.2) 9.4.0 Debian 12 (arm) Kernel: Depends on container host Compiler: gcc (Debian 12.2.0-14) 12.2.0 CentOS Stream 9 (ARM) Kernel: Depends on container host Compiler: gcc 11.5.0 20240719 (Red Hat 11.5.0-2) Debian GNU/Linux 12 Kernel: 5.4 Compiler: gcc gcc (Debian 12.2.0-14) 12.2.0 CentOS Stream 10 (ARM) Kernel: Depends on container host Compiler: gcc 14.2.1 20241104 (Red Hat 14.2.1-6) Red Hat Enterprise Linux 9.5 Kernel: 5.4 Compiler: gcc gcc (GCC) 11.5.0 20240719 (Red Hat 11.5.0-2) Ubuntu 22.04 Kernel: 5.4 Compiler: gcc gcc (Ubuntu 11.4.0-1ubuntu1~22.04) 11.4.0 Fedora 41 (ARM) Kernel: Depends on container host Compiler: gcc 14.2.1 20240912 (Red Hat 14.2.1-3) Fedora 40 (ARM) Kernel: Depends on container host Compiler: gcc 14.2.1 20240912 (Red Hat 14.2.1-3) Fedora Linux 41 Kernel: 5.4 Compiler: clang gcc (GCC) 14.3.1 20250523 (Red Hat 14.3.1-1) Fedora 40 (ARM Clang) Kernel: Depends on container host Compiler: clang 18.1.8 (Fedora 18.1.8-1.fc40) Ubuntu 24.04 Kernel: 5.4 Compiler: gcc gcc (Ubuntu 13.3.0-6ubuntu2~24.04) 13.3.0 To view detailed results, visit: https://lab.dpdk.org/results/dashboard/patchsets/33432/ UNH-IOL DPDK Community Lab To manage your email subscriptions, visit: https://lab.dpdk.org/results/dashboard/preferences/subscriptions/