From mboxrd@z Thu Jan  1 00:00:00 1970
Return-Path: <test-report-bounces@dpdk.org>
Received: from mails.dpdk.org (mails.dpdk.org [217.70.189.124])
	by inbox.dpdk.org (Postfix) with ESMTP id 44F24469DD
	for <public@inbox.dpdk.org>; Wed, 18 Jun 2025 00:33:40 +0200 (CEST)
Received: from mails.dpdk.org (localhost [127.0.0.1])
	by mails.dpdk.org (Postfix) with ESMTP id 2944340279;
	Wed, 18 Jun 2025 00:33:40 +0200 (CEST)
Received: from mail-il1-f225.google.com (mail-il1-f225.google.com
 [209.85.166.225])
 by mails.dpdk.org (Postfix) with ESMTP id 074ED40279
 for <test-report@dpdk.org>; Wed, 18 Jun 2025 00:33:39 +0200 (CEST)
Received: by mail-il1-f225.google.com with SMTP id
 e9e14a558f8ab-3de209a3eb0so7766875ab.0
 for <test-report@dpdk.org>; Tue, 17 Jun 2025 15:33:38 -0700 (PDT)
DKIM-Signature: v=1; a=rsa-sha256; c=relaxed/relaxed;
 d=iol.unh.edu; s=unh-iol; t=1750199618; x=1750804418; darn=dpdk.org;
 h=references:in-reply-to:cc:to:from:subject:message-id:date:from:to
 :cc:subject:date:message-id:reply-to;
 bh=zZXGXei9OKzmkn9A+Lpz2Ko8Gucfcun8/TOi4V56y4Q=;
 b=iBofvAEU5vAZBGfePNt7DbE5mro3lWMIA0WkMBBt+9xUVry2L0wDkRncJMSiv5JrK0
 5SHHOH1Dqk34y1rjiB7T+0/tQWamUvYkHxYsDxWboPe8ZeFL56aCJ1XCQKBVOKaohmLI
 10hc+pNqVAQ0AxpLOam5sEcNQGo1k5M2xlko0=
X-Google-DKIM-Signature: v=1; a=rsa-sha256; c=relaxed/relaxed;
 d=1e100.net; s=20230601; t=1750199618; x=1750804418;
 h=references:in-reply-to:cc:to:from:subject:message-id:date
 :x-gm-message-state:from:to:cc:subject:date:message-id:reply-to;
 bh=zZXGXei9OKzmkn9A+Lpz2Ko8Gucfcun8/TOi4V56y4Q=;
 b=c7ritqjkW4uFX4jmIk8TQ9vDKFY5MQRUeWxIuZlXF9dKnBG0TojOdvq+aS/760h8qy
 UDkQAmu24oR6vnEujIHvB5boYo+Wxz60N1Br0jbUGLt6gYdjwI+DUbUYP4dOY8LUmA70
 kk7AJWH356jj92CI6NLqDRzpPLeKasuzth6fgOKJgCa1b2eAeyJ1QJ6vINmLQTu2FYzG
 ef3WESJ439uxUsY998LrWzO05x/z22GaGWskaoLUKxgZHm54YtMiKjErVQSSCp15srJQ
 uxxjUKmSfIVxoL7Z+Om+7Eqz35PBkHJXld5qLY+g4JUsv7pVWERKkw9x0gxELo4qWdF8
 XgYQ==
X-Gm-Message-State: AOJu0Yz6EJENiLuXHp42OHB94YfydwU9SPR2sRQzydp0APKSsEfsuXq6
 P+VeP0J96ZKva+0pS4FO2cNnXqTqmsLLSdTD7ZJPDE4DmjT+Gn9WsJU4DuPDCBy3tbExyXxOs0V
 Aj4QA7lcHr0O1uYAT3ijRWXrFnrvfvQi5ETD8kR71qQIQzckemKpsv9ZqMCH5
X-Gm-Gg: ASbGncuWW+i2Jh/hMJPrla6w8YWAZ+8rn5vnwa8wjHVOUe4dbWNHwPd+LnTPoMf8SAx
 Y8+IgHg5wRs1CJtMN7QqzL236k+TAt9sqSBl3nJNZqjD1Xh7PaqDpso5r9Tjv3YJQRGM9V0h6Qw
 WNdOW1etFRvsBuX2KBuFYr+rRArnabjKr+6OjzqAbBhDVJI2HxSgAYd2n+ak+ZpgKB7Wowe+uRa
 eWkyYYZczDo4br9tgHXsuN+vWBvKMhrJ2SB2W+7FpbrgEw5f7hawbLMYJTWANTk0bK2mkyPrhrx
 X7zKQ/RECXMCBtlbhy5unlxmqvmgDhn2QCDlLILyN0a2IHk=
X-Google-Smtp-Source: AGHT+IEnUjvZfGmjl4Y+rnTQthMhXZgcxsC4yzT9TOQS6JA6SqiVf8niPANeJHXOen/CQDmP+MF+iY3UoHlv
X-Received: by 2002:a05:6e02:338d:b0:3dd:cc26:61c7 with SMTP id
 e9e14a558f8ab-3de07d34062mr189244825ab.20.1750199618302; 
 Tue, 17 Jun 2025 15:33:38 -0700 (PDT)
Received: from postal.iol.unh.edu (postal.iol.unh.edu.
 [2606:4100:3880:1234::84]) by smtp-relay.gmail.com with ESMTPS id
 e9e14a558f8ab-3de01a1b097sm6215635ab.57.2025.06.17.15.33.38
 (version=TLS1_2 cipher=ECDHE-ECDSA-AES128-GCM-SHA256 bits=128/128);
 Tue, 17 Jun 2025 15:33:38 -0700 (PDT)
X-Relaying-Domain: iol.unh.edu
Date: Tue, 17 Jun 2025 15:33:38 -0700 (PDT)
Message-ID: <6851ed42.050a0220.41d51.d7edSMTPIN_ADDED_MISSING@mx.google.com>
Received: from [172.21.0.5] (unknown [172.18.0.240])
 by postal.iol.unh.edu (Postfix) with ESMTP id EF56C6051830;
 Tue, 17 Jun 2025 18:33:37 -0400 (EDT)
Subject: |SUCCESS| pw154541-154547 [PATCH] [v3,7/7] event/dlb2: fix default c
From: dpdklab@iol.unh.edu
To: Test Report <test-report@dpdk.org>
Cc: dpdk-test-reports@iol.unh.edu
In-Reply-To: <20250617182631.257612-8-pravin.pathak@intel.com>
References: <20250617182631.257612-8-pravin.pathak@intel.com>
Content-Type: text/plain
X-BeenThere: test-report@dpdk.org
X-Mailman-Version: 2.1.29
Precedence: list
List-Id: automatic DPDK test reports <test-report.dpdk.org>
List-Unsubscribe: <https://mails.dpdk.org/options/test-report>,
 <mailto:test-report-request@dpdk.org?subject=unsubscribe>
List-Archive: <http://mails.dpdk.org/archives/test-report/>
List-Post: <mailto:test-report@dpdk.org>
List-Help: <mailto:test-report-request@dpdk.org?subject=help>
List-Subscribe: <https://mails.dpdk.org/listinfo/test-report>,
 <mailto:test-report-request@dpdk.org?subject=subscribe>
Errors-To: test-report-bounces@dpdk.org

Test-Label: iol-abi-testing
Test-Status: SUCCESS
http://dpdk.org/patch/154547

_Testing PASS_

Submitter: Pravin Pathak <pravin.pathak@intel.com>
Date: Tuesday, June 17 2025 18:26:30 
DPDK git baseline: Repo:dpdk
  Branch: master
  CommitID:607db1754a6cf933747273355b98fb5fce0be428

154541-154547 --> testing pass

Upstream job id: Generic-DPDK-Compile-ABI#130629

Test environment and result as below:

+-------------------------------+----------+
|          Environment          | abi_test |
+===============================+==========+
| CentOS Stream 9               | PASS     |
+-------------------------------+----------+
| CentOS Stream 10              | PASS     |
+-------------------------------+----------+
| Fedora 41 (Clang)             | PASS     |
+-------------------------------+----------+
| Fedora 40 (Clang)             | PASS     |
+-------------------------------+----------+
| Fedora 40                     | PASS     |
+-------------------------------+----------+
| Debian GNU/Linux 12           | PASS     |
+-------------------------------+----------+
| Red Hat Enterprise Linux 8.10 | PASS     |
+-------------------------------+----------+
| Fedora 41                     | PASS     |
+-------------------------------+----------+
| openSUSE Leap 15.6            | PASS     |
+-------------------------------+----------+
| Red Hat Enterprise Linux 9.5  | PASS     |
+-------------------------------+----------+
| Ubuntu 22.04                  | PASS     |
+-------------------------------+----------+
| Ubuntu 24.04                  | PASS     |
+-------------------------------+----------+


CentOS Stream 9
	Kernel: Depends on container host
	Compiler: gcc 11.5.0 20240719 (Red Hat 11.5.0-2)

CentOS Stream 10
	Kernel: Depends on container host
	Compiler: gcc 14.2.1 20241104 (Red Hat 14.2.1-6)

Fedora 41 (Clang)
	Kernel: Depends on container host
	Compiler: clang 19.1.5 (Fedora 19.1.5-1.fc41)

Fedora 40 (Clang)
	Kernel: Depends on container host
	Compiler: clang 18.1.8 (Fedora 18.1.8-1.fc40)

Fedora 40
	Kernel: Depends on container host
	Compiler: gcc 14.2.1 20240912 (Red Hat 14.2.1-3)

Debian GNU/Linux 12
	Kernel: 5.15
	Compiler: gcc gcc (Debian 12.2.0-14) 12.2.0

Red Hat Enterprise Linux 8.10
	Kernel: 5.15
	Compiler: gcc gcc (GCC) 8.5.0 20210514 (Red Hat 8.5.0-22)

Fedora 41
	Kernel: Depends on container host
	Compiler: gcc 14.2.1 20240912 (Red Hat 14.2.1-3)

openSUSE Leap 15.6
	Kernel: 5.15
	Compiler: gcc gcc (SUSE Linux) 7.5.0

Red Hat Enterprise Linux 9.5
	Kernel: 5.15
	Compiler: gcc gcc (GCC) 11.5.0 20240719 (Red Hat 11.5.0-2)

Ubuntu 22.04
	Kernel: 5.15
	Compiler: gcc gcc (Ubuntu 11.4.0-1ubuntu1~22.04) 11.4.0

Ubuntu 24.04
	Kernel: 5.15
	Compiler: gcc gcc (Ubuntu 13.3.0-6ubuntu2~24.04) 13.3.0

To view detailed results, visit:
https://lab.dpdk.org/results/dashboard/patchsets/33443/

UNH-IOL DPDK Community Lab

To manage your email subscriptions, visit: 
https://lab.dpdk.org/results/dashboard/preferences/subscriptions/