From mboxrd@z Thu Jan 1 00:00:00 1970 Return-Path: Received: from mails.dpdk.org (mails.dpdk.org [217.70.189.124]) by inbox.dpdk.org (Postfix) with ESMTP id B045E469DD for ; Wed, 18 Jun 2025 01:10:34 +0200 (CEST) Received: from mails.dpdk.org (localhost [127.0.0.1]) by mails.dpdk.org (Postfix) with ESMTP id AA60A40279; Wed, 18 Jun 2025 01:10:34 +0200 (CEST) Received: from mail-pl1-f227.google.com (mail-pl1-f227.google.com [209.85.214.227]) by mails.dpdk.org (Postfix) with ESMTP id ED45C40279 for ; Wed, 18 Jun 2025 01:10:32 +0200 (CEST) Received: by mail-pl1-f227.google.com with SMTP id d9443c01a7336-235a3dd4f0dso40703135ad.0 for ; Tue, 17 Jun 2025 16:10:32 -0700 (PDT) DKIM-Signature: v=1; a=rsa-sha256; c=relaxed/relaxed; d=iol.unh.edu; s=unh-iol; t=1750201832; x=1750806632; darn=dpdk.org; h=references:in-reply-to:cc:to:from:subject:message-id:date:from:to :cc:subject:date:message-id:reply-to; bh=qhqPnFzqy5lJMmUGItVr1NpiTYC8RUJTB2UD1w50OsA=; b=DKtYE/zNOS/9V5M6V3oDGdBcnd6SZeDw0Q3dueENMHcqE6LsJBVTqainzWfLlz62lT 24RG7m6Ht5xEPH5aPpLi4Lk/WX9F3nE8gFfst5SKjpLJ62HHVqBMdFKwlGr2Pe7HNT40 11U2nebudVXslm+3qK+EZ0w9uadxL+SO2epOE= X-Google-DKIM-Signature: v=1; a=rsa-sha256; c=relaxed/relaxed; d=1e100.net; s=20230601; t=1750201832; x=1750806632; h=references:in-reply-to:cc:to:from:subject:message-id:date :x-gm-message-state:from:to:cc:subject:date:message-id:reply-to; bh=qhqPnFzqy5lJMmUGItVr1NpiTYC8RUJTB2UD1w50OsA=; b=XIViYmEW+VOXMQPOpq8emqbhv0o8+7AeKOkt3RbIVZMzgZzFUFbE8yYUYe0WVqN9tu 4+NVhGNfdvKynu44PX/dNe1VCrLApvc2F8RJyfXr9Bb4oJiK+hXVa1MOQVTwpMl4gQOQ rsvJCKEvh+J7XBAylOL/IspXJ+Z5lomq1mP3vjiUYp162eD+ek3UVaLr1679BDmNfLO2 gQcRuvi4sJss0b+WojLnWfcYeaGovI/d3+GBe0WJ3l+GhsEPNPnpO6H/JBL7j9nCdtad eYi4NsyC+P/QOvYVUMymZKy+3ppeIeQNqqityUnfWrEYbRjgMO+ISZ9sXyovAMbn5rVM 8HfA== X-Gm-Message-State: AOJu0Yw+hqo5+zLeVAuwUD4MkBEtO2wnQwyVtbkBdegX5n7MlHPBwqve flmDj7Fs/qGFi7oBErW26QjEjV9oPOe1co64wlYZO/fDi8k2/oFRvigy+1gxlEL4/+ZjlvYUGIu 72GsIJT7/elkeTLyxz1XoHplp+u05btvXlDPylsTXcdw5 X-Gm-Gg: ASbGnctT5A97Zjl6Xycxplwlf1mNJfsjRgITqcYyRYHx+mRBPsehxkz2zvtxJw6mebx l4ORPnscqihTpsrSesM13/VQ+PS+7u9EO1wzlF8dPlQvdUvrXoA7nTGnhPDrdHxLtEUDnkLx8ci UEKsJRnFk6JmZVLRaIR2U5gE5cxGshvePDsVSCaUOhYBU1hCFwrZX558ngkzWJnNj7U+mdR6aTT zq2Kw0ubuInUVsVunrh+rq08pPGjOK3v4McOv58WdhTy5Nk8Pe9qU4ri3+/1QR7i4BIjmJhthlH mvd2tOx2rJ+YZ/DQOh+9qQkIKsX7Vr8Lk3JMiPK2y2RmKw8Qc1TCbxB9dAK/RhlEggQ+0g== X-Google-Smtp-Source: AGHT+IH1Y8cYL7/0Yxcb6J91tJ5jnG8Ksm7qfI+ORm6RCC68uh1bXKDPnMxTonqUjiymeKWgsNlhPDWzRnGw X-Received: by 2002:a17:902:c94e:b0:235:779:ede5 with SMTP id d9443c01a7336-2366b139bb6mr241787205ad.40.1750201832062; Tue, 17 Jun 2025 16:10:32 -0700 (PDT) Received: from postal.iol.unh.edu (postal.iol.unh.edu. [132.177.123.84]) by smtp-relay.gmail.com with ESMTPS id d9443c01a7336-2365d88e259sm5541975ad.19.2025.06.17.16.10.31 (version=TLS1_2 cipher=ECDHE-ECDSA-AES128-GCM-SHA256 bits=128/128); Tue, 17 Jun 2025 16:10:32 -0700 (PDT) X-Relaying-Domain: iol.unh.edu Date: Tue, 17 Jun 2025 16:10:32 -0700 (PDT) Message-ID: <6851f5e8.170a0220.2b1793.ad85SMTPIN_ADDED_MISSING@mx.google.com> Received: from [172.17.0.2] (unknown [172.18.0.76]) by postal.iol.unh.edu (Postfix) with ESMTP id B8EED6051830; Tue, 17 Jun 2025 19:10:30 -0400 (EDT) Subject: |SUCCESS| pw154520-154521 [PATCH] [2/2] lib/graph: rte_malloc for ca From: dpdklab@iol.unh.edu To: Test Report Cc: dpdk-test-reports@iol.unh.edu In-Reply-To: <20250617105209.50526-2-marat.khalili@huawei.com> References: <20250617105209.50526-2-marat.khalili@huawei.com> Content-Type: text/plain X-BeenThere: test-report@dpdk.org X-Mailman-Version: 2.1.29 Precedence: list List-Id: automatic DPDK test reports List-Unsubscribe: , List-Archive: List-Post: List-Help: List-Subscribe: , Errors-To: test-report-bounces@dpdk.org Test-Label: iol-compile-arm64-testing Test-Status: SUCCESS http://dpdk.org/patch/154521 _Testing PASS_ Submitter: Marat Khalili Date: Tuesday, June 17 2025 10:52:08 DPDK git baseline: Repo:dpdk Branch: master CommitID:dbeb8ae8d09387bd525353f4a5aa6ec152cddffa 154520-154521 --> testing pass Upstream job id: Generic-DPDK-Compile-Meson#398511 Test environment and result as below: +------------------------------+--------------------+ | Environment | dpdk_meson_compile | +==============================+====================+ | Red Hat Enterprise Linux 9.5 | PASS | +------------------------------+--------------------+ | Ubuntu 20.04 | PASS | +------------------------------+--------------------+ | Debian GNU/Linux 12 | PASS | +------------------------------+--------------------+ | Fedora 40 (ARM) | PASS | +------------------------------+--------------------+ | Fedora 40 (ARM Clang) | PASS | +------------------------------+--------------------+ | Fedora 41 (ARM) | PASS | +------------------------------+--------------------+ | Fedora Linux 41 | PASS | +------------------------------+--------------------+ | Ubuntu 22.04 | PASS | +------------------------------+--------------------+ | Ubuntu 24.04 | PASS | +------------------------------+--------------------+ | CentOS Stream 9 (ARM) | PASS | +------------------------------+--------------------+ | CentOS Stream 10 (ARM) | PASS | +------------------------------+--------------------+ Red Hat Enterprise Linux 9.5 Kernel: 5.4 Compiler: gcc gcc (GCC) 11.5.0 20240719 (Red Hat 11.5.0-2) Ubuntu 20.04 Kernel: 5.15 Compiler: aarch64-linux-gnu-gcc gcc (Ubuntu 9.4.0-1ubuntu1~20.04.2) 9.4.0 Debian GNU/Linux 12 Kernel: 5.4 Compiler: gcc gcc (Debian 12.2.0-14) 12.2.0 Fedora 40 (ARM) Kernel: Depends on container host Compiler: gcc 14.2.1 20240912 (Red Hat 14.2.1-3) Fedora 40 (ARM Clang) Kernel: Depends on container host Compiler: clang 18.1.8 (Fedora 18.1.8-1.fc40) Fedora 41 (ARM) Kernel: Depends on container host Compiler: gcc 14.2.1 20240912 (Red Hat 14.2.1-3) Fedora Linux 41 Kernel: 5.4 Compiler: clang gcc (GCC) 14.3.1 20250523 (Red Hat 14.3.1-1) Ubuntu 22.04 Kernel: 5.4 Compiler: gcc gcc (Ubuntu 11.4.0-1ubuntu1~22.04) 11.4.0 Ubuntu 24.04 Kernel: 5.4 Compiler: gcc gcc (Ubuntu 13.3.0-6ubuntu2~24.04) 13.3.0 CentOS Stream 9 (ARM) Kernel: Depends on container host Compiler: gcc 11.5.0 20240719 (Red Hat 11.5.0-2) CentOS Stream 10 (ARM) Kernel: Depends on container host Compiler: gcc 14.2.1 20241104 (Red Hat 14.2.1-6) To view detailed results, visit: https://lab.dpdk.org/results/dashboard/patchsets/33434/ UNH-IOL DPDK Community Lab To manage your email subscriptions, visit: https://lab.dpdk.org/results/dashboard/preferences/subscriptions/