From mboxrd@z Thu Jan 1 00:00:00 1970 Return-Path: Received: from mails.dpdk.org (mails.dpdk.org [217.70.189.124]) by inbox.dpdk.org (Postfix) with ESMTP id 79571469DD for ; Wed, 18 Jun 2025 01:13:29 +0200 (CEST) Received: from mails.dpdk.org (localhost [127.0.0.1]) by mails.dpdk.org (Postfix) with ESMTP id 74BBE40279; Wed, 18 Jun 2025 01:13:29 +0200 (CEST) Received: from mail-vs1-f98.google.com (mail-vs1-f98.google.com [209.85.217.98]) by mails.dpdk.org (Postfix) with ESMTP id 74FAF40279 for ; Wed, 18 Jun 2025 01:13:27 +0200 (CEST) Received: by mail-vs1-f98.google.com with SMTP id ada2fe7eead31-4e7ef5d6bffso1439478137.3 for ; Tue, 17 Jun 2025 16:13:27 -0700 (PDT) DKIM-Signature: v=1; a=rsa-sha256; c=relaxed/relaxed; d=iol.unh.edu; s=unh-iol; t=1750202007; x=1750806807; darn=dpdk.org; h=references:in-reply-to:cc:to:from:subject:message-id:date:from:to :cc:subject:date:message-id:reply-to; bh=WR50Z92uSFNFplaSONbj9r63bTkUjFvosTw8xjpgVEs=; b=a2KjpBTunieY47P3xu3jUqUDsbm87f639ogegJf2/H0JXnptTyk18m+CoOIqzgVUAw Tcw8bz4SqMjKe7ImPF5d67xKl5dZAbNtdYaBVknmuhXhuYr4XabtFOazXnt4pF0xOt8W ZY9xFn13rp3qd9piiwWin1D2W9Q71rWYXPaM0= X-Google-DKIM-Signature: v=1; a=rsa-sha256; c=relaxed/relaxed; d=1e100.net; s=20230601; t=1750202007; x=1750806807; h=references:in-reply-to:cc:to:from:subject:message-id:date :x-gm-message-state:from:to:cc:subject:date:message-id:reply-to; bh=WR50Z92uSFNFplaSONbj9r63bTkUjFvosTw8xjpgVEs=; b=KKxDRlZm5lLbRXr4Co76LFq2nmv0OELAu9k8B3EwosBOlzq33O4Fgcz8ZM3gOaLyE1 jYJnlKUulmDfmMv9+42sH7h7/nFlcAnv311vqhZtB0rcUfNcIqdvUjToqHH98R/CFzIB YxTdPoxJ5HkloGAKgQ3ZCHJO2tudd+fHi6N9mukJoXkl5zCxKo8o10OSDSeJdaBA00Uz y0wnPPjm2mrjTAehrpM5g62wyToN13SMHwr1XWPy9iukq2Wf4JzHYxcJ3hc9s5ONjtPy v3QTSTMlUACkpfRNlKoJa9ScL91PJIOgAZCs0rPbdtDJr5linsBTkWrUFVUVxA05udcE BLMw== X-Gm-Message-State: AOJu0YysnyAxVceGR3DxjYOhiBNWp50pgEkmV4RWukC2QOjz3WofOeBW U4pB0UkddXYlmuWuHzW9+Xkw78ShWREaXCp2w3dfPfEP29++ZzNHKujzbOH8Ulysm8hhJlvzyOw QhaBW1sp+/4PlOLaDL1+G0ekFOWSVOyN1K9X9aRHcN3UE X-Gm-Gg: ASbGncvZbStGuHZ+9Pha2//4vcMTxPDKkZuSoTNAvaiLNSUDl/rsaP3jPPfMhsklIcu 9Ap8yj9uVchNEg8dNwmUtJSGqrgZ6RruZMyzc1/3USgudIQ24YPizwhiYtmmoF9tWeBgK268NE2 xPh0CytWJMcN+4alTHkacv7oEsQEz7yCIxeb0l6+sg/0WDwYzrc3IM/P7jYxXoJmIZwb60Sm8pd 3s1fFhQ6Hsus0wIGP+grj1d/38OtwoRTQKDgtU1B7tHt8RbnZpxNYONhNbcI+603I7RV95DX2oU 4wtahx0JnlHBsV+vwRNo7GcjTgSWAqDkwH95GkMBid6zaSN+MGa1tj5miTia2BsqKtIO4A== X-Google-Smtp-Source: AGHT+IGWftNwMcjrMwYG2NMCdAKpRWVoMD6F68K5lDOQyMe3DlThlTTuHc5Gf6wWfw7X3sLNvswlFJcbnv5Y X-Received: by 2002:a05:6102:38c7:b0:4e5:a0a9:3ad1 with SMTP id ada2fe7eead31-4e7f618872fmr12860447137.2.1750202006806; Tue, 17 Jun 2025 16:13:26 -0700 (PDT) Received: from postal.iol.unh.edu (postal.iol.unh.edu. [132.177.123.84]) by smtp-relay.gmail.com with ESMTPS id a1e0cc1a2514c-87f0faf07b4sm189099241.17.2025.06.17.16.13.26 (version=TLS1_2 cipher=ECDHE-ECDSA-AES128-GCM-SHA256 bits=128/128); Tue, 17 Jun 2025 16:13:26 -0700 (PDT) X-Relaying-Domain: iol.unh.edu Date: Tue, 17 Jun 2025 16:13:26 -0700 (PDT) Message-ID: <6851f696.050a0220.2a17b7.90b3SMTPIN_ADDED_MISSING@mx.google.com> Received: from [172.17.0.2] (unknown [172.18.0.74]) by postal.iol.unh.edu (Postfix) with ESMTP id EF4A86051830; Tue, 17 Jun 2025 19:13:25 -0400 (EDT) Subject: |SUCCESS| pw154518-154519 [PATCH] [v1,2/2] net/zxdh: add support flo From: dpdklab@iol.unh.edu To: Test Report Cc: dpdk-test-reports@iol.unh.edu In-Reply-To: <20250617093256.3570516-1-chen.bingbin@zte.com.cn> References: <20250617093256.3570516-1-chen.bingbin@zte.com.cn> Content-Type: text/plain X-BeenThere: test-report@dpdk.org X-Mailman-Version: 2.1.29 Precedence: list List-Id: automatic DPDK test reports List-Unsubscribe: , List-Archive: List-Post: List-Help: List-Subscribe: , Errors-To: test-report-bounces@dpdk.org Test-Label: iol-compile-arm64-testing Test-Status: SUCCESS http://dpdk.org/patch/154519 _Testing PASS_ Submitter: Bingbin Chen Date: Tuesday, June 17 2025 09:32:48 DPDK git baseline: Repo:dpdk Branch: master CommitID:dbeb8ae8d09387bd525353f4a5aa6ec152cddffa 154518-154519 --> testing pass Upstream job id: Generic-DPDK-Compile-Meson#398478 Test environment and result as below: +------------------------------+--------------------+ | Environment | dpdk_meson_compile | +==============================+====================+ | Red Hat Enterprise Linux 9.5 | PASS | +------------------------------+--------------------+ | Ubuntu 20.04 | PASS | +------------------------------+--------------------+ | Debian GNU/Linux 12 | PASS | +------------------------------+--------------------+ | Fedora 40 (ARM) | PASS | +------------------------------+--------------------+ | Fedora 40 (ARM Clang) | PASS | +------------------------------+--------------------+ | Fedora 41 (ARM) | PASS | +------------------------------+--------------------+ | Fedora Linux 41 | PASS | +------------------------------+--------------------+ | Ubuntu 22.04 | PASS | +------------------------------+--------------------+ | Ubuntu 24.04 | PASS | +------------------------------+--------------------+ | CentOS Stream 9 (ARM) | PASS | +------------------------------+--------------------+ | CentOS Stream 10 (ARM) | PASS | +------------------------------+--------------------+ Red Hat Enterprise Linux 9.5 Kernel: 5.4 Compiler: gcc gcc (GCC) 11.5.0 20240719 (Red Hat 11.5.0-2) Ubuntu 20.04 Kernel: 5.15 Compiler: aarch64-linux-gnu-gcc gcc (Ubuntu 9.4.0-1ubuntu1~20.04.2) 9.4.0 Debian GNU/Linux 12 Kernel: 5.4 Compiler: gcc gcc (Debian 12.2.0-14) 12.2.0 Fedora 40 (ARM) Kernel: Depends on container host Compiler: gcc 14.2.1 20240912 (Red Hat 14.2.1-3) Fedora 40 (ARM Clang) Kernel: Depends on container host Compiler: clang 18.1.8 (Fedora 18.1.8-1.fc40) Fedora 41 (ARM) Kernel: Depends on container host Compiler: gcc 14.2.1 20240912 (Red Hat 14.2.1-3) Fedora Linux 41 Kernel: 5.4 Compiler: clang gcc (GCC) 14.3.1 20250523 (Red Hat 14.3.1-1) Ubuntu 22.04 Kernel: 5.4 Compiler: gcc gcc (Ubuntu 11.4.0-1ubuntu1~22.04) 11.4.0 Ubuntu 24.04 Kernel: 5.4 Compiler: gcc gcc (Ubuntu 13.3.0-6ubuntu2~24.04) 13.3.0 CentOS Stream 9 (ARM) Kernel: Depends on container host Compiler: gcc 11.5.0 20240719 (Red Hat 11.5.0-2) CentOS Stream 10 (ARM) Kernel: Depends on container host Compiler: gcc 14.2.1 20241104 (Red Hat 14.2.1-6) To view detailed results, visit: https://lab.dpdk.org/results/dashboard/patchsets/33433/ UNH-IOL DPDK Community Lab To manage your email subscriptions, visit: https://lab.dpdk.org/results/dashboard/preferences/subscriptions/