From mboxrd@z Thu Jan 1 00:00:00 1970 Return-Path: Received: from mails.dpdk.org (mails.dpdk.org [217.70.189.124]) by inbox.dpdk.org (Postfix) with ESMTP id 8463F469DD for ; Wed, 18 Jun 2025 01:13:35 +0200 (CEST) Received: from mails.dpdk.org (localhost [127.0.0.1]) by mails.dpdk.org (Postfix) with ESMTP id 7F14C40279; Wed, 18 Jun 2025 01:13:35 +0200 (CEST) Received: from mail-oo1-f97.google.com (mail-oo1-f97.google.com [209.85.161.97]) by mails.dpdk.org (Postfix) with ESMTP id 6214D40279 for ; Wed, 18 Jun 2025 01:13:33 +0200 (CEST) Received: by mail-oo1-f97.google.com with SMTP id 006d021491bc7-60d666804ebso100633eaf.1 for ; Tue, 17 Jun 2025 16:13:33 -0700 (PDT) DKIM-Signature: v=1; a=rsa-sha256; c=relaxed/relaxed; d=iol.unh.edu; s=unh-iol; t=1750202012; x=1750806812; darn=dpdk.org; h=references:in-reply-to:cc:to:from:subject:message-id:date:from:to :cc:subject:date:message-id:reply-to; bh=VR4pXPmJquBIFaE28PsgSq/aUzMBTrOCUJomcOEEWvs=; b=V1Chi8KpH/neLbJbdfyiSioxhp6lZObgQjL29krORSVtJuQ5lj2h3OBu3AtApqsvY/ OOqEFMcM7trwjiintKsaMs47grWUqlYSfKmAKmac/2yjoqqnMaJ0R3WqGr/WWQLQf5k8 I8m+TP2z/0aKUt6UMBoD9c3DXLEJkXcmx8lOk= X-Google-DKIM-Signature: v=1; a=rsa-sha256; c=relaxed/relaxed; d=1e100.net; s=20230601; t=1750202012; x=1750806812; h=references:in-reply-to:cc:to:from:subject:message-id:date :x-gm-message-state:from:to:cc:subject:date:message-id:reply-to; bh=VR4pXPmJquBIFaE28PsgSq/aUzMBTrOCUJomcOEEWvs=; b=f50h10HViIpJvIw54k6K6L9kFDz0yb3uQvoZ6jOj6a22ik7SuqABE27jDM62A/LUqO h4Zgd1fTGayddXbIfGUa75DCLvQurdK9O1C2Nn4LPE/wf1IVF/YE4TfqYYXPDRf9mrwR Yn0qHgVgwN4LrvRjFP2jPatt8ydPGtELWn9vtDAV4T+SLAwyehIh2VS0MJe2i8zGaMSs XJuTeEnoXM4iArf/xGEOn29ZezhHwWVVtKsWWCqnilDHbYuuMGSEa1oTyWTW5Apzbfu6 RG+i5/pjyDeCae+KZQlPaPx+29SK03XCVYgEJvlsp6ZjjRkMMLAAc3X0TA37swx5gFnX jYTQ== X-Gm-Message-State: AOJu0YyncKSE93wqDeBbiJP54ydpkp/7fQLBfzVNSS6WqZGP+3zc/D0m 14w5XdYDpfP7kZ3hF81x70M7kZWUXi2561r2j9PEXGxdw6SFkA1kw6vnXUtOkHvtgN2PahUrINf 9nFYTzp6bJUkc3HfBgpo/n7sPd0N6RtzTTs78wCpbKvIZ X-Gm-Gg: ASbGncv3AOvdf2tGY4QRzvNILyMwbClQFMS9IhZaiKPSX3ChhbD5l5Jktql2JLDZD4J hswnn9TJ5rnSwDhDURxdUid+Le248FvW2JCn27Wir2h7omjim14m9SHrdGLX3f2wRfjWbx+UsD3 OLKoL78ezXy/2v/gIkxeB7oecJB334tSe0BHElL3g0Srtx75eUvJUK/JqDWh7ZuuiK9/fBY9KyQ x4JE2jdnMZy2qf6pz6gqmSQfO9TjWBJfmGbISQcMCPG2/NA5OycUiJQM2ezEp7zeZ7t7DVmJsYG 6OdO+oDZifbGUQF0WXVwrRF7gUmX4oIbWgbLPrKwlEOkAHmzzSFSWfiggJ9YFiTYoIaHmA== X-Google-Smtp-Source: AGHT+IHwSN/8+EVphWXq7Rv/08j5sGZL/8da8ybGPzkrs/9FByczJXQ6mV+/wE2Qw92iMZtyN3jHpLJJ6/sp X-Received: by 2002:a05:6871:a605:b0:2e8:f6d4:535f with SMTP id 586e51a60fabf-2eb8849b0ebmr233135fac.14.1750202012588; Tue, 17 Jun 2025 16:13:32 -0700 (PDT) Received: from postal.iol.unh.edu (postal.iol.unh.edu. [132.177.123.84]) by smtp-relay.gmail.com with ESMTPS id 586e51a60fabf-2eab8932739sm666405fac.18.2025.06.17.16.13.32 (version=TLS1_2 cipher=ECDHE-ECDSA-AES128-GCM-SHA256 bits=128/128); Tue, 17 Jun 2025 16:13:32 -0700 (PDT) X-Relaying-Domain: iol.unh.edu Date: Tue, 17 Jun 2025 16:13:32 -0700 (PDT) Message-ID: <6851f69c.050a0220.8838c.fd51SMTPIN_ADDED_MISSING@mx.google.com> Received: from [172.17.0.2] (unknown [172.18.0.76]) by postal.iol.unh.edu (Postfix) with ESMTP id 98A1F6051830; Tue, 17 Jun 2025 19:13:31 -0400 (EDT) Subject: |SUCCESS| pw154523-154526 [PATCH] [v6,4/4] doc: announce TxPP suppor From: dpdklab@iol.unh.edu To: Test Report Cc: dpdk-test-reports@iol.unh.edu In-Reply-To: <20250617051337.563233-5-soumyadeep.hore@intel.com> References: <20250617051337.563233-5-soumyadeep.hore@intel.com> Content-Type: text/plain X-BeenThere: test-report@dpdk.org X-Mailman-Version: 2.1.29 Precedence: list List-Id: automatic DPDK test reports List-Unsubscribe: , List-Archive: List-Post: List-Help: List-Subscribe: , Errors-To: test-report-bounces@dpdk.org Test-Label: iol-compile-arm64-testing Test-Status: SUCCESS http://dpdk.org/patch/154526 _Testing PASS_ Submitter: Soumyadeep Hore Date: Tuesday, June 17 2025 05:13:37 DPDK git baseline: Repo:dpdk Branch: master CommitID:dbeb8ae8d09387bd525353f4a5aa6ec152cddffa 154523-154526 --> testing pass Upstream job id: Generic-DPDK-Compile-Meson#398543 Test environment and result as below: +------------------------------+--------------------+ | Environment | dpdk_meson_compile | +==============================+====================+ | Red Hat Enterprise Linux 9.5 | PASS | +------------------------------+--------------------+ | Ubuntu 20.04 | PASS | +------------------------------+--------------------+ | Debian GNU/Linux 12 | PASS | +------------------------------+--------------------+ | Fedora 40 (ARM) | PASS | +------------------------------+--------------------+ | Fedora 40 (ARM Clang) | PASS | +------------------------------+--------------------+ | Fedora 41 (ARM) | PASS | +------------------------------+--------------------+ | Fedora Linux 41 | PASS | +------------------------------+--------------------+ | Ubuntu 22.04 | PASS | +------------------------------+--------------------+ | Ubuntu 24.04 | PASS | +------------------------------+--------------------+ | CentOS Stream 9 (ARM) | PASS | +------------------------------+--------------------+ | CentOS Stream 10 (ARM) | PASS | +------------------------------+--------------------+ Red Hat Enterprise Linux 9.5 Kernel: 5.4 Compiler: gcc gcc (GCC) 11.5.0 20240719 (Red Hat 11.5.0-2) Ubuntu 20.04 Kernel: 5.15 Compiler: aarch64-linux-gnu-gcc gcc (Ubuntu 9.4.0-1ubuntu1~20.04.2) 9.4.0 Debian GNU/Linux 12 Kernel: 5.4 Compiler: gcc gcc (Debian 12.2.0-14) 12.2.0 Fedora 40 (ARM) Kernel: Depends on container host Compiler: gcc 14.2.1 20240912 (Red Hat 14.2.1-3) Fedora 40 (ARM Clang) Kernel: Depends on container host Compiler: clang 18.1.8 (Fedora 18.1.8-1.fc40) Fedora 41 (ARM) Kernel: Depends on container host Compiler: gcc 14.2.1 20240912 (Red Hat 14.2.1-3) Fedora Linux 41 Kernel: 5.4 Compiler: clang gcc (GCC) 14.3.1 20250523 (Red Hat 14.3.1-1) Ubuntu 22.04 Kernel: 5.4 Compiler: gcc gcc (Ubuntu 11.4.0-1ubuntu1~22.04) 11.4.0 Ubuntu 24.04 Kernel: 5.4 Compiler: gcc gcc (Ubuntu 13.3.0-6ubuntu2~24.04) 13.3.0 CentOS Stream 9 (ARM) Kernel: Depends on container host Compiler: gcc 11.5.0 20240719 (Red Hat 11.5.0-2) CentOS Stream 10 (ARM) Kernel: Depends on container host Compiler: gcc 14.2.1 20241104 (Red Hat 14.2.1-6) To view detailed results, visit: https://lab.dpdk.org/results/dashboard/patchsets/33436/ UNH-IOL DPDK Community Lab To manage your email subscriptions, visit: https://lab.dpdk.org/results/dashboard/preferences/subscriptions/