From mboxrd@z Thu Jan  1 00:00:00 1970
Return-Path: <test-report-bounces@dpdk.org>
Received: from mails.dpdk.org (mails.dpdk.org [217.70.189.124])
	by inbox.dpdk.org (Postfix) with ESMTP id C1F97469ED
	for <public@inbox.dpdk.org>; Wed, 18 Jun 2025 10:33:48 +0200 (CEST)
Received: from mails.dpdk.org (localhost [127.0.0.1])
	by mails.dpdk.org (Postfix) with ESMTP id A9A3040EE2;
	Wed, 18 Jun 2025 10:33:48 +0200 (CEST)
Received: from mail-qv1-f100.google.com (mail-qv1-f100.google.com
 [209.85.219.100])
 by mails.dpdk.org (Postfix) with ESMTP id EE19440EE2
 for <test-report@dpdk.org>; Wed, 18 Jun 2025 10:33:46 +0200 (CEST)
Received: by mail-qv1-f100.google.com with SMTP id
 6a1803df08f44-6fb0eb0f0fbso5103206d6.1
 for <test-report@dpdk.org>; Wed, 18 Jun 2025 01:33:46 -0700 (PDT)
DKIM-Signature: v=1; a=rsa-sha256; c=relaxed/relaxed;
 d=iol.unh.edu; s=unh-iol; t=1750235626; x=1750840426; darn=dpdk.org;
 h=references:in-reply-to:cc:to:from:subject:message-id:date:from:to
 :cc:subject:date:message-id:reply-to;
 bh=aCzZRfvQkjk0a1LiMThJrFtZhftM8291/mmk1KBiVHI=;
 b=OU96vvuwt9gYzAQaKV7g15qo7miend8nU8xd6s0vKOqavvuLqUFcUoM9YUBJ0N14+X
 qJtFf3aexDbXccG6b7XCqvtIKZ4KiQCzaFl1Hq2QPn1vUWxtwPeQuz/WowEO8wPlRzxT
 4H847WLu8JOz7tZbOQV13whCLn0GUeREbKylw=
X-Google-DKIM-Signature: v=1; a=rsa-sha256; c=relaxed/relaxed;
 d=1e100.net; s=20230601; t=1750235626; x=1750840426;
 h=references:in-reply-to:cc:to:from:subject:message-id:date
 :x-gm-message-state:from:to:cc:subject:date:message-id:reply-to;
 bh=aCzZRfvQkjk0a1LiMThJrFtZhftM8291/mmk1KBiVHI=;
 b=Vg6XgEjRu2YTIkGdEkFo3WiSsKZk0u+C4VMDwPAcSnpP+KoUGuSGbbc2YPIaStkFiw
 vxz8PaGaQhHzrIjzOnCFHMc80TJR9YCOvOvczhlZv/H+Rials6myKSHD+EgpSpDYYlVk
 szzb2Z2/j1pg0KqBqfipUAE3Xk63oWflH2/gcthpJfVaWamwEBFs9hDbiCmXBBCHt1f2
 pbnDpIJpIP+ILVPmKzdf8LSFKAYivA4BQ19yan7BcU9lJXCVtiYng9Nfovux79u4azSL
 hREG+6dp0DOSS6ybsHwCZKhSBG7yVSE30EWMNFVFf6jor8MZ38RXDl22hTbWXnyqN3Ni
 xRxw==
X-Gm-Message-State: AOJu0Yx1NUCvCc6lparVToIZbgWmV39uJgDJZeEUyIwDOeWloMvLm3zH
 7nxDqXCZI7A1IajsRFKwPM/ZFk/SH2wuuK67ERPN1eQfo0ph151hDBZqGmEXIUKovaDZ+Zq2+5t
 zR8iZUiJpSfPvceauX3JMLp9uh5k1k9LCsDfxvhnwss3W
X-Gm-Gg: ASbGncsvZc+cnIfrTl/XUhQ2T4uyKZB4wGXCT2lHS/kGPFfdumQBQVCaIFORXHvh7+F
 LngQxeu4y0aCDA0zc9EDXsupfSvCXHzB/MU7CEWUjGjt2jZR+/W6gr8k2UMj8CDMqXPkoaE+yuA
 jRw1VuqvrhufJ0oLQFpsUFvpb2ac+S0OOTJYGGGEaJSjJObPCKBoqHTpbHTpJmey/YCAU7EGR0O
 UBEVxEhyQxuM69m5X7ws9LpFglPeKMzENi0C5fVr6aovPa1expDN3a876zOCWT9/zOsdfp2QqGO
 9T2iZEiuUhltCia6PaK0TxmWhAGjTxka+lhya1cFVJqEwHUDkayhToZZaE/nSMmxOy1W6g==
X-Google-Smtp-Source: AGHT+IFI90CsN/ZeIhwdCUaGZ/j6mJO/IPi+fFQFmm3yvBNmYHW8nYcJTJ5IMMk/BaGzOuXlQ8GfPDniQXI8
X-Received: by 2002:a0c:e012:0:b0:6fa:a5f6:ffce with SMTP id
 6a1803df08f44-6fb68bb5189mr25497326d6.19.1750235626305; 
 Wed, 18 Jun 2025 01:33:46 -0700 (PDT)
Received: from postal.iol.unh.edu (postal.iol.unh.edu. [132.177.123.84])
 by smtp-relay.gmail.com with ESMTPS id
 6a1803df08f44-6fb35bed2c3sm6283376d6.38.2025.06.18.01.33.46
 (version=TLS1_2 cipher=ECDHE-ECDSA-AES128-GCM-SHA256 bits=128/128);
 Wed, 18 Jun 2025 01:33:46 -0700 (PDT)
X-Relaying-Domain: iol.unh.edu
Date: Wed, 18 Jun 2025 01:33:46 -0700 (PDT)
Message-ID: <685279ea.d40a0220.158de1.c29fSMTPIN_ADDED_MISSING@mx.google.com>
Received: from [172.17.0.2] (unknown [172.18.0.76])
 by postal.iol.unh.edu (Postfix) with ESMTP id 0E0BE6051830;
 Wed, 18 Jun 2025 04:33:46 -0400 (EDT)
Subject: |SUCCESS| pw154550-154553 [PATCH] [v7,4/4] doc: announce TxPP suppor
From: dpdklab@iol.unh.edu
To: Test Report <test-report@dpdk.org>
Cc: dpdk-test-reports@iol.unh.edu
In-Reply-To: <20250617223614.568996-5-soumyadeep.hore@intel.com>
References: <20250617223614.568996-5-soumyadeep.hore@intel.com>
Content-Type: text/plain
X-BeenThere: test-report@dpdk.org
X-Mailman-Version: 2.1.29
Precedence: list
List-Id: automatic DPDK test reports <test-report.dpdk.org>
List-Unsubscribe: <https://mails.dpdk.org/options/test-report>,
 <mailto:test-report-request@dpdk.org?subject=unsubscribe>
List-Archive: <http://mails.dpdk.org/archives/test-report/>
List-Post: <mailto:test-report@dpdk.org>
List-Help: <mailto:test-report-request@dpdk.org?subject=help>
List-Subscribe: <https://mails.dpdk.org/listinfo/test-report>,
 <mailto:test-report-request@dpdk.org?subject=subscribe>
Errors-To: test-report-bounces@dpdk.org

Test-Label: iol-unit-amd64-testing
Test-Status: SUCCESS
http://dpdk.org/patch/154553

_Testing PASS_

Submitter: Soumyadeep Hore <soumyadeep.hore@intel.com>
Date: Tuesday, June 17 2025 22:36:14 
DPDK git baseline: Repo:dpdk
  Branch: master
  CommitID:dbeb8ae8d09387bd525353f4a5aa6ec152cddffa

154550-154553 --> testing pass

Upstream job id: Generic-Unit-Test-DPDK#347223

Test environment and result as below:

+-------------------------------+----------------+
|          Environment          | dpdk_unit_test |
+===============================+================+
| CentOS Stream 9               | PASS           |
+-------------------------------+----------------+
| Debian GNU/Linux 12           | PASS           |
+-------------------------------+----------------+
| Fedora Linux 40               | PASS           |
+-------------------------------+----------------+
| CentOS Stream 10              | PASS           |
+-------------------------------+----------------+
| Fedora Linux 41               | PASS           |
+-------------------------------+----------------+
| Ubuntu 20.04                  | PASS           |
+-------------------------------+----------------+
| Red Hat Enterprise Linux 8.10 | PASS           |
+-------------------------------+----------------+
| Red Hat Enterprise Linux 9.5  | PASS           |
+-------------------------------+----------------+
| Ubuntu 22.04                  | PASS           |
+-------------------------------+----------------+
| Ubuntu 24.04                  | PASS           |
+-------------------------------+----------------+


CentOS Stream 9
	Kernel: 5.15
	Compiler: gcc gcc (GCC) 11.5.0 20240719 (Red Hat 11.5.0-7)

Debian GNU/Linux 12
	Kernel: 5.15
	Compiler: gcc gcc (Debian 12.2.0-14+deb12u1) 12.2.0

Fedora Linux 40
	Kernel: 5.15
	Compiler: gcc gcc (GCC) 14.2.1 20240912 (Red Hat 14.2.1-3)

CentOS Stream 10
	Kernel: 5.15
	Compiler: gcc gcc (GCC) 14.2.1 20250110 (Red Hat 14.2.1-8)

Fedora Linux 41
	Kernel: 5.15
	Compiler: gcc gcc (GCC) 14.3.1 20250523 (Red Hat 14.3.1-1)

Ubuntu 20.04
	Kernel: 5.15
	Compiler: gcc gcc (Ubuntu 9.4.0-1ubuntu1~20.04.2) 9.4.0

Red Hat Enterprise Linux 8.10
	Kernel: 5.15
	Compiler: gcc gcc (GCC) 8.5.0 20210514 (Red Hat 8.5.0-22)

Red Hat Enterprise Linux 9.5
	Kernel: 5.15
	Compiler: gcc gcc (GCC) 11.5.0 20240719 (Red Hat 11.5.0-2)

Ubuntu 22.04
	Kernel: 5.15
	Compiler: gcc gcc (Ubuntu 11.4.0-1ubuntu1~22.04) 11.4.0

Ubuntu 24.04
	Kernel: 5.15
	Compiler: gcc gcc (Ubuntu 13.3.0-6ubuntu2~24.04) 13.3.0

To view detailed results, visit:
https://lab.dpdk.org/results/dashboard/patchsets/33446/

UNH-IOL DPDK Community Lab

To manage your email subscriptions, visit: 
https://lab.dpdk.org/results/dashboard/preferences/subscriptions/