From mboxrd@z Thu Jan 1 00:00:00 1970 Return-Path: Received: from mails.dpdk.org (mails.dpdk.org [217.70.189.124]) by inbox.dpdk.org (Postfix) with ESMTP id DFF55469F5 for ; Wed, 18 Jun 2025 23:30:45 +0200 (CEST) Received: from mails.dpdk.org (localhost [127.0.0.1]) by mails.dpdk.org (Postfix) with ESMTP id D9E0D4021F; Wed, 18 Jun 2025 23:30:45 +0200 (CEST) Received: from mail-il1-f225.google.com (mail-il1-f225.google.com [209.85.166.225]) by mails.dpdk.org (Postfix) with ESMTP id 141A04021F for ; Wed, 18 Jun 2025 23:30:44 +0200 (CEST) Received: by mail-il1-f225.google.com with SMTP id e9e14a558f8ab-3ddc9872e69so602565ab.1 for ; Wed, 18 Jun 2025 14:30:44 -0700 (PDT) DKIM-Signature: v=1; a=rsa-sha256; c=relaxed/relaxed; d=iol.unh.edu; s=unh-iol; t=1750282243; x=1750887043; darn=dpdk.org; h=references:in-reply-to:cc:to:from:subject:message-id:date:from:to :cc:subject:date:message-id:reply-to; bh=lmjR/W/RiVeRpgOXKOx1++4Kk4s8Di70FCbatJetIRU=; b=BvAtRMZWD9cuwjpYyEECdPg6fVrFKXSAzsPqO27JnkoCtB1B/TR1GB5+yAB7qxwtFM ar5JO6Wi027CAmn75OsSIXwa9Qt61Vuy5SivPMkGbExpuC5n7UhEFhRjwl755IuJOMuE dFq+Y5E05bA2jU45bJn29DMnuo/7s4cq1HmQA= X-Google-DKIM-Signature: v=1; a=rsa-sha256; c=relaxed/relaxed; d=1e100.net; s=20230601; t=1750282243; x=1750887043; h=references:in-reply-to:cc:to:from:subject:message-id:date :x-gm-message-state:from:to:cc:subject:date:message-id:reply-to; bh=lmjR/W/RiVeRpgOXKOx1++4Kk4s8Di70FCbatJetIRU=; b=ap6TeP36XVgol3WBjLt/GbNLn6UQ2HkZ04mUXAS/DszmpmOZzkZfAzLiVL1c4ErLiZ eFA9cbNLDLyu30TR5je9b8BDukIdjSN/pRnWJg2FsrWqU/7z1FBuqQ7R3bfhJ3cRAbit +5iIdrxl/CDfFBjTwuykfpmh2ivRIF/2/s+/NxWN3eAuID0nk02Td00tKpH+CKd9HNUJ SKXSPx+tb09UJ3zBWkgHxp+4b3RoPA8UdKDbw/PMQbmYDWzFGiDWKa9US1SWs18uI29u WLuu/SEtxEelgGN8eC3qD+2Nh3aeipFiMi+jFeh4poRCtyhgCgcGXqpFfG0VUzRrJH31 VWZg== X-Gm-Message-State: AOJu0YwwsWRR/ED8QAWXNIeLPHC9tceMgc9XEBWRl03nrd9bM/ElnjRI 7g65MOKbOi+LJXMiuvrMNx394ByKJ8QlxS7mnA6pUCQo+W7QNwt8amBMiNcZZ0NTn/CG/gjUMZB vxEfu3NdgfUvcEjJ66oY6Lw0rBukadjkaaqWFXtMj7bjrkrw2XfwYAP9umSU4 X-Gm-Gg: ASbGnculC+kgLP0aDUeDrxE/NDPGoLcONDWcg8t4XJBgNK8Bg4pMvVpQBrArqs8/muu /MRjD6RZR1XDRzs3/baVrR8plOWTz9VTg8nMOepyoHcAJZes5OeJ35t3LkJ8d51B2hjC1TXFzOU J1Um5o8BMY23loFLT++mqYF0uxy5T17UahES/Gcm/NdunzvgG5mxE9xtZ/TcRsius2aacPFqW0W Q8M1FQPlMbU6wKvOI5phrCR/Qo4onZsUiP029z5p/F1ctEuCDlpZ8SgnSUPHrxStZh9Ows8jMAb gnbX2U4OXGHWo635KHOeCt4N/48jCBB3KRreFbUp/xL5YkM= X-Google-Smtp-Source: AGHT+IFye6hsgif7UzYXjkZJW3QW0nvf3pXiL4neqlBPAVhMJaHGYvNAhzoMiYp7T+G3l1C+4lvrT1kQHC7n X-Received: by 2002:a05:6e02:1fc2:b0:3dc:7240:94c7 with SMTP id e9e14a558f8ab-3de07c55879mr207262965ab.6.1750282243287; Wed, 18 Jun 2025 14:30:43 -0700 (PDT) Received: from postal.iol.unh.edu (postal.iol.unh.edu. [2606:4100:3880:1234::84]) by smtp-relay.gmail.com with ESMTPS id e9e14a558f8ab-3de01a0c8aesm8634685ab.40.2025.06.18.14.30.43 (version=TLS1_2 cipher=ECDHE-ECDSA-AES128-GCM-SHA256 bits=128/128); Wed, 18 Jun 2025 14:30:43 -0700 (PDT) X-Relaying-Domain: iol.unh.edu Date: Wed, 18 Jun 2025 14:30:43 -0700 (PDT) Message-ID: <68533003.050a0220.2c2d57.b4d3SMTPIN_ADDED_MISSING@mx.google.com> Received: from [172.17.0.5] (unknown [172.18.0.74]) by postal.iol.unh.edu (Postfix) with ESMTP id B83266051830; Wed, 18 Jun 2025 17:30:42 -0400 (EDT) Subject: |SUCCESS| pw154573 [PATCH] buildtools/get-test-suites.py: muti-line From: dpdklab@iol.unh.edu To: Test Report Cc: dpdk-test-reports@iol.unh.edu In-Reply-To: <20250618123946.66915-1-marat.khalili@huawei.com> References: <20250618123946.66915-1-marat.khalili@huawei.com> Content-Type: text/plain X-BeenThere: test-report@dpdk.org X-Mailman-Version: 2.1.29 Precedence: list List-Id: automatic DPDK test reports List-Unsubscribe: , List-Archive: List-Post: List-Help: List-Subscribe: , Errors-To: test-report-bounces@dpdk.org Test-Label: iol-unit-amd64-testing Test-Status: SUCCESS http://dpdk.org/patch/154573 _Testing PASS_ Submitter: Marat Khalili Date: Wednesday, June 18 2025 12:39:46 DPDK git baseline: Repo:dpdk Branch: master CommitID:6890ee7ba76e92745d6c61b3b6b9d757ebaaa89d 154573 --> testing pass Upstream job id: Generic-Unit-Test-DPDK#347479 Test environment and result as below: +-------------------------------+----------------+ | Environment | dpdk_unit_test | +===============================+================+ | CentOS Stream 9 | PASS | +-------------------------------+----------------+ | CentOS Stream 10 | PASS | +-------------------------------+----------------+ | Debian GNU/Linux 12 | PASS | +-------------------------------+----------------+ | Fedora Linux 40 | PASS | +-------------------------------+----------------+ | Fedora Linux 41 | PASS | +-------------------------------+----------------+ | Ubuntu 20.04 | PASS | +-------------------------------+----------------+ | Red Hat Enterprise Linux 9.5 | PASS | +-------------------------------+----------------+ | Red Hat Enterprise Linux 8.10 | PASS | +-------------------------------+----------------+ | Ubuntu 22.04 | PASS | +-------------------------------+----------------+ | Ubuntu 24.04 | PASS | +-------------------------------+----------------+ CentOS Stream 9 Kernel: 5.15 Compiler: gcc gcc (GCC) 11.5.0 20240719 (Red Hat 11.5.0-7) CentOS Stream 10 Kernel: 5.15 Compiler: gcc gcc (GCC) 14.2.1 20250110 (Red Hat 14.2.1-8) Debian GNU/Linux 12 Kernel: 5.15 Compiler: gcc gcc (Debian 12.2.0-14+deb12u1) 12.2.0 Fedora Linux 40 Kernel: 5.15 Compiler: clang gcc (GCC) 14.2.1 20240912 (Red Hat 14.2.1-3) Fedora Linux 41 Kernel: 5.15 Compiler: clang gcc (GCC) 14.3.1 20250523 (Red Hat 14.3.1-1) Ubuntu 20.04 Kernel: 5.15 Compiler: gcc gcc (Ubuntu 9.4.0-1ubuntu1~20.04.2) 9.4.0 Red Hat Enterprise Linux 9.5 Kernel: 5.15 Compiler: gcc gcc (GCC) 11.5.0 20240719 (Red Hat 11.5.0-2) Red Hat Enterprise Linux 8.10 Kernel: 5.15 Compiler: gcc gcc (GCC) 8.5.0 20210514 (Red Hat 8.5.0-22) Ubuntu 22.04 Kernel: 5.15 Compiler: gcc gcc (Ubuntu 11.4.0-1ubuntu1~22.04) 11.4.0 Ubuntu 24.04 Kernel: 5.15 Compiler: gcc gcc (Ubuntu 13.3.0-6ubuntu2~24.04) 13.3.0 To view detailed results, visit: https://lab.dpdk.org/results/dashboard/patchsets/33454/ UNH-IOL DPDK Community Lab To manage your email subscriptions, visit: https://lab.dpdk.org/results/dashboard/preferences/subscriptions/