From mboxrd@z Thu Jan 1 00:00:00 1970 Return-Path: Received: from mails.dpdk.org (mails.dpdk.org [217.70.189.124]) by inbox.dpdk.org (Postfix) with ESMTP id 5A743469F5 for ; Thu, 19 Jun 2025 00:43:47 +0200 (CEST) Received: from mails.dpdk.org (localhost [127.0.0.1]) by mails.dpdk.org (Postfix) with ESMTP id 552994021F; Thu, 19 Jun 2025 00:43:47 +0200 (CEST) Received: from mail-oa1-f100.google.com (mail-oa1-f100.google.com [209.85.160.100]) by mails.dpdk.org (Postfix) with ESMTP id A9A244021F for ; Thu, 19 Jun 2025 00:43:45 +0200 (CEST) Received: by mail-oa1-f100.google.com with SMTP id 586e51a60fabf-2eb6c422828so84281fac.1 for ; Wed, 18 Jun 2025 15:43:45 -0700 (PDT) DKIM-Signature: v=1; a=rsa-sha256; c=relaxed/relaxed; d=iol.unh.edu; s=unh-iol; t=1750286625; x=1750891425; darn=dpdk.org; h=references:in-reply-to:cc:to:from:subject:message-id:date:from:to :cc:subject:date:message-id:reply-to; bh=oSaX+OwBSla4TEQyGcTMLIiM6bYkLJAeAMnC+8mQmJE=; b=TZpEQFp8HrFnJaRPTICp1fspZolBU+Pe2XB22372kIhcHq5amSAbTgRkRygnmJ1d6o tNspb1/RKcnhYROX/MvK1fV+jnVKxAh03YkTj02uGecMQJQGO+vRU7f8KUYy1iwkZTUV fcNX1S0BPFbqNkQVFuzsUzMyECQm2jEHCgAfM= X-Google-DKIM-Signature: v=1; a=rsa-sha256; c=relaxed/relaxed; d=1e100.net; s=20230601; t=1750286625; x=1750891425; h=references:in-reply-to:cc:to:from:subject:message-id:date :x-gm-message-state:from:to:cc:subject:date:message-id:reply-to; bh=oSaX+OwBSla4TEQyGcTMLIiM6bYkLJAeAMnC+8mQmJE=; b=vePAHa73aWzgTopdMra322THfqUot5orvQsIy690alVENgV6kslB3BrdLbhm9cUi1k UcBaa68tF+pYyvwTwXpDH/ZSwBTK+y3y91MpLfm/+I0bc5fvvZnzhpewyb7IE1A5sBHb YDz2FLxwrgz2C4lY45kohr8snvEgSf7oxgwgP/9UM3kT56qj+EMqtOdDtspNPisGpRJQ SI18g8NbMjrwppJo05RvESMh3pQ/NXOgd+l8xqqpuwGG9q3vmiYnILOU72jzCFCH7zgY cuqUBKp2XP8OROgye4eyv1/okCs9kYBfuUqGUSDH73Ww1nbUl6fhRUM1R7P3Kk13AtqQ S2DA== X-Gm-Message-State: AOJu0Yzdd4O6428AZ5XoeFlFbBYQM04I6UIQQrEAmoRmnl4BG/fm4yqT rYBxTvV2fvi9HZLDW5L20rl0P/xmE28kZWKCQYXWtSVlRKRxALjOc3IzESMy0PQ4qAOx06W/yK9 FpE4o0NuGsV7UqamdwTA0HzURoEj2sIKsU2yVg/sIWNju X-Gm-Gg: ASbGncu53pafgBnRV5AHOfJYKTT9qFznfuQLfAghZWX2/CBmfjp65w7T6aJvo02ElVa y6rJNibxUx/jA992jVnU7AxZkvD0XXLN5Q6jDCaC6Zb6GOlCzpFWbkUnujDSwW6UjL73/+nNPmT 6NSBImdLM8ZA1PQ6pfjsw51EhRJfJ3mh2sXPlSfi5YjsfrvFGbfCzRaUPwOWvK+tURdA9Rw06+L EZOoSRs9FBZ3lVTzx9VhJs3qofo817wCeNtxwG7df+l5Ne6Fx+OykhyQHk/Q4NHd04X1/nL+YDB REmRS8wUWOF5Z52KmFS0nlhnhoMWoRtyYBdPkXoYKIQl1IRciE5vtdte5yqAAXHTHAOiOw== X-Google-Smtp-Source: AGHT+IGvz5w1BJ4sigW3v3HheFSB1bhmWghYHoPHriCsj8C9swOVLQJ7/WOipuWbUjz0l/DYcAs/5sBuXpox X-Received: by 2002:a05:6871:729b:b0:2ea:1e58:7a69 with SMTP id 586e51a60fabf-2eb9eb694bemr938877fac.15.1750286624911; Wed, 18 Jun 2025 15:43:44 -0700 (PDT) Received: from postal.iol.unh.edu (postal.iol.unh.edu. [132.177.123.84]) by smtp-relay.gmail.com with ESMTPS id 586e51a60fabf-2eba624ac0dsm11313fac.27.2025.06.18.15.43.44 (version=TLS1_2 cipher=ECDHE-ECDSA-AES128-GCM-SHA256 bits=128/128); Wed, 18 Jun 2025 15:43:44 -0700 (PDT) X-Relaying-Domain: iol.unh.edu Date: Wed, 18 Jun 2025 15:43:44 -0700 (PDT) Message-ID: <68534120.050a0220.1912d.08c4SMTPIN_ADDED_MISSING@mx.google.com> Received: from [172.17.0.2] (unknown [172.18.0.76]) by postal.iol.unh.edu (Postfix) with ESMTP id 6A30E6051830; Wed, 18 Jun 2025 18:43:44 -0400 (EDT) Subject: |SUCCESS| pw154560-154561 [PATCH] [v2,2/2] net/ice: fix updating DCF From: dpdklab@iol.unh.edu To: Test Report Cc: dpdk-test-reports@iol.unh.edu In-Reply-To: <20250618070844.174484-2-mingjinx.ye@intel.com> References: <20250618070844.174484-2-mingjinx.ye@intel.com> Content-Type: text/plain X-BeenThere: test-report@dpdk.org X-Mailman-Version: 2.1.29 Precedence: list List-Id: automatic DPDK test reports List-Unsubscribe: , List-Archive: List-Post: List-Help: List-Subscribe: , Errors-To: test-report-bounces@dpdk.org Test-Label: iol-compile-arm64-testing Test-Status: SUCCESS http://dpdk.org/patch/154561 _Testing PASS_ Submitter: Mingjin Ye Date: Wednesday, June 18 2025 07:08:44 DPDK git baseline: Repo:dpdk Branch: master CommitID:6d98b3012eb28d1c8d6cdf3b277f439050f9008d 154560-154561 --> testing pass Upstream job id: Generic-DPDK-Compile-Meson#399123 Test environment and result as below: +------------------------------+--------------------+ | Environment | dpdk_meson_compile | +==============================+====================+ | Red Hat Enterprise Linux 9.5 | PASS | +------------------------------+--------------------+ | Ubuntu 20.04 | PASS | +------------------------------+--------------------+ | Debian GNU/Linux 12 | PASS | +------------------------------+--------------------+ | Fedora Linux 40 | PASS | +------------------------------+--------------------+ | Fedora Linux 41 | PASS | +------------------------------+--------------------+ | Ubuntu 22.04 | PASS | +------------------------------+--------------------+ | Ubuntu 24.04 | PASS | +------------------------------+--------------------+ | CentOS Stream 9 | PASS | +------------------------------+--------------------+ | CentOS Stream 10 | PASS | +------------------------------+--------------------+ Red Hat Enterprise Linux 9.5 Kernel: 5.4 Compiler: gcc gcc (GCC) 11.5.0 20240719 (Red Hat 11.5.0-2) Ubuntu 20.04 Kernel: 5.15 Compiler: aarch64-linux-gnu-gcc gcc (Ubuntu 9.4.0-1ubuntu1~20.04.2) 9.4.0 Debian GNU/Linux 12 Kernel: 5.4 Compiler: gcc gcc (Debian 12.2.0-14+deb12u1) 12.2.0 Fedora Linux 40 Kernel: 5.4 Compiler: gcc gcc (GCC) 14.2.1 20240912 (Red Hat 14.2.1-3) Fedora Linux 41 Kernel: 5.4 Compiler: gcc gcc (GCC) 14.3.1 20250523 (Red Hat 14.3.1-1) Ubuntu 22.04 Kernel: 5.4 Compiler: gcc gcc (Ubuntu 11.4.0-1ubuntu1~22.04) 11.4.0 Ubuntu 24.04 Kernel: 5.4 Compiler: gcc gcc (Ubuntu 13.3.0-6ubuntu2~24.04) 13.3.0 CentOS Stream 9 Kernel: 5.4 Compiler: gcc gcc (GCC) 11.5.0 20240719 (Red Hat 11.5.0-7) CentOS Stream 10 Kernel: 5.4 Compiler: gcc gcc (GCC) 14.2.1 20250110 (Red Hat 14.2.1-8) To view detailed results, visit: https://lab.dpdk.org/results/dashboard/patchsets/33448/ UNH-IOL DPDK Community Lab To manage your email subscriptions, visit: https://lab.dpdk.org/results/dashboard/preferences/subscriptions/