From mboxrd@z Thu Jan 1 00:00:00 1970 Return-Path: Received: from mails.dpdk.org (mails.dpdk.org [217.70.189.124]) by inbox.dpdk.org (Postfix) with ESMTP id 6E0A7469F6 for ; Thu, 19 Jun 2025 03:37:02 +0200 (CEST) Received: from mails.dpdk.org (localhost [127.0.0.1]) by mails.dpdk.org (Postfix) with ESMTP id 4FAEB4021F; Thu, 19 Jun 2025 03:37:02 +0200 (CEST) Received: from mail-oo1-f100.google.com (mail-oo1-f100.google.com [209.85.161.100]) by mails.dpdk.org (Postfix) with ESMTP id 49DA24021F for ; Thu, 19 Jun 2025 03:37:01 +0200 (CEST) Received: by mail-oo1-f100.google.com with SMTP id 006d021491bc7-60f24b478e3so144940eaf.3 for ; Wed, 18 Jun 2025 18:37:01 -0700 (PDT) DKIM-Signature: v=1; a=rsa-sha256; c=relaxed/relaxed; d=iol.unh.edu; s=unh-iol; t=1750297020; x=1750901820; darn=dpdk.org; h=references:in-reply-to:cc:to:from:subject:message-id:date:from:to :cc:subject:date:message-id:reply-to; bh=oeBElUEhqvpBTf6qbu3bq5tqpHdKh2TTbBUAtP/Q4rU=; b=fcfjkY7r6jjj53cb4dKi0B5VztZ6BDD2v4IMZXG532oO9nK+6+DHingrQ3Ns4WWAAG OxuZo0JbXlRXBq1yIeJzXEvGj+nNEt5XapdkzSxign0IDuTAd1e+FXlEoZDXCAAPNVFz dso1/6a8uvnubmTTlX3095VivlqXLgKj0wWZM= X-Google-DKIM-Signature: v=1; a=rsa-sha256; c=relaxed/relaxed; d=1e100.net; s=20230601; t=1750297020; x=1750901820; h=references:in-reply-to:cc:to:from:subject:message-id:date :x-gm-message-state:from:to:cc:subject:date:message-id:reply-to; bh=oeBElUEhqvpBTf6qbu3bq5tqpHdKh2TTbBUAtP/Q4rU=; b=krzu1MIx9Tiz32WO9TuJuTuZdSF8cSggWZm7AGrqKva+eQOT7cT7kQL+fPd3KmDZ5q enzqJHA2nxz3F5hSQgziOlHbYsbb1VZUOqPfEdO+vrOw4K3w9rSRMz9LjaYITsjpV66D UeMXNGshZBEVBXxKPdckmaj1WNPvpXjAPQl3QvAaCNAeOePRDqYDlpsAdxDf+GI7cBT2 Prj0H5OxQKHIKQgSIab8f+D/braYWPqyuo23CFVVo8rjVb+um+IUE91IlNkJdhfvtD3f y7DzDTFQLdxM0XARIXFY+sTGRqPP609c7jNLgb6EFQbOJPab8ou8GINkp87jXEA0XeL7 1i5A== X-Gm-Message-State: AOJu0Yy/4SUUn7xP9c/ETWNqHI/o+whvOmJD3SHI5ouHoNzHOHxe+EpD 3Qwe7PCX/RAo/QpNLWNgndM1TpZOb9Rk2liZ1g6p9jcA+iO/HURqzd5hpKoKeVCbFgXMRThzz/g 488STZBymh1Nxh5HbKLgYFjr+5VgH5eVvWXM8RI/VBU1yfPLHwvNkPttYr15N X-Gm-Gg: ASbGncvtZbgSXZeYqLmKmtPpfRWQFzt1oVNG3RL8LFvqlKN9VnR/CBsai9Xg+Qg9V7J 7icu8vkxeqTfY9Ezgqh1ZlhO1uKDwAp09o2gxMdPdNT5l2vTnBytDbZwx9eWXF+MhURsjU0muf8 bFbgqb8hn0S0rFgZm//oYZ+F9AAblbvFVbs4hxyFaTaVqqmmsPcRthG03TVdr4EpGbz2781VpJ9 Lhn13Ayv9UMBceDezI1Isfli8pSDyVngleMLSXhC38wcBT/ehpvDJz4gwQhvxqvDZFaa1GAqfdG KCHlJJZB+ri13Jb8QLoOGlgQiFplQP2o8kIb0cLj0j9qYCU= X-Google-Smtp-Source: AGHT+IHHN2GrzckhDTYjX7vS2AwSnxlJ3Fol0Zm22RQ1yopbXOUVMibghIL4iS9TwQHPthBfXEkEPaNUI5Ls X-Received: by 2002:a05:6870:b413:b0:2e9:11d9:f8ad with SMTP id 586e51a60fabf-2eaf0866df8mr11709939fac.24.1750297020429; Wed, 18 Jun 2025 18:37:00 -0700 (PDT) Received: from postal.iol.unh.edu (postal.iol.unh.edu. [2606:4100:3880:1234::84]) by smtp-relay.gmail.com with ESMTPS id 586e51a60fabf-2eba61d6cdfsm29723fac.23.2025.06.18.18.37.00 (version=TLS1_2 cipher=ECDHE-ECDSA-AES128-GCM-SHA256 bits=128/128); Wed, 18 Jun 2025 18:37:00 -0700 (PDT) X-Relaying-Domain: iol.unh.edu Date: Wed, 18 Jun 2025 18:37:00 -0700 (PDT) Message-ID: <685369bc.050a0220.156458.19b6SMTPIN_ADDED_MISSING@mx.google.com> Received: from [172.17.0.2] (unknown [172.18.0.74]) by postal.iol.unh.edu (Postfix) with ESMTP id D6F7F6051830; Wed, 18 Jun 2025 21:36:59 -0400 (EDT) Subject: |SUCCESS| pw154572-154571 [PATCH] [v1,3/3] net/rnp: fix TSO segmenta From: dpdklab@iol.unh.edu To: Test Report Cc: dpdk-test-reports@iol.unh.edu In-Reply-To: <20250618121113.17302-4-caowenbo@mucse.com> References: <20250618121113.17302-4-caowenbo@mucse.com> Content-Type: text/plain X-BeenThere: test-report@dpdk.org X-Mailman-Version: 2.1.29 Precedence: list List-Id: automatic DPDK test reports List-Unsubscribe: , List-Archive: List-Post: List-Help: List-Subscribe: , Errors-To: test-report-bounces@dpdk.org Test-Label: iol-unit-arm64-testing Test-Status: SUCCESS http://dpdk.org/patch/154571 _Testing PASS_ Submitter: Wenbo Cao Date: Wednesday, June 18 2025 12:11:13 DPDK git baseline: Repo:dpdk Branch: master CommitID:62a35bbb247e608e235a04ff2941488bc1a78941 154572-154571 --> testing pass Upstream job id: Generic-Unit-Test-DPDK#347370 Test environment and result as below: +------------------------------+----------------+---------------------------+--------------+------------------------------+ | Environment | dpdk_unit_test | cryptodev_sw_zuc_autotest | lpm_autotest | cryptodev_sw_snow3g_autotest | +==============================+================+===========================+==============+==============================+ | CentOS Stream 10 | PASS | SKIPPED | SKIPPED | SKIPPED | +------------------------------+----------------+---------------------------+--------------+------------------------------+ | CentOS Stream 9 | PASS | SKIPPED | SKIPPED | SKIPPED | +------------------------------+----------------+---------------------------+--------------+------------------------------+ | Debian GNU/Linux 12 | PASS | SKIPPED | SKIPPED | SKIPPED | +------------------------------+----------------+---------------------------+--------------+------------------------------+ | Fedora Linux 40 | PASS | SKIPPED | SKIPPED | SKIPPED | +------------------------------+----------------+---------------------------+--------------+------------------------------+ | Fedora Linux 41 | PASS | SKIPPED | SKIPPED | SKIPPED | +------------------------------+----------------+---------------------------+--------------+------------------------------+ | Red Hat Enterprise Linux 9.5 | PASS | SKIPPED | SKIPPED | SKIPPED | +------------------------------+----------------+---------------------------+--------------+------------------------------+ | Ubuntu 22.04 | PASS | SKIPPED | SKIPPED | SKIPPED | +------------------------------+----------------+---------------------------+--------------+------------------------------+ | Ubuntu 24.04 | PASS | SKIPPED | SKIPPED | SKIPPED | +------------------------------+----------------+---------------------------+--------------+------------------------------+ | Ubuntu 20.04 | PASS | SKIPPED | PASS | SKIPPED | +------------------------------+----------------+---------------------------+--------------+------------------------------+ | Debian 12 (arm) | SKIPPED | PASS | SKIPPED | PASS | +------------------------------+----------------+---------------------------+--------------+------------------------------+ CentOS Stream 10 Kernel: 5.4 Compiler: gcc gcc (GCC) 14.2.1 20250110 (Red Hat 14.2.1-8) CentOS Stream 9 Kernel: 5.4 Compiler: gcc gcc (GCC) 11.5.0 20240719 (Red Hat 11.5.0-7) Debian GNU/Linux 12 Kernel: 5.4 Compiler: gcc gcc (Debian 12.2.0-14+deb12u1) 12.2.0 Fedora Linux 40 Kernel: 5.4 Compiler: gcc gcc (GCC) 14.2.1 20240912 (Red Hat 14.2.1-3) Fedora Linux 41 Kernel: 5.4 Compiler: gcc gcc (GCC) 14.3.1 20250523 (Red Hat 14.3.1-1) Red Hat Enterprise Linux 9.5 Kernel: 5.4 Compiler: gcc gcc (GCC) 11.5.0 20240719 (Red Hat 11.5.0-2) Ubuntu 22.04 Kernel: 5.4 Compiler: gcc gcc (Ubuntu 11.4.0-1ubuntu1~22.04) 11.4.0 Ubuntu 24.04 Kernel: 5.4 Compiler: gcc gcc (Ubuntu 13.3.0-6ubuntu2~24.04) 13.3.0 Ubuntu 20.04 Kernel: 5.4 Compiler: gcc gcc (Ubuntu 9.4.0-1ubuntu1~20.04.2) 9.4.0 Debian 12 (arm) Kernel: Depends on container host Compiler: gcc (Debian 12.2.0-14) 12.2.0 To view detailed results, visit: https://lab.dpdk.org/results/dashboard/patchsets/33453/ UNH-IOL DPDK Community Lab To manage your email subscriptions, visit: https://lab.dpdk.org/results/dashboard/preferences/subscriptions/