From mboxrd@z Thu Jan 1 00:00:00 1970 Return-Path: Received: from mails.dpdk.org (mails.dpdk.org [217.70.189.124]) by inbox.dpdk.org (Postfix) with ESMTP id BA68946A06 for ; Fri, 20 Jun 2025 05:10:35 +0200 (CEST) Received: from mails.dpdk.org (localhost [127.0.0.1]) by mails.dpdk.org (Postfix) with ESMTP id 90187400D7; Fri, 20 Jun 2025 05:10:35 +0200 (CEST) Received: from mail-il1-f228.google.com (mail-il1-f228.google.com [209.85.166.228]) by mails.dpdk.org (Postfix) with ESMTP id 677ED400D7 for ; Fri, 20 Jun 2025 05:10:34 +0200 (CEST) Received: by mail-il1-f228.google.com with SMTP id e9e14a558f8ab-3ddd2710d14so14759835ab.2 for ; Thu, 19 Jun 2025 20:10:34 -0700 (PDT) DKIM-Signature: v=1; a=rsa-sha256; c=relaxed/relaxed; d=iol.unh.edu; s=unh-iol; t=1750389033; x=1750993833; darn=dpdk.org; h=references:in-reply-to:cc:to:from:subject:message-id:date:from:to :cc:subject:date:message-id:reply-to; bh=ZxJYBjHV+LpX8437RMBx3hyW57YtHRnF3boHIBR/L7I=; b=b27UvswXSjd/E+T/4cob8jcQqEYinaTLcFQ8Rj24MKwwPJGK+rQgCBKmwdvTSkzhkI TckeyfpeFVxGm/p7XW2SHIveoNOn3Zz/+enEBvOlK4E19oW4tOWvFI5YhJl3idXGTrLS aB+4bpTQPpU9yKkvGCR6X3FuCdjQn4TDcn3ig= X-Google-DKIM-Signature: v=1; a=rsa-sha256; c=relaxed/relaxed; d=1e100.net; s=20230601; t=1750389033; x=1750993833; h=references:in-reply-to:cc:to:from:subject:message-id:date :x-gm-message-state:from:to:cc:subject:date:message-id:reply-to; bh=ZxJYBjHV+LpX8437RMBx3hyW57YtHRnF3boHIBR/L7I=; b=FUzem+gj5bcgpat+Uz/NJ97PRBFK/cadWlOu79Ht8Na1HaF/t+3PcBEyIy9Vvhx9CR rQbLnwKznQ2TVJDQDRr2Y4Ay8vuSs1MP2VpswSWf2BDeMZC04/HG8acUtNIxyuUMb3S7 DnOHt6yOBaS0k42bqpY40Im/Iv9i0gY+HBLp1ZmhFWVhkvahHE6eoWuX22vm4UrTdAHk 1rVZZgJ880FbPx+rfPQV7wCZKK0F/SaFNoGFYe9ACiOmZOxyXRXjKA/GcVhNqhQErehR ZN//5U9haZUMzqZ5n1Ly3zVLF4MSIXCbQP9hT953lg9wwzbecGiGJw48hdA4k/HvrpH5 SRYg== X-Gm-Message-State: AOJu0Yy4Yb042t+z4Y3JEr27dNEkHpkxWH4z4bmU9O68Iat2eAmJp93X 2KCL0eTqYu/bsXwOFaDg94esvd5QPHpI/rr1UjjWVwnTlqvldSWqiqbIPF1ZvqC4qaB99jyFWtK LbYHCRIoolYvXoarAvOzd1MpQb8hhEmtU5chhdCWBrgc4 X-Gm-Gg: ASbGncu3+3RyFlxNy6Pgh7dEDX37Whdtys4jeSjYDzy+yZA+KxCwssaaU9d+MRSOuCx rAIIjy5WBHxHpfjKJBJeHbDjBMkOubveNiIPx9QqRzvYQsW7z2V4Hs3qEXiLEgugVOBXerQ8hLL ESefgK6RgPMQMLUkaYwd3eMw++Sw1YG9V+PCFSNAolshTpBRaJKDqtJy/OM3L6vW+v1F4n+sOJH pGe3aI+d4Uz37E4Zl3URFbdvgV7VCK8se6H3B0vuBIwM45sm0GwnPUGpgmv50Fw2zXDOoMz6f0L CzZ/TGOQv4GcgXt+/bxiMFehc5gKGwLzvkv9WwD9GHrUyV13+FFZwrjN+1b82HzYvpmwxQ== X-Google-Smtp-Source: AGHT+IHVBuOC11EB2yW9zRYBFnAe2al1Mgf3NeRTJcgK0Chvbn1M3k0Wx52fyEPWXmTIxmZgK2p0jG1zhiJU X-Received: by 2002:a05:6e02:2703:b0:3dd:cb92:f148 with SMTP id e9e14a558f8ab-3de38ca2f07mr13461855ab.12.1750389033688; Thu, 19 Jun 2025 20:10:33 -0700 (PDT) Received: from postal.iol.unh.edu (postal.iol.unh.edu. [132.177.123.84]) by smtp-relay.gmail.com with ESMTPS id e9e14a558f8ab-3de376e3cbcsm796045ab.39.2025.06.19.20.10.33 (version=TLS1_2 cipher=ECDHE-ECDSA-AES128-GCM-SHA256 bits=128/128); Thu, 19 Jun 2025 20:10:33 -0700 (PDT) X-Relaying-Domain: iol.unh.edu Date: Thu, 19 Jun 2025 20:10:33 -0700 (PDT) Message-ID: <6854d129.050a0220.34c98.3c65SMTPIN_ADDED_MISSING@mx.google.com> Received: from [172.17.0.2] (unknown [172.18.0.74]) by postal.iol.unh.edu (Postfix) with ESMTP id 3C7616051830; Thu, 19 Jun 2025 23:10:33 -0400 (EDT) Subject: |SUCCESS| pw154601-154603 [PATCH] [3/3] net/iavf: support vlan inser From: dpdklab@iol.unh.edu To: Test Report Cc: dpdk-test-reports@iol.unh.edu In-Reply-To: <20250619133658.13494-3-ciara.loftus@intel.com> References: <20250619133658.13494-3-ciara.loftus@intel.com> Content-Type: text/plain X-BeenThere: test-report@dpdk.org X-Mailman-Version: 2.1.29 Precedence: list List-Id: automatic DPDK test reports List-Unsubscribe: , List-Archive: List-Post: List-Help: List-Subscribe: , Errors-To: test-report-bounces@dpdk.org Test-Label: iol-unit-amd64-testing Test-Status: SUCCESS http://dpdk.org/patch/154603 _Testing PASS_ Submitter: Ciara Loftus Date: Thursday, June 19 2025 13:36:58 DPDK git baseline: Repo:dpdk Branch: master CommitID:7933e84358f59dfe1333f61e8b78e1b08b2ca482 154601-154603 --> testing pass Upstream job id: Generic-VM-Unit-Test-DPDK#29328 Test environment and result as below: +-------------------------------+----------------+ | Environment | dpdk_unit_test | +===============================+================+ | CentOS Stream 9 | PASS | +-------------------------------+----------------+ | CentOS Stream 10 | PASS | +-------------------------------+----------------+ | Debian GNU/Linux 12 | PASS | +-------------------------------+----------------+ | Fedora Linux 40 | PASS | +-------------------------------+----------------+ | Ubuntu 20.04 | PASS | +-------------------------------+----------------+ | Red Hat Enterprise Linux 9.5 | PASS | +-------------------------------+----------------+ | Ubuntu 22.04 | PASS | +-------------------------------+----------------+ | Fedora Linux 41 | PASS | +-------------------------------+----------------+ | Red Hat Enterprise Linux 8.10 | PASS | +-------------------------------+----------------+ | Ubuntu 24.04 | PASS | +-------------------------------+----------------+ | Windows Server 2022 | PASS | +-------------------------------+----------------+ CentOS Stream 9 Kernel: 5.15 Compiler: gcc gcc (GCC) 11.5.0 20240719 (Red Hat 11.5.0-7) CentOS Stream 10 Kernel: 5.15 Compiler: gcc gcc (GCC) 14.2.1 20250110 (Red Hat 14.2.1-8) Debian GNU/Linux 12 Kernel: 5.15 Compiler: gcc gcc (Debian 12.2.0-14+deb12u1) 12.2.0 Fedora Linux 40 Kernel: 5.15 Compiler: gcc gcc (GCC) 14.2.1 20240912 (Red Hat 14.2.1-3) Ubuntu 20.04 Kernel: 5.15 Compiler: gcc gcc (Ubuntu 9.4.0-1ubuntu1~20.04.2) 9.4.0 Red Hat Enterprise Linux 9.5 Kernel: 5.15 Compiler: gcc gcc (GCC) 11.5.0 20240719 (Red Hat 11.5.0-2) Ubuntu 22.04 Kernel: 5.15 Compiler: gcc gcc (Ubuntu 11.4.0-1ubuntu1~22.04) 11.4.0 Fedora Linux 41 Kernel: 5.15 Compiler: clang gcc (GCC) 14.3.1 20250523 (Red Hat 14.3.1-1) Red Hat Enterprise Linux 8.10 Kernel: 5.15 Compiler: gcc gcc (GCC) 8.5.0 20210514 (Red Hat 8.5.0-22) Ubuntu 24.04 Kernel: 5.15 Compiler: gcc gcc (Ubuntu 13.3.0-6ubuntu2~24.04) 13.3.0 Windows Server 2022 Kernel: 10.0.20348.2031 Compiler: clang 15.0.7, gcc 14.1.0 (MinGW), and MSVC VS 19.39.33521 To view detailed results, visit: https://lab.dpdk.org/results/dashboard/patchsets/33464/ UNH-IOL DPDK Community Lab To manage your email subscriptions, visit: https://lab.dpdk.org/results/dashboard/preferences/subscriptions/