From mboxrd@z Thu Jan 1 00:00:00 1970 Return-Path: Received: from mails.dpdk.org (mails.dpdk.org [217.70.189.124]) by inbox.dpdk.org (Postfix) with ESMTP id 0CCED46A06 for ; Fri, 20 Jun 2025 05:26:40 +0200 (CEST) Received: from mails.dpdk.org (localhost [127.0.0.1]) by mails.dpdk.org (Postfix) with ESMTP id DB04C400D7; Fri, 20 Jun 2025 05:26:39 +0200 (CEST) Received: from mail-pl1-f227.google.com (mail-pl1-f227.google.com [209.85.214.227]) by mails.dpdk.org (Postfix) with ESMTP id 4B770400D7 for ; Fri, 20 Jun 2025 05:26:38 +0200 (CEST) Received: by mail-pl1-f227.google.com with SMTP id d9443c01a7336-2352400344aso13601635ad.2 for ; Thu, 19 Jun 2025 20:26:38 -0700 (PDT) DKIM-Signature: v=1; a=rsa-sha256; c=relaxed/relaxed; d=iol.unh.edu; s=unh-iol; t=1750389997; x=1750994797; darn=dpdk.org; h=references:in-reply-to:cc:to:from:subject:message-id:date:from:to :cc:subject:date:message-id:reply-to; bh=U1yMsa4BYHf8JUHXAahr3Vo/SGBRD5UugvUxlepz1Vg=; b=JWYwGW1leOgOcOQAFkohDDekOLsdJcKYsEcEVjAxv6CFCqMfJZVU0G1Np1oGDu9+US 0tPRKIcRY7cQdF8FOozxLBNBg+n0a6RUZFBZ9NBjFp95206DQrbcYYhTmj0LcBUt9wOs leygQZYfK1Ij+lU4efWV9F3+MsMp0Q5qLWPXA= X-Google-DKIM-Signature: v=1; a=rsa-sha256; c=relaxed/relaxed; d=1e100.net; s=20230601; t=1750389997; x=1750994797; h=references:in-reply-to:cc:to:from:subject:message-id:date :x-gm-message-state:from:to:cc:subject:date:message-id:reply-to; bh=U1yMsa4BYHf8JUHXAahr3Vo/SGBRD5UugvUxlepz1Vg=; b=mDb+ChETP9PS6pk9IlgDJv2J1GyeDSzDJbr44hu2Jd0Bes1vK02WSW/0O3Rt3mIrHR g+D4Wm3VE7h/nG4xW7bFQrjVbWVN2f6Fqx8pZ9/qTvk8sSdCfy6Z12c+ptGQNgychvN9 0rOlmm3fCkz4MnJbok3aU/5E4m+0gT7WRMcfngMykrDDKzApqBJzmcKmO+RTjMYwYimm 9mZEZ36yx5te9uUU5xmpo1ofSLgr9xVwBWxIMabvckPcUe52qp9Ys43y41Lstfe5QS3K AUxkFBWcpb+yHd6e37jwX4VfOF1LQPKm7f9hL0RB10TPyeql62gcpNgTSCsYEeQ9IwyK /IIg== X-Gm-Message-State: AOJu0Ywnw0fZ267oKbCKpca96XE49X0ftujsayAsETCy5bM88bQhrfCy 9aTiYQIaai6Kj610eY5U8w0Fwi6g4sO/jRESJ18I16iLmQ9vvuZHD8MUQSwiaPsQm8q5EVM5Tvg cxORt30Sx1UxQ2Tp6wqBHYeaj1LrQwrExZ1ZYc+0ZQGib X-Gm-Gg: ASbGncv22u8OTzlUPtr09YHgOkoWHoPsn4LJrB2jheW9W3ldaf5V1PcCBbOXfp/ARz6 lSO6xWIjX0thhGlzaW+nk3vNTuDhZ49wamg939RjJTZ2Iv2DwDkdsXWYyDot1mjbCwRG7kFozxa /QDQIshYZhopkkgKThk6Dr281hKAb+S8ElUIMVAlpKIrd69TeR1bfbYyStRVyOZU27W8fGoXgI3 eKY3tSavgugxO/fEmnu1GttX+sJ8GgB417WZyQa6/hbjBuKIxj+J3VT2eDCrWkup/0yKE3lw0Yy 6BZGnGI0AEkXn4mo6LCHuISYfbyXhtwd8MGWWU7Um/KlzzAUJEBRPucxn0qiqJrnhpfLAQ== X-Google-Smtp-Source: AGHT+IHB5sf7KpGuX2unaYu3tf09NhmA597/Il8jUrndp0kUM/bvhrSkLzmfMxRDsFrymTCXjEWaQKB+GBHw X-Received: by 2002:a17:903:3a88:b0:234:b41e:37a2 with SMTP id d9443c01a7336-237d97c446bmr16223145ad.11.1750389997361; Thu, 19 Jun 2025 20:26:37 -0700 (PDT) Received: from postal.iol.unh.edu (postal.iol.unh.edu. [132.177.123.84]) by smtp-relay.gmail.com with ESMTPS id d9443c01a7336-237d82e9848sm553525ad.7.2025.06.19.20.26.37 (version=TLS1_2 cipher=ECDHE-ECDSA-AES128-GCM-SHA256 bits=128/128); Thu, 19 Jun 2025 20:26:37 -0700 (PDT) X-Relaying-Domain: iol.unh.edu Date: Thu, 19 Jun 2025 20:26:37 -0700 (PDT) Message-ID: <6854d4ed.170a0220.2d3702.2b4fSMTPIN_ADDED_MISSING@mx.google.com> Received: from [172.17.0.2] (unknown [172.18.0.74]) by postal.iol.unh.edu (Postfix) with ESMTP id 86D416051830; Thu, 19 Jun 2025 23:26:36 -0400 (EDT) Subject: |SUCCESS| pw154601-154603 [PATCH] [3/3] net/iavf: support vlan inser From: dpdklab@iol.unh.edu To: Test Report Cc: dpdk-test-reports@iol.unh.edu In-Reply-To: <20250619133658.13494-3-ciara.loftus@intel.com> References: <20250619133658.13494-3-ciara.loftus@intel.com> Content-Type: text/plain X-BeenThere: test-report@dpdk.org X-Mailman-Version: 2.1.29 Precedence: list List-Id: automatic DPDK test reports List-Unsubscribe: , List-Archive: List-Post: List-Help: List-Subscribe: , Errors-To: test-report-bounces@dpdk.org Test-Label: iol-unit-amd64-testing Test-Status: SUCCESS http://dpdk.org/patch/154603 _Testing PASS_ Submitter: Ciara Loftus Date: Thursday, June 19 2025 13:36:58 DPDK git baseline: Repo:dpdk Branch: master CommitID:7933e84358f59dfe1333f61e8b78e1b08b2ca482 154601-154603 --> testing pass Upstream job id: Generic-VM-Unit-Test-DPDK#29329 Test environment and result as below: +-------------------------------+----------------+ | Environment | dpdk_unit_test | +===============================+================+ | CentOS Stream 9 | PASS | +-------------------------------+----------------+ | CentOS Stream 10 | PASS | +-------------------------------+----------------+ | Debian GNU/Linux 12 | PASS | +-------------------------------+----------------+ | Fedora Linux 40 | PASS | +-------------------------------+----------------+ | Ubuntu 20.04 | PASS | +-------------------------------+----------------+ | Red Hat Enterprise Linux 9.5 | PASS | +-------------------------------+----------------+ | Ubuntu 22.04 | PASS | +-------------------------------+----------------+ | Fedora Linux 41 | PASS | +-------------------------------+----------------+ | Red Hat Enterprise Linux 8.10 | PASS | +-------------------------------+----------------+ | Ubuntu 24.04 | PASS | +-------------------------------+----------------+ | Windows Server 2022 | PASS | +-------------------------------+----------------+ CentOS Stream 9 Kernel: 5.15 Compiler: gcc gcc (GCC) 11.5.0 20240719 (Red Hat 11.5.0-7) CentOS Stream 10 Kernel: 5.15 Compiler: gcc gcc (GCC) 14.2.1 20250110 (Red Hat 14.2.1-8) Debian GNU/Linux 12 Kernel: 5.15 Compiler: gcc gcc (Debian 12.2.0-14+deb12u1) 12.2.0 Fedora Linux 40 Kernel: 5.15 Compiler: gcc gcc (GCC) 14.2.1 20240912 (Red Hat 14.2.1-3) Ubuntu 20.04 Kernel: 5.15 Compiler: gcc gcc (Ubuntu 9.4.0-1ubuntu1~20.04.2) 9.4.0 Red Hat Enterprise Linux 9.5 Kernel: 5.15 Compiler: gcc gcc (GCC) 11.5.0 20240719 (Red Hat 11.5.0-2) Ubuntu 22.04 Kernel: 5.15 Compiler: gcc gcc (Ubuntu 11.4.0-1ubuntu1~22.04) 11.4.0 Fedora Linux 41 Kernel: 5.15 Compiler: clang gcc (GCC) 14.3.1 20250523 (Red Hat 14.3.1-1) Red Hat Enterprise Linux 8.10 Kernel: 5.15 Compiler: gcc gcc (GCC) 8.5.0 20210514 (Red Hat 8.5.0-22) Ubuntu 24.04 Kernel: 5.15 Compiler: gcc gcc (Ubuntu 13.3.0-6ubuntu2~24.04) 13.3.0 Windows Server 2022 Kernel: 10.0.20348.2031 Compiler: clang 15.0.7, gcc 14.1.0 (MinGW), and MSVC VS 19.39.33521 To view detailed results, visit: https://lab.dpdk.org/results/dashboard/patchsets/33464/ UNH-IOL DPDK Community Lab To manage your email subscriptions, visit: https://lab.dpdk.org/results/dashboard/preferences/subscriptions/