From mboxrd@z Thu Jan  1 00:00:00 1970
Return-Path: <test-report-bounces@dpdk.org>
Received: from mails.dpdk.org (mails.dpdk.org [217.70.189.124])
	by inbox.dpdk.org (Postfix) with ESMTP id 666DA46A02
	for <public@inbox.dpdk.org>; Fri, 20 Jun 2025 12:40:56 +0200 (CEST)
Received: from mails.dpdk.org (localhost [127.0.0.1])
	by mails.dpdk.org (Postfix) with ESMTP id 614F6400D7;
	Fri, 20 Jun 2025 12:40:56 +0200 (CEST)
Received: from mail-pj1-f98.google.com (mail-pj1-f98.google.com
 [209.85.216.98]) by mails.dpdk.org (Postfix) with ESMTP id 61FC642EC2
 for <test-report@dpdk.org>; Fri, 20 Jun 2025 12:40:55 +0200 (CEST)
Received: by mail-pj1-f98.google.com with SMTP id
 98e67ed59e1d1-313910f392dso1140639a91.2
 for <test-report@dpdk.org>; Fri, 20 Jun 2025 03:40:55 -0700 (PDT)
DKIM-Signature: v=1; a=rsa-sha256; c=relaxed/relaxed;
 d=iol.unh.edu; s=unh-iol; t=1750416054; x=1751020854; darn=dpdk.org;
 h=references:in-reply-to:cc:to:from:subject:message-id:date:from:to
 :cc:subject:date:message-id:reply-to;
 bh=tlqRyZGtGVtnVgGusOC0uIPbYNuqn0JCr99ZMFIslGE=;
 b=X+2GYd5TDDMCCKe1alc3sJR9fOTzXfFWdPGCwXB8CDK9BaXw7hEBRINxsgu6XddJ6m
 /xGAbNrZT4Wk8x8KcehvSALJJGDmG/ponIrntpTt6ZXs/xMnCIJon49h6utM/qRlJv0Z
 4u9so6mnqXY7F3CLRkz1W3HfEbjsjD/VV+mzw=
X-Google-DKIM-Signature: v=1; a=rsa-sha256; c=relaxed/relaxed;
 d=1e100.net; s=20230601; t=1750416054; x=1751020854;
 h=references:in-reply-to:cc:to:from:subject:message-id:date
 :x-gm-message-state:from:to:cc:subject:date:message-id:reply-to;
 bh=tlqRyZGtGVtnVgGusOC0uIPbYNuqn0JCr99ZMFIslGE=;
 b=AFs9Opw0tb5LCYVKX6ycYacdCYStgTeLeai83yvtJvtiCODEq9QIDagKmnErmB61Jw
 o1rkLptra4yXhHyX7ewxTb9wdYPRlrMw+H1AdJdufhSD7c8pexmjcmRw4ePWkY0Q3tpq
 4owgAN+fS7/i8f+2AG87I3+gjnIDQcwIspUhqqbQ5oEh8cl3qPCSVmUT8Cr3+0qlkF30
 rYDBp83Xdgci4jtQMWlgqIhyraRq4ZKHpkColphp40I6w0zztzISYCgc+Gx/MVc99V7u
 NTgRO40MxKDUMvLKydFyDIhWuPSeLY2V5Q8Dzihdol7TIkrxYmkvlIr2aOZbF6DM8IjZ
 K/Pw==
X-Gm-Message-State: AOJu0YxTyQraPXsW4JJNaLFmmZlXlvfiDe48xHYU7DYPWFj2wq3KvFOc
 jPz/CjslOE+7KXec656M6dsc/F8vvDRxF1saxPJVloF60KgZKKbxj94Uj+ku3Dql3g1EA7O4A3y
 nK8CJWc4GZSMsdp7rlqlFgGhKZEqYTfe5p297mHGgNsCadT33q65OILiQFDA/
X-Gm-Gg: ASbGncs/yt0O+nq8NAwzm//E0PXB8Y3BXa5yOL9YQzJLS25rj9mJblWWDHvzRWiwPHP
 ySjpLiNxaJuNrzBeEoKXZdl5kFgaLwPXNgtBEyVZnwnzjVPa0HmDMDaU8EoK/RKkIh4NJLX0SWy
 2CSox5uz14JnCVV4q2y+YTe9xH4E6f8IzxYHM9FnhtVfEFkqS2ePFeI2YaTBuZbd/QsmDvFwIDa
 WJZR1VPAIWfGXvdNIjPfYq1Ho3qV+7SF4iaN+4dxqczY/JOz8I/LujBlZlC11evIVeFxFywjdyX
 B/ye6cSc56dQ4VQqeFWR3wHTJFjTO5FM83Nx94uarDmbO88=
X-Google-Smtp-Source: AGHT+IERN3iz9fC7PoMCFGJeuiSBOcKXbmJxFtZG5ouU50bvqrmZSxn7e5/f0wjlkMxWiiXNVIPc42c42K+I
X-Received: by 2002:a17:90b:1dc7:b0:312:e731:5a6b with SMTP id
 98e67ed59e1d1-3159d8fe239mr3281908a91.32.1750416054334; 
 Fri, 20 Jun 2025 03:40:54 -0700 (PDT)
Received: from postal.iol.unh.edu (postal.iol.unh.edu.
 [2606:4100:3880:1234::84]) by smtp-relay.gmail.com with ESMTPS id
 d9443c01a7336-237d82e9827sm974665ad.5.2025.06.20.03.40.54
 (version=TLS1_2 cipher=ECDHE-ECDSA-AES128-GCM-SHA256 bits=128/128);
 Fri, 20 Jun 2025 03:40:54 -0700 (PDT)
X-Relaying-Domain: iol.unh.edu
Date: Fri, 20 Jun 2025 03:40:54 -0700 (PDT)
Message-ID: <68553ab6.170a0220.afa9f.4569SMTPIN_ADDED_MISSING@mx.google.com>
Received: from [172.21.0.6] (unknown [172.18.0.240])
 by postal.iol.unh.edu (Postfix) with ESMTP id 8836A6051830;
 Fri, 20 Jun 2025 06:40:53 -0400 (EDT)
Subject: |SUCCESS| pw154611-154612 [PATCH] [3/3] test/crypto: fix RSA decrypt
From: dpdklab@iol.unh.edu
To: Test Report <test-report@dpdk.org>
Cc: dpdk-test-reports@iol.unh.edu
In-Reply-To: <20250620081921.2145-3-gmuthukrishn@marvell.com>
References: <20250620081921.2145-3-gmuthukrishn@marvell.com>
Content-Type: text/plain
X-BeenThere: test-report@dpdk.org
X-Mailman-Version: 2.1.29
Precedence: list
List-Id: automatic DPDK test reports <test-report.dpdk.org>
List-Unsubscribe: <https://mails.dpdk.org/options/test-report>,
 <mailto:test-report-request@dpdk.org?subject=unsubscribe>
List-Archive: <http://mails.dpdk.org/archives/test-report/>
List-Post: <mailto:test-report@dpdk.org>
List-Help: <mailto:test-report-request@dpdk.org?subject=help>
List-Subscribe: <https://mails.dpdk.org/listinfo/test-report>,
 <mailto:test-report-request@dpdk.org?subject=subscribe>
Errors-To: test-report-bounces@dpdk.org

Test-Label: iol-abi-testing
Test-Status: SUCCESS
http://dpdk.org/patch/154612

_Testing PASS_

Submitter: Gowrishankar Muthukrishnan <gmuthukrishn@marvell.com>
Date: Friday, June 20 2025 08:19:18 
DPDK git baseline: Repo:dpdk
  Branch: master
  CommitID:0c62b5fc83da79ef1ceb9bf75b3e28081cc19b43

154611-154612 --> testing pass

Upstream job id: Generic-DPDK-Compile-ABI#131079

Test environment and result as below:

+-------------------------------+----------+
|          Environment          | abi_test |
+===============================+==========+
| CentOS Stream 9               | PASS     |
+-------------------------------+----------+
| Debian GNU/Linux 12           | PASS     |
+-------------------------------+----------+
| CentOS Stream 10              | PASS     |
+-------------------------------+----------+
| Fedora Linux 40               | PASS     |
+-------------------------------+----------+
| openSUSE Leap 15.6            | PASS     |
+-------------------------------+----------+
| Fedora Linux 41               | PASS     |
+-------------------------------+----------+
| Red Hat Enterprise Linux 8.10 | PASS     |
+-------------------------------+----------+
| Red Hat Enterprise Linux 9.5  | PASS     |
+-------------------------------+----------+
| Ubuntu 22.04                  | PASS     |
+-------------------------------+----------+
| Ubuntu 24.04                  | PASS     |
+-------------------------------+----------+


CentOS Stream 9
	Kernel: 5.15
	Compiler: gcc gcc (GCC) 11.5.0 20240719 (Red Hat 11.5.0-7)

Debian GNU/Linux 12
	Kernel: 5.15
	Compiler: gcc gcc (Debian 12.2.0-14+deb12u1) 12.2.0

CentOS Stream 10
	Kernel: 5.15
	Compiler: gcc gcc (GCC) 14.2.1 20250110 (Red Hat 14.2.1-8)

Fedora Linux 40
	Kernel: 5.15
	Compiler: gcc gcc (GCC) 14.2.1 20240912 (Red Hat 14.2.1-3)

openSUSE Leap 15.6
	Kernel: 5.15
	Compiler: gcc gcc (SUSE Linux) 7.5.0

Fedora Linux 41
	Kernel: 5.15
	Compiler: gcc gcc (GCC) 14.3.1 20250523 (Red Hat 14.3.1-1)

Red Hat Enterprise Linux 8.10
	Kernel: 5.15
	Compiler: gcc gcc (GCC) 8.5.0 20210514 (Red Hat 8.5.0-22)

Red Hat Enterprise Linux 9.5
	Kernel: 5.15
	Compiler: gcc gcc (GCC) 11.5.0 20240719 (Red Hat 11.5.0-2)

Ubuntu 22.04
	Kernel: 5.15
	Compiler: gcc gcc (Ubuntu 11.4.0-1ubuntu1~22.04) 11.4.0

Ubuntu 24.04
	Kernel: 5.15
	Compiler: gcc gcc (Ubuntu 13.3.0-6ubuntu2~24.04) 13.3.0

To view detailed results, visit:
https://lab.dpdk.org/results/dashboard/patchsets/33469/

UNH-IOL DPDK Community Lab

To manage your email subscriptions, visit: 
https://lab.dpdk.org/results/dashboard/preferences/subscriptions/