From mboxrd@z Thu Jan  1 00:00:00 1970
Return-Path: <test-report-bounces@dpdk.org>
Received: from mails.dpdk.org (mails.dpdk.org [217.70.189.124])
	by inbox.dpdk.org (Postfix) with ESMTP id A1C9646A0D
	for <public@inbox.dpdk.org>; Fri, 20 Jun 2025 19:38:53 +0200 (CEST)
Received: from mails.dpdk.org (localhost [127.0.0.1])
	by mails.dpdk.org (Postfix) with ESMTP id 89CB240267;
	Fri, 20 Jun 2025 19:38:53 +0200 (CEST)
Received: from mail-io1-f98.google.com (mail-io1-f98.google.com
 [209.85.166.98]) by mails.dpdk.org (Postfix) with ESMTP id 3423540267
 for <test-report@dpdk.org>; Fri, 20 Jun 2025 19:38:52 +0200 (CEST)
Received: by mail-io1-f98.google.com with SMTP id
 ca18e2360f4ac-87611ac3456so65673339f.0
 for <test-report@dpdk.org>; Fri, 20 Jun 2025 10:38:52 -0700 (PDT)
DKIM-Signature: v=1; a=rsa-sha256; c=relaxed/relaxed;
 d=iol.unh.edu; s=unh-iol; t=1750441131; x=1751045931; darn=dpdk.org;
 h=references:in-reply-to:cc:to:from:subject:message-id:date:from:to
 :cc:subject:date:message-id:reply-to;
 bh=F4Dx1hygeP/Kbn7ekrsJ1gbxJNoAQzdCuTp9T21LqcQ=;
 b=W47CQosFPH+WUKkhK2IKTANKiL0O2xqrjKYU6lel8a+oDrpqPoRUExrp51MOkkPdIT
 Of4fVlbtwahWaA6etAopQT5yL8jhGyp18k8wzCWMBQxJdCpyMJcdZmpQasOij8BC8sfy
 jibO8x6qh1jIubp4Ijqmtp6+lxJrPlUvDFSJs=
X-Google-DKIM-Signature: v=1; a=rsa-sha256; c=relaxed/relaxed;
 d=1e100.net; s=20230601; t=1750441131; x=1751045931;
 h=references:in-reply-to:cc:to:from:subject:message-id:date
 :x-gm-message-state:from:to:cc:subject:date:message-id:reply-to;
 bh=F4Dx1hygeP/Kbn7ekrsJ1gbxJNoAQzdCuTp9T21LqcQ=;
 b=DLG1y0BSiXqlqBOP8UKB9Z2SwJA7hDevqGUBdRiREK/0Eg3rzA08UNgl915rCjy/O0
 osdJvvzZcYLM60dPVTCbtowA2x/uW61hO3CN9yHMQnOOkS37+cPrSBQsKROf+N6+mREA
 WI8cSeD25YLlTR4rpp+D8DCwaGTHgn5hH1Q53+p3ufP/kHG3JQJq5OzKIMl6AynXHami
 2vEPPzhVtaBhqZ+EDp95ZAa7ua8cJ0hKQuzSMQHUel6GGJTtdy8eTJxvs/2dZL/hi602
 FFkE5tz0lht7sccnwlrMW4sLNJVEq3dzz7Xi0FCxYt10Q/ueRO432OJSTz5r4PAOjJU9
 R2IA==
X-Gm-Message-State: AOJu0Yw2VIR5nlruvzvcct7BhXkeKT4MuKDc+Ek26qvdGGPdhUfo1Ovg
 I7p+op0JwIXObKmULVNbKbmTFCN/qWPeiATKRemaKI81B8ssDdQU+E7aMCU8rekFGa6+C2DI/NY
 m2IVBwm438fsIGdtPyphd+0iHH5qJm6ryXvbQEWhIlrUUP74hM83HTJAM7TCh
X-Gm-Gg: ASbGncvlKAid+FWYiZx2OZZsAD21gUiyLMT/jw71S9uYBmeWQ01J16+fr/TNGA3gsL0
 bT40W3DD/dlkfwMqDOSUCTaOysfte41tM5iqWCrEBE2gYUby0GK/80hiuPqanbpUJlrG680sfgh
 e9n03oPlkLQaGHBxni1V3Duv7Slc9/dBEVPMuNm/Pz+NFizk4HeyhnRFs2H4P1kftGyEN5QHSxv
 7ChZBMiCEnzZbjdS3hu92pPWLQDzg2Vvf7IVTiSQ4NZbcL7mpQ6VNdfmJLz8urKD+LiXJTXvixi
 GHSrLvx+e28ai6FBR4IeeYiFTIByiF9vK/g3Oee/aBXP9lA=
X-Google-Smtp-Source: AGHT+IH1kdFm09cMCYFQUoy6Et4eh7EO7W1732HVYxAX7rKhoOKsO2qwveByYRijfo/9MF3PqbOgM1iX/cRn
X-Received: by 2002:a05:6e02:3b07:b0:3dd:d995:5a97 with SMTP id
 e9e14a558f8ab-3de38c987camr43159555ab.12.1750441131120; 
 Fri, 20 Jun 2025 10:38:51 -0700 (PDT)
Received: from postal.iol.unh.edu (postal.iol.unh.edu.
 [2606:4100:3880:1234::84]) by smtp-relay.gmail.com with ESMTPS id
 e9e14a558f8ab-3de3761aae7sm1719365ab.14.2025.06.20.10.38.51
 (version=TLS1_2 cipher=ECDHE-ECDSA-AES128-GCM-SHA256 bits=128/128);
 Fri, 20 Jun 2025 10:38:51 -0700 (PDT)
X-Relaying-Domain: iol.unh.edu
Date: Fri, 20 Jun 2025 10:38:51 -0700 (PDT)
Message-ID: <68559cab.050a0220.40077.83f9SMTPIN_ADDED_MISSING@mx.google.com>
Received: from [172.21.0.5] (unknown [172.18.0.240])
 by postal.iol.unh.edu (Postfix) with ESMTP id 9BAE6604D420;
 Fri, 20 Jun 2025 13:38:50 -0400 (EDT)
Subject: |SUCCESS| pw154621-154627 [PATCH] [v3,7/7] lib/pmu: fix out-of-bound
From: dpdklab@iol.unh.edu
To: Test Report <test-report@dpdk.org>
Cc: dpdk-test-reports@iol.unh.edu
In-Reply-To: <20250620120551.613148-8-tduszynski@marvell.com>
References: <20250620120551.613148-8-tduszynski@marvell.com>
Content-Type: text/plain
X-BeenThere: test-report@dpdk.org
X-Mailman-Version: 2.1.29
Precedence: list
List-Id: automatic DPDK test reports <test-report.dpdk.org>
List-Unsubscribe: <https://mails.dpdk.org/options/test-report>,
 <mailto:test-report-request@dpdk.org?subject=unsubscribe>
List-Archive: <http://mails.dpdk.org/archives/test-report/>
List-Post: <mailto:test-report@dpdk.org>
List-Help: <mailto:test-report-request@dpdk.org?subject=help>
List-Subscribe: <https://mails.dpdk.org/listinfo/test-report>,
 <mailto:test-report-request@dpdk.org?subject=subscribe>
Errors-To: test-report-bounces@dpdk.org

Test-Label: iol-abi-testing
Test-Status: SUCCESS
http://dpdk.org/patch/154627

_Testing PASS_

Submitter: Tomasz Duszynski <tduszynski@marvell.com>
Date: Friday, June 20 2025 12:05:51 
DPDK git baseline: Repo:dpdk
  Branch: master
  CommitID:6890ee7ba76e92745d6c61b3b6b9d757ebaaa89d

154621-154627 --> testing pass

Upstream job id: Generic-DPDK-Compile-ABI#131124

Test environment and result as below:

+-------------------------------+----------+
|          Environment          | abi_test |
+===============================+==========+
| CentOS Stream 9               | PASS     |
+-------------------------------+----------+
| CentOS Stream 10              | PASS     |
+-------------------------------+----------+
| Debian GNU/Linux 12           | PASS     |
+-------------------------------+----------+
| Fedora Linux 40               | PASS     |
+-------------------------------+----------+
| Fedora Linux 41               | PASS     |
+-------------------------------+----------+
| openSUSE Leap 15.6            | PASS     |
+-------------------------------+----------+
| Red Hat Enterprise Linux 9.5  | PASS     |
+-------------------------------+----------+
| Ubuntu 22.04                  | PASS     |
+-------------------------------+----------+
| Ubuntu 24.04                  | PASS     |
+-------------------------------+----------+
| Red Hat Enterprise Linux 8.10 | PASS     |
+-------------------------------+----------+


CentOS Stream 9
	Kernel: 5.15
	Compiler: gcc gcc (GCC) 11.5.0 20240719 (Red Hat 11.5.0-7)

CentOS Stream 10
	Kernel: 5.15
	Compiler: gcc gcc (GCC) 14.2.1 20250110 (Red Hat 14.2.1-8)

Debian GNU/Linux 12
	Kernel: 5.15
	Compiler: gcc gcc (Debian 12.2.0-14+deb12u1) 12.2.0

Fedora Linux 40
	Kernel: 5.15
	Compiler: clang gcc (GCC) 14.2.1 20240912 (Red Hat 14.2.1-3)

Fedora Linux 41
	Kernel: 5.15
	Compiler: clang gcc (GCC) 14.3.1 20250523 (Red Hat 14.3.1-1)

openSUSE Leap 15.6
	Kernel: 5.15
	Compiler: gcc gcc (SUSE Linux) 7.5.0

Red Hat Enterprise Linux 9.5
	Kernel: 5.15
	Compiler: gcc gcc (GCC) 11.5.0 20240719 (Red Hat 11.5.0-2)

Ubuntu 22.04
	Kernel: 5.15
	Compiler: gcc gcc (Ubuntu 11.4.0-1ubuntu1~22.04) 11.4.0

Ubuntu 24.04
	Kernel: 5.15
	Compiler: gcc gcc (Ubuntu 13.3.0-6ubuntu2~24.04) 13.3.0

Red Hat Enterprise Linux 8.10
	Kernel: 5.15
	Compiler: gcc gcc (GCC) 8.5.0 20210514 (Red Hat 8.5.0-22)

To view detailed results, visit:
https://lab.dpdk.org/results/dashboard/patchsets/33473/

UNH-IOL DPDK Community Lab

To manage your email subscriptions, visit: 
https://lab.dpdk.org/results/dashboard/preferences/subscriptions/