From mboxrd@z Thu Jan  1 00:00:00 1970
Return-Path: <test-report-bounces@dpdk.org>
Received: from mails.dpdk.org (mails.dpdk.org [217.70.189.124])
	by inbox.dpdk.org (Postfix) with ESMTP id C3AC346A11
	for <public@inbox.dpdk.org>; Sat, 21 Jun 2025 00:43:13 +0200 (CEST)
Received: from mails.dpdk.org (localhost [127.0.0.1])
	by mails.dpdk.org (Postfix) with ESMTP id ABFF840267;
	Sat, 21 Jun 2025 00:43:13 +0200 (CEST)
Received: from mail-qt1-f228.google.com (mail-qt1-f228.google.com
 [209.85.160.228])
 by mails.dpdk.org (Postfix) with ESMTP id 1198D40267
 for <test-report@dpdk.org>; Sat, 21 Jun 2025 00:43:13 +0200 (CEST)
Received: by mail-qt1-f228.google.com with SMTP id
 d75a77b69052e-4a4bb155edeso28059251cf.2
 for <test-report@dpdk.org>; Fri, 20 Jun 2025 15:43:13 -0700 (PDT)
DKIM-Signature: v=1; a=rsa-sha256; c=relaxed/relaxed;
 d=iol.unh.edu; s=unh-iol; t=1750459392; x=1751064192; darn=dpdk.org;
 h=references:in-reply-to:cc:to:from:subject:message-id:date:from:to
 :cc:subject:date:message-id:reply-to;
 bh=sLB4IEKIo8NSDSRhsG5RI9GbcBWx/lt4VLDpCIqAKdA=;
 b=IpkwhkHe5hBE8110tfPKPNQHOBebGaqaNqQglavMDK+XIhaMoqUPSHmcBoqK7a+n1z
 djtKJqVrTa5gFOn0zbECjpAU0Z+Wngws/hjKBIppj5upf+EqpoyA+W0FBLqmms13kizc
 Wz/l/R/Ml08M/5JuJNMDyxwY+Sn4LGKLkbL3M=
X-Google-DKIM-Signature: v=1; a=rsa-sha256; c=relaxed/relaxed;
 d=1e100.net; s=20230601; t=1750459392; x=1751064192;
 h=references:in-reply-to:cc:to:from:subject:message-id:date
 :x-gm-message-state:from:to:cc:subject:date:message-id:reply-to;
 bh=sLB4IEKIo8NSDSRhsG5RI9GbcBWx/lt4VLDpCIqAKdA=;
 b=Dy1zmP8fSd9xYboDeWiKKr3zvATaMLbJsOafstP9RV+Kyvy2nuU7TohikUGtIglmUQ
 sHkHGUebWYU1Oaw2hgfvO1vFkrk8v2Ou//trq6evG2+2jrwIvQgcVHc3xik7xVbUOtrl
 STm/2Xj4RHi4Owv8k2ZSaLwXVmo2vZgTt7NxSlszAdLaybKDFOy8D7C2Ca7Ph+tX3A9I
 89CedflihUME35QikaHU+2GcnogTzf5YLnVXeO77atRA0OIajQjGQ5SLKkTjsbzSAsmp
 sultSsIlbAFldyfKvAEaF3eOFALRsD6GRNrJ20zVVBTyw1Ri/Eka9Ho8tKS6DyFCVaYE
 44NA==
X-Gm-Message-State: AOJu0Yz4xrgNKabCRbHAXq91MMBNuRx/kxIsshFbcA+mp0I85DoDIj0E
 SEuTexC7aWbBVpne6H8bQW+aQ+Ouv9xoAD+IlK0u2pIBa7nz1pm8eIltsRjP9zqNzoGRyTJus4E
 HnTivCNcfMjBc50Lx6QHmGcysfQa5dfjEuE91NSK+z6IVYDaM6aHQH8TjFBxK
X-Gm-Gg: ASbGnctfGExUFAXVvyXgD9zRQyiV88Hg5ezx65KPCtSYh2u7cJ99QqxNukKmrcTJF3d
 aAxMxDsiPeK8+1XQYjV57uQPRMoxUNWgYoKPQO1G6sA20snP7t8AmXwaWp775deTRegXA+1RXmQ
 X3cumQGlT7rA5s5YJt63QrTl1WIaIpdaHmIl1xEoyqEEuLosNpsiyNeP3cyp3RmZxW5phEe6eQU
 QDmHFrksGel6oxtopAoyt01Kg+DmQuaqipnPtaJscll986v81LijvbWAn9DkdOFec4pExE2/YLX
 Rl4NdOQz8/0IWG7PoiYi7Ph0+jc4Rt3p5yhSBOz1nFtX8/4=
X-Google-Smtp-Source: AGHT+IEpsRGH6hWSsSKOJQhn3mCcePNIJn+lmX557PDhz6t47w4Zp54Zl+suomcWZJxBcUL3yoohC7HfwOfe
X-Received: by 2002:a05:6214:4b09:b0:6f8:b4aa:2a4b with SMTP id
 6a1803df08f44-6fd0a50f06bmr91118336d6.28.1750459392279; 
 Fri, 20 Jun 2025 15:43:12 -0700 (PDT)
Received: from postal.iol.unh.edu (postal.iol.unh.edu.
 [2606:4100:3880:1234::84]) by smtp-relay.gmail.com with ESMTPS id
 6a1803df08f44-6fd09420761sm1742426d6.15.2025.06.20.15.43.12
 (version=TLS1_2 cipher=ECDHE-ECDSA-AES128-GCM-SHA256 bits=128/128);
 Fri, 20 Jun 2025 15:43:12 -0700 (PDT)
X-Relaying-Domain: iol.unh.edu
Date: Fri, 20 Jun 2025 15:43:12 -0700 (PDT)
Message-ID: <6855e400.050a0220.2c2e7d.854aSMTPIN_ADDED_MISSING@mx.google.com>
Received: from [172.17.0.2] (unknown [172.18.0.74])
 by postal.iol.unh.edu (Postfix) with ESMTP id 05C2F6051830;
 Fri, 20 Jun 2025 18:43:12 -0400 (EDT)
Subject: |SUCCESS| pw154621-154627 [PATCH] [v3,7/7] lib/pmu: fix out-of-bound
From: dpdklab@iol.unh.edu
To: Test Report <test-report@dpdk.org>
Cc: dpdk-test-reports@iol.unh.edu
In-Reply-To: <20250620120551.613148-8-tduszynski@marvell.com>
References: <20250620120551.613148-8-tduszynski@marvell.com>
Content-Type: text/plain
X-BeenThere: test-report@dpdk.org
X-Mailman-Version: 2.1.29
Precedence: list
List-Id: automatic DPDK test reports <test-report.dpdk.org>
List-Unsubscribe: <https://mails.dpdk.org/options/test-report>,
 <mailto:test-report-request@dpdk.org?subject=unsubscribe>
List-Archive: <http://mails.dpdk.org/archives/test-report/>
List-Post: <mailto:test-report@dpdk.org>
List-Help: <mailto:test-report-request@dpdk.org?subject=help>
List-Subscribe: <https://mails.dpdk.org/listinfo/test-report>,
 <mailto:test-report-request@dpdk.org?subject=subscribe>
Errors-To: test-report-bounces@dpdk.org

Test-Label: iol-compile-arm64-testing
Test-Status: SUCCESS
http://dpdk.org/patch/154627

_Testing PASS_

Submitter: Tomasz Duszynski <tduszynski@marvell.com>
Date: Friday, June 20 2025 12:05:51 
DPDK git baseline: Repo:dpdk
  Branch: master
  CommitID:6890ee7ba76e92745d6c61b3b6b9d757ebaaa89d

154621-154627 --> testing pass

Upstream job id: Generic-DPDK-Compile-Meson#400215

Test environment and result as below:

+------------------------------+--------------------+
|         Environment          | dpdk_meson_compile |
+==============================+====================+
| Fedora Linux 41              | PASS               |
+------------------------------+--------------------+
| Ubuntu 20.04                 | PASS               |
+------------------------------+--------------------+
| Debian GNU/Linux 12          | PASS               |
+------------------------------+--------------------+
| Fedora Linux 40              | PASS               |
+------------------------------+--------------------+
| Ubuntu 24.04                 | PASS               |
+------------------------------+--------------------+
| Ubuntu 22.04                 | PASS               |
+------------------------------+--------------------+
| CentOS Stream 10             | PASS               |
+------------------------------+--------------------+
| CentOS Stream 9              | PASS               |
+------------------------------+--------------------+
| Red Hat Enterprise Linux 9.5 | PASS               |
+------------------------------+--------------------+


Fedora Linux 41
	Kernel: 5.4
	Compiler: gcc gcc (GCC) 14.3.1 20250523 (Red Hat 14.3.1-1)

Ubuntu 20.04
	Kernel: 5.4
	Compiler: gcc gcc (Ubuntu 9.4.0-1ubuntu1~20.04.2) 9.4.0

Debian GNU/Linux 12
	Kernel: 5.4
	Compiler: gcc gcc (Debian 12.2.0-14+deb12u1) 12.2.0

Fedora Linux 40
	Kernel: 5.4
	Compiler: gcc gcc (GCC) 14.2.1 20240912 (Red Hat 14.2.1-3)

Ubuntu 24.04
	Kernel: 5.4
	Compiler: gcc gcc (Ubuntu 13.3.0-6ubuntu2~24.04) 13.3.0

Ubuntu 22.04
	Kernel: 5.4
	Compiler: gcc gcc (Ubuntu 11.4.0-1ubuntu1~22.04) 11.4.0

CentOS Stream 10
	Kernel: 5.4
	Compiler: gcc gcc (GCC) 14.2.1 20250110 (Red Hat 14.2.1-8)

CentOS Stream 9
	Kernel: 5.4
	Compiler: gcc gcc (GCC) 11.5.0 20240719 (Red Hat 11.5.0-7)

Red Hat Enterprise Linux 9.5
	Kernel: 5.4
	Compiler: gcc gcc (GCC) 11.5.0 20240719 (Red Hat 11.5.0-2)

To view detailed results, visit:
https://lab.dpdk.org/results/dashboard/patchsets/33473/

UNH-IOL DPDK Community Lab

To manage your email subscriptions, visit: 
https://lab.dpdk.org/results/dashboard/preferences/subscriptions/