From mboxrd@z Thu Jan 1 00:00:00 1970 Return-Path: Received: from mails.dpdk.org (mails.dpdk.org [217.70.189.124]) by inbox.dpdk.org (Postfix) with ESMTP id 2BE0346A25 for ; Sun, 22 Jun 2025 09:09:32 +0200 (CEST) Received: from mails.dpdk.org (localhost [127.0.0.1]) by mails.dpdk.org (Postfix) with ESMTP id E94F140270; Sun, 22 Jun 2025 09:09:31 +0200 (CEST) Received: from mail-pj1-f97.google.com (mail-pj1-f97.google.com [209.85.216.97]) by mails.dpdk.org (Postfix) with ESMTP id 6669B40270 for ; Sun, 22 Jun 2025 09:09:30 +0200 (CEST) Received: by mail-pj1-f97.google.com with SMTP id 98e67ed59e1d1-3138e64b42aso3767025a91.0 for ; Sun, 22 Jun 2025 00:09:30 -0700 (PDT) DKIM-Signature: v=1; a=rsa-sha256; c=relaxed/relaxed; d=iol.unh.edu; s=unh-iol; t=1750576169; x=1751180969; darn=dpdk.org; h=cc:to:from:subject:message-id:date:from:to:cc:subject:date :message-id:reply-to; bh=XutExMBn1ifQWLYn0DRrIa9QzxqDMy3W1/rR4DI/sKk=; b=TJiYSIa4YAcOO3LwOcOVcdMYD8ysOEQEK6GM+1TmlGUcWxZwQfMV9EcBmDsMZZSXmx Yivd3Ids6XIUb1Quz5YxBoonT5dmsLx2fVxzWBh1OtmoiEvsmLxvDHItMVVvVpbOH8Z1 eRVrT3MgpoEh5g0YbwFHTgGx9crIdFkRpyKUc= X-Google-DKIM-Signature: v=1; a=rsa-sha256; c=relaxed/relaxed; d=1e100.net; s=20230601; t=1750576169; x=1751180969; h=cc:to:from:subject:message-id:date:x-gm-message-state:from:to:cc :subject:date:message-id:reply-to; bh=XutExMBn1ifQWLYn0DRrIa9QzxqDMy3W1/rR4DI/sKk=; b=NQw0SdpL5BNtRcojXmd8ioYQpkPaRaVnD8beboxvVqXcNEqE5GEkBAHjNHFvWJhcia Fb7lE0EnBSd5sUqKZx9MeWovX/vKph9UqjKnl+CXY36pITLIfcqnU6WxS0u4mkzscKvB PmjRgdrWvr/90ksMm4WeCpKjTaQOR7T3c8KwcrD6Jy+hFbS4dv+hKI6lez1WlPyN09eg cLXV+U8pIA9nOjjPF/wh1ZDXSc9tTgPv05b23AmMSIwEdWImjcAgepauPNKVmc62ZObd G/976V/tUfXhCUrSA4ochAvNN8IufaHcXTWwsMxBKYLoEqSJ5TcSqhj8mTFVyudkcGgp NODA== X-Gm-Message-State: AOJu0YzyAj1zsEeG5f2S2A9vyF5qelH2OlzragzlP8iPaB2i+qb2fO17 3fOhyCJ0dG65kGwYqTv9n+lcVRKHl4YCjsbyyH3pOwTYaxFeYxDHS5Xlyal8yb8y3ax2dm/zsEY v6NY6CdZJ/9Q7+/o2lixNx3b2xgvMzxqi7Jt7ZpiUgSIF X-Gm-Gg: ASbGnctjtUWsmXdf+2zibP/2OyjHOguALczMMZB4WDh10CWY0XFDSeViYzmN3lSG74p ddDDpTAt4qhHQh1yI+cMFnGlWIAzJ2LSHm29ml8dCY3AlyQLOWVZtmyYjStXq3Tm3WBOUSZfd2Y PFo+hRSgK0shDD1Bb0epaGkxfE8+o+Avy4VoT1LCLChEpnVdh4YkO4FrGYRFuqQ2OUWGTrL1FDT 6BLrQFoKAXW0zquc+BehTPClzbUy3xD5HgoA7mTiQq17D05qTlXEt2Y5GPp0zN7J4bcj5bXTdHQ NDIMob/8KDwE75iJQdO3dbNDSlyLpHYHEEPAeZoEtmPS8PeGuaxm2PnTNok3uPhvhI3uBA== X-Google-Smtp-Source: AGHT+IG+E4KOc8pjg89fy1QkjnZG+vKM50dz40AyZxwF5kFR3QcSTcjHJu4E5cyHqdqELqLk7c2xFE9smt5V X-Received: by 2002:a17:90b:278b:b0:30e:8c5d:8ed with SMTP id 98e67ed59e1d1-3159d7c8d9cmr11869223a91.19.1750576169287; Sun, 22 Jun 2025 00:09:29 -0700 (PDT) Received: from postal.iol.unh.edu (postal.iol.unh.edu. [132.177.123.84]) by smtp-relay.gmail.com with ESMTPS id d9443c01a7336-237d8323b41sm3246425ad.36.2025.06.22.00.09.29 (version=TLS1_2 cipher=ECDHE-ECDSA-AES128-GCM-SHA256 bits=128/128); Sun, 22 Jun 2025 00:09:29 -0700 (PDT) X-Relaying-Domain: iol.unh.edu Date: Sun, 22 Jun 2025 00:09:29 -0700 (PDT) Message-ID: <6857ac29.170a0220.1910d9.24b7SMTPIN_ADDED_MISSING@mx.google.com> Received: from [172.17.0.4] (unknown [172.18.0.74]) by postal.iol.unh.edu (Postfix) with ESMTP id 7437E6051830; Sun, 22 Jun 2025 03:09:28 -0400 (EDT) Subject: |SUCCESS| [GIT MASTER] 6890ee7ba76e92745d6c61b3b6b9d757ebaaa89d From: dpdklab@iol.unh.edu To: Test Report Cc: dpdk-test-reports@iol.unh.edu Content-Type: text/plain X-BeenThere: test-report@dpdk.org X-Mailman-Version: 2.1.29 Precedence: list List-Id: automatic DPDK test reports List-Unsubscribe: , List-Archive: List-Post: List-Help: List-Subscribe: , Errors-To: test-report-bounces@dpdk.org _Testing PASS_ Branch: dpdk 6890ee7ba76e92745d6c61b3b6b9d757ebaaa89d --> testing pass Upstream job id: Generic-DPDK-Compile-Meson#400482 Test environment and result as below: +------------------------------+--------------------+ | Environment | dpdk_meson_compile | +==============================+====================+ | Red Hat Enterprise Linux 9.5 | PASS | +------------------------------+--------------------+ | Ubuntu 20.04 | PASS | +------------------------------+--------------------+ | Debian GNU/Linux 12 | PASS | +------------------------------+--------------------+ | Fedora Linux 40 | PASS | +------------------------------+--------------------+ | Fedora Linux 41 | PASS | +------------------------------+--------------------+ | Ubuntu 22.04 | PASS | +------------------------------+--------------------+ | Ubuntu 24.04 | PASS | +------------------------------+--------------------+ | CentOS Stream 9 | PASS | +------------------------------+--------------------+ | CentOS Stream 10 | PASS | +------------------------------+--------------------+ Red Hat Enterprise Linux 9.5 Kernel: 5.4 Compiler: gcc gcc (GCC) 11.5.0 20240719 (Red Hat 11.5.0-2) Ubuntu 20.04 Kernel: 5.15 Compiler: aarch64-linux-gnu-gcc gcc (Ubuntu 9.4.0-1ubuntu1~20.04.2) 9.4.0 Debian GNU/Linux 12 Kernel: 5.4 Compiler: gcc gcc (Debian 12.2.0-14+deb12u1) 12.2.0 Fedora Linux 40 Kernel: 5.4 Compiler: gcc gcc (GCC) 14.2.1 20240912 (Red Hat 14.2.1-3) Fedora Linux 41 Kernel: 5.4 Compiler: gcc gcc (GCC) 14.3.1 20250523 (Red Hat 14.3.1-1) Ubuntu 22.04 Kernel: 5.4 Compiler: gcc gcc (Ubuntu 11.4.0-1ubuntu1~22.04) 11.4.0 Ubuntu 24.04 Kernel: 5.4 Compiler: gcc gcc (Ubuntu 13.3.0-6ubuntu2~24.04) 13.3.0 CentOS Stream 9 Kernel: 5.4 Compiler: gcc gcc (GCC) 11.5.0 20240719 (Red Hat 11.5.0-7) CentOS Stream 10 Kernel: 5.4 Compiler: gcc gcc (GCC) 14.2.1 20250110 (Red Hat 14.2.1-8) To view detailed results, visit: https://lab.dpdk.org/results/dashboard/tarballs/33972/ UNH-IOL DPDK Community Lab To manage your email subscriptions, visit: https://lab.dpdk.org/results/dashboard/preferences/subscriptions/