From mboxrd@z Thu Jan  1 00:00:00 1970
Return-Path: <test-report-bounces@dpdk.org>
Received: from mails.dpdk.org (mails.dpdk.org [217.70.189.124])
	by inbox.dpdk.org (Postfix) with ESMTP id C2F1E46A2D
	for <public@inbox.dpdk.org>; Sun, 22 Jun 2025 22:15:22 +0200 (CEST)
Received: from mails.dpdk.org (localhost [127.0.0.1])
	by mails.dpdk.org (Postfix) with ESMTP id 9DE6540270;
	Sun, 22 Jun 2025 22:15:22 +0200 (CEST)
Received: from mail-pl1-f225.google.com (mail-pl1-f225.google.com
 [209.85.214.225])
 by mails.dpdk.org (Postfix) with ESMTP id CBBB740270
 for <test-report@dpdk.org>; Sun, 22 Jun 2025 22:15:20 +0200 (CEST)
Received: by mail-pl1-f225.google.com with SMTP id
 d9443c01a7336-234f17910d8so30123875ad.3
 for <test-report@dpdk.org>; Sun, 22 Jun 2025 13:15:20 -0700 (PDT)
DKIM-Signature: v=1; a=rsa-sha256; c=relaxed/relaxed;
 d=iol.unh.edu; s=unh-iol; t=1750623320; x=1751228120; darn=dpdk.org;
 h=references:in-reply-to:cc:to:from:subject:message-id:date:from:to
 :cc:subject:date:message-id:reply-to;
 bh=mWZi1y0yqsk10udSPH6a0DJQm/+roerYG9whGeLvtcU=;
 b=PymqZLFsJcvHFhWStbTlJZHoYHaWvhbiMoYbQN+CdjW6mZ5QcNocGFc8rVi5I9JETN
 6As8ll47oh0qDbMTM06R7Sf+/nvEqLQMD0SJIziCjC0tVlY5hZghz+A4ReMS5ZcuSsac
 dR86adjiiB31TEmkGuZyC1nP5NZdtXz1m2qN8=
X-Google-DKIM-Signature: v=1; a=rsa-sha256; c=relaxed/relaxed;
 d=1e100.net; s=20230601; t=1750623320; x=1751228120;
 h=references:in-reply-to:cc:to:from:subject:message-id:date
 :x-gm-message-state:from:to:cc:subject:date:message-id:reply-to;
 bh=mWZi1y0yqsk10udSPH6a0DJQm/+roerYG9whGeLvtcU=;
 b=tOB4Z4MvW4XwOm7wOeiU1v7PMpL2rhsOr/JJt8SnlUEmmu96xmA09V1vwU2na6wp9u
 YRcletZvU8j7Fq2kvMVsxDazTWg9r6n90heYg6nnTKfcTTrZIcMvYXzUVzO02JUMAOki
 dJztyO5ezk6/sH75iglIa/zmhrjyYbDI6omv/0H5j5S12K6cd6mQhxTmK6el0eRqxHB3
 4jlQTan2pCnIx+P71BP9GrM7qsZO5ukH0FuopjaWwSgn9vx0oDr9byT+qVID5HAzyk8X
 qAPpmBiI3O2ylt6yL078W/LN022fLIb/48Dwomf+7FTuTm1n41iAA3wLnJwCxhwVgUux
 u74g==
X-Gm-Message-State: AOJu0YyHF3JruKXLGPl06zr8B0YXrqFpb/7mQHbJEjmMdbkshWsjqi1Y
 0u9o1T0uLXBewYqGY/E4scIsfOJ4Cw+7/HKXgUwFyFes+yWL5ZwxCoKKjGE7/bBuPp9jKme4fnl
 5v2u2gKD7i0ZuFxOlaCVGCh98PDXsL15pyKg+GJP5sZjzkDiydKWXkQN2EqKV
X-Gm-Gg: ASbGncsiIRUZ2T7OYjxfnPxXrvPOg8zZtqqBgmvYNVsT/cknLFcsET9qDODDsMT5pHb
 KGFzoUIHQaaDhm55uvq+xfudK36jr2S253hGHgMN5/6Soy1EE4YVpoBiTUx3NRaFCuMiHYqAc0H
 RPRGql++XTsf1tQWHBB9p2FYVgHqoMBNk+y0iFBmahj4SZ+zNODfISPYPEWvoFhax67Lvnyo50o
 Sd+CWB4Me/0fvixPM6LTYvWlAF2dkr2S+GujYDv8wyQ4QWwsW2R7IkX47pPdpCCFCDcXXtQ2A1W
 lUZWLFspLWY4DNXvBJtSjZMXqWSVM0p6QgyCbrfE9RCA2Pw=
X-Google-Smtp-Source: AGHT+IFatP3bq07UoaOtQm9zgJ2Koialu+OGZZdk//jOmtJjgycVQAA1wQ0Vj9L2lJbM9g1TothMpYR4GENU
X-Received: by 2002:a17:902:da84:b0:234:f4da:7eed with SMTP id
 d9443c01a7336-237d9a74790mr176054895ad.44.1750623319650; 
 Sun, 22 Jun 2025 13:15:19 -0700 (PDT)
Received: from postal.iol.unh.edu (postal.iol.unh.edu.
 [2606:4100:3880:1234::84]) by smtp-relay.gmail.com with ESMTPS id
 d9443c01a7336-237d84f42f2sm3890765ad.67.2025.06.22.13.15.19
 (version=TLS1_2 cipher=ECDHE-ECDSA-AES128-GCM-SHA256 bits=128/128);
 Sun, 22 Jun 2025 13:15:19 -0700 (PDT)
X-Relaying-Domain: iol.unh.edu
Date: Sun, 22 Jun 2025 13:15:19 -0700 (PDT)
Message-ID: <68586457.170a0220.a5047.3fd4SMTPIN_ADDED_MISSING@mx.google.com>
Received: from [172.17.0.2] (unknown [172.18.0.76])
 by postal.iol.unh.edu (Postfix) with ESMTP id BB4F86051830;
 Sun, 22 Jun 2025 16:15:18 -0400 (EDT)
Subject: |SUCCESS| pw154632 [PATCH] [v1] app/eventdev: fix number of releases
From: dpdklab@iol.unh.edu
To: Test Report <test-report@dpdk.org>
Cc: dpdk-test-reports@iol.unh.edu
In-Reply-To: <20250622181352.440499-1-pravin.pathak@intel.com>
References: <20250622181352.440499-1-pravin.pathak@intel.com>
Content-Type: text/plain
X-BeenThere: test-report@dpdk.org
X-Mailman-Version: 2.1.29
Precedence: list
List-Id: automatic DPDK test reports <test-report.dpdk.org>
List-Unsubscribe: <https://mails.dpdk.org/options/test-report>,
 <mailto:test-report-request@dpdk.org?subject=unsubscribe>
List-Archive: <http://mails.dpdk.org/archives/test-report/>
List-Post: <mailto:test-report@dpdk.org>
List-Help: <mailto:test-report-request@dpdk.org?subject=help>
List-Subscribe: <https://mails.dpdk.org/listinfo/test-report>,
 <mailto:test-report-request@dpdk.org?subject=subscribe>
Errors-To: test-report-bounces@dpdk.org

Test-Label: iol-unit-arm64-testing
Test-Status: SUCCESS
http://dpdk.org/patch/154632

_Testing PASS_

Submitter: Pravin Pathak <pravin.pathak@intel.com>
Date: Sunday, June 22 2025 18:13:52 
DPDK git baseline: Repo:dpdk
  Branch: master
  CommitID:0d6dd47b1064695be5441d19a1e038c7805095bf

154632 --> testing pass

Upstream job id: Generic-Unit-Test-DPDK#348475

Test environment and result as below:

+------------------------------+----------------+--------------+------------------------------+---------------------------+
|         Environment          | dpdk_unit_test | lpm_autotest | cryptodev_sw_snow3g_autotest | cryptodev_sw_zuc_autotest |
+==============================+================+==============+==============================+===========================+
| CentOS Stream 10             | PASS           | SKIPPED      | SKIPPED                      | SKIPPED                   |
+------------------------------+----------------+--------------+------------------------------+---------------------------+
| Red Hat Enterprise Linux 9.5 | PASS           | SKIPPED      | SKIPPED                      | SKIPPED                   |
+------------------------------+----------------+--------------+------------------------------+---------------------------+
| CentOS Stream 9              | PASS           | SKIPPED      | SKIPPED                      | SKIPPED                   |
+------------------------------+----------------+--------------+------------------------------+---------------------------+
| Fedora Linux 40              | PASS           | SKIPPED      | SKIPPED                      | SKIPPED                   |
+------------------------------+----------------+--------------+------------------------------+---------------------------+
| Fedora Linux 41              | PASS           | SKIPPED      | SKIPPED                      | SKIPPED                   |
+------------------------------+----------------+--------------+------------------------------+---------------------------+
| Debian GNU/Linux 12          | PASS           | SKIPPED      | SKIPPED                      | SKIPPED                   |
+------------------------------+----------------+--------------+------------------------------+---------------------------+
| Ubuntu 20.04                 | PASS           | PASS         | SKIPPED                      | SKIPPED                   |
+------------------------------+----------------+--------------+------------------------------+---------------------------+
| Ubuntu 22.04                 | PASS           | SKIPPED      | SKIPPED                      | SKIPPED                   |
+------------------------------+----------------+--------------+------------------------------+---------------------------+
| Ubuntu 24.04                 | PASS           | SKIPPED      | SKIPPED                      | SKIPPED                   |
+------------------------------+----------------+--------------+------------------------------+---------------------------+
| Debian 12 (arm)              | SKIPPED        | SKIPPED      | PASS                         | PASS                      |
+------------------------------+----------------+--------------+------------------------------+---------------------------+


CentOS Stream 10
	Kernel: 5.4
	Compiler: gcc gcc (GCC) 14.2.1 20250110 (Red Hat 14.2.1-8)

Red Hat Enterprise Linux 9.5
	Kernel: 5.4
	Compiler: gcc gcc (GCC) 11.5.0 20240719 (Red Hat 11.5.0-2)

CentOS Stream 9
	Kernel: 5.4
	Compiler: gcc gcc (GCC) 11.5.0 20240719 (Red Hat 11.5.0-7)

Fedora Linux 40
	Kernel: 5.4
	Compiler: gcc gcc (GCC) 14.2.1 20240912 (Red Hat 14.2.1-3)

Fedora Linux 41
	Kernel: 5.4
	Compiler: gcc gcc (GCC) 14.3.1 20250523 (Red Hat 14.3.1-1)

Debian GNU/Linux 12
	Kernel: 5.4
	Compiler: gcc gcc (Debian 12.2.0-14+deb12u1) 12.2.0

Ubuntu 20.04
	Kernel: 5.4
	Compiler: gcc gcc (Ubuntu 9.4.0-1ubuntu1~20.04.2) 9.4.0

Ubuntu 22.04
	Kernel: 5.4
	Compiler: gcc gcc (Ubuntu 11.4.0-1ubuntu1~22.04) 11.4.0

Ubuntu 24.04
	Kernel: 5.4
	Compiler: gcc gcc (Ubuntu 13.3.0-6ubuntu2~24.04) 13.3.0

Debian 12 (arm)
	Kernel: Depends on container host
	Compiler: gcc (Debian 12.2.0-14) 12.2.0

To view detailed results, visit:
https://lab.dpdk.org/results/dashboard/patchsets/33479/

UNH-IOL DPDK Community Lab

To manage your email subscriptions, visit: 
https://lab.dpdk.org/results/dashboard/preferences/subscriptions/