From mboxrd@z Thu Jan  1 00:00:00 1970
Return-Path: <test-report-bounces@dpdk.org>
Received: from mails.dpdk.org (mails.dpdk.org [217.70.189.124])
	by inbox.dpdk.org (Postfix) with ESMTP id 69B7946A38
	for <public@inbox.dpdk.org>; Mon, 23 Jun 2025 17:41:54 +0200 (CEST)
Received: from mails.dpdk.org (localhost [127.0.0.1])
	by mails.dpdk.org (Postfix) with ESMTP id 5DD0540151;
	Mon, 23 Jun 2025 17:41:54 +0200 (CEST)
Received: from mail-io1-f99.google.com (mail-io1-f99.google.com
 [209.85.166.99]) by mails.dpdk.org (Postfix) with ESMTP id 10F1E40151
 for <test-report@dpdk.org>; Mon, 23 Jun 2025 17:41:53 +0200 (CEST)
Received: by mail-io1-f99.google.com with SMTP id
 ca18e2360f4ac-8762a0866a3so75985539f.2
 for <test-report@dpdk.org>; Mon, 23 Jun 2025 08:41:53 -0700 (PDT)
DKIM-Signature: v=1; a=rsa-sha256; c=relaxed/relaxed;
 d=iol.unh.edu; s=unh-iol; t=1750693312; x=1751298112; darn=dpdk.org;
 h=references:in-reply-to:cc:to:from:subject:message-id:date:from:to
 :cc:subject:date:message-id:reply-to;
 bh=X1puvw5s1+IZIqp6yoYMNRi0XPNrMabq5AwsB6EgHkw=;
 b=hahAy6w8nGEe454fCT8ExtN6MxISN9VCjPfuNwGnqWZjKRx+Dqp3NjUOQ51SQAgkva
 HodYC0cA17N2Z0xPWf+J8PteiIGoCesRxHFsJDnxdo9W3TmTPq+bRH1JnKRSvEXgGiPD
 7bJNPAaIye7Mo0mw/I+gLZGp+MEnqjbp2PIIM=
X-Google-DKIM-Signature: v=1; a=rsa-sha256; c=relaxed/relaxed;
 d=1e100.net; s=20230601; t=1750693312; x=1751298112;
 h=references:in-reply-to:cc:to:from:subject:message-id:date
 :x-gm-message-state:from:to:cc:subject:date:message-id:reply-to;
 bh=X1puvw5s1+IZIqp6yoYMNRi0XPNrMabq5AwsB6EgHkw=;
 b=kyvzLIehy7vHOZCA52po7BDrWpkRp7djQAB9G8BPTaNKqREbNeuKPSBzWKUVJxT9EG
 D2ozGa3cnv2KdsaP65JUc+tyEvGoRU6Nvlyge+kpfpcpdNSb2VObcgB2CXSA/aZw54GC
 G8+cwClNUftGBHbBTgM0zpxdsN5PUkxxVNWNnHOV0c6FXXOrxuH/UsLQHZhjMWv/uvQN
 9iFZQKqD/vOTum+9V8VbDY8gK8haNmR2fXiIYnoYgI7O9rcNbPKU1AvnAspfrnA7qqYz
 4ivlCjauqdAHvJ6FpFQoMO7sdH8D4I2nmYCucjUBQ/rwwM1psm9MsEwoFQfZ2L5VQEI+
 9+Kw==
X-Gm-Message-State: AOJu0YykuRjfv4yuc1dO4IbsKT2SK2pPJPFls+Th+OFe7Ni0FC23lMK4
 kFfVXJbC2obzJnOlOjmfXfWh1CcxO7m9mKBkJtxh5mAhm18vDuGH9UrAHNhYT7TjJaaD/vYPv4y
 ft7d0IUyAk0DcS5hFGgFG87DUieqvxf/ND1IyImVHIA17sOa7ax3O67zMkBF1
X-Gm-Gg: ASbGncuTjXRolSFmUc2088VAHCqYA63GY7TR7/mfZgVOTp15FD/woEFcx4MX3H4Lc8O
 8xdgOHcYeHR4QdabeMIl9F0Y6TxLnNkOYOHWRGuaHJTEKT/VnQuaR7aVQ1pew3UNIb2Xdr/VX/T
 DlfDRay3Z8GHv9UR1JBC+ccNiGi3L/pVh/BNsyOlCpJ3/SKIvTFVW5LLhUGydeYjw8EenCZ/ilf
 7YYIi7NTOrxnrJJ4tO3m9ORRoLKrjzlEhrs77HVYBMALVThZ0VWIWXF5mymzczzfqOe+3+23GIu
 rYPCDf/n3aGtXZFQEirXwSrfd4D7I95SgQmM4Qm/QAPJvjw=
X-Google-Smtp-Source: AGHT+IEqLCeVee/wMyaQBnB2lWhbTKrgDxRUa3sPz+W39Ggtibymm4E8WQe0DLd/JixxhiTjFn6PntqqLSPf
X-Received: by 2002:a05:6e02:258c:b0:3d9:6cb6:fa52 with SMTP id
 e9e14a558f8ab-3de38ca2adfmr150505725ab.12.1750693312183; 
 Mon, 23 Jun 2025 08:41:52 -0700 (PDT)
Received: from postal.iol.unh.edu (postal.iol.unh.edu.
 [2606:4100:3880:1234::84]) by smtp-relay.gmail.com with ESMTPS id
 e9e14a558f8ab-3de3761a931sm5773795ab.13.2025.06.23.08.41.52
 (version=TLS1_2 cipher=ECDHE-ECDSA-AES128-GCM-SHA256 bits=128/128);
 Mon, 23 Jun 2025 08:41:52 -0700 (PDT)
X-Relaying-Domain: iol.unh.edu
Date: Mon, 23 Jun 2025 08:41:52 -0700 (PDT)
Message-ID: <685975c0.050a0220.2fa13b.d2b7SMTPIN_ADDED_MISSING@mx.google.com>
Received: from [172.21.0.5] (unknown [172.18.0.240])
 by postal.iol.unh.edu (Postfix) with ESMTP id C7A13604D420;
 Mon, 23 Jun 2025 11:41:51 -0400 (EDT)
Subject: |SUCCESS| pw154635-154644 [PATCH] [v2,10/10] build: support Undefine
From: dpdklab@iol.unh.edu
To: Test Report <test-report@dpdk.org>
Cc: dpdk-test-reports@iol.unh.edu
In-Reply-To: <20250623135242.461965-11-david.marchand@redhat.com>
References: <20250623135242.461965-11-david.marchand@redhat.com>
Content-Type: text/plain
X-BeenThere: test-report@dpdk.org
X-Mailman-Version: 2.1.29
Precedence: list
List-Id: automatic DPDK test reports <test-report.dpdk.org>
List-Unsubscribe: <https://mails.dpdk.org/options/test-report>,
 <mailto:test-report-request@dpdk.org?subject=unsubscribe>
List-Archive: <http://mails.dpdk.org/archives/test-report/>
List-Post: <mailto:test-report@dpdk.org>
List-Help: <mailto:test-report-request@dpdk.org?subject=help>
List-Subscribe: <https://mails.dpdk.org/listinfo/test-report>,
 <mailto:test-report-request@dpdk.org?subject=subscribe>
Errors-To: test-report-bounces@dpdk.org

Test-Label: iol-abi-testing
Test-Status: SUCCESS
http://dpdk.org/patch/154644

_Testing PASS_

Submitter: David Marchand <david.marchand@redhat.com>
Date: Monday, June 23 2025 13:52:40 
DPDK git baseline: Repo:dpdk
  Branch: master
  CommitID:6890ee7ba76e92745d6c61b3b6b9d757ebaaa89d

154635-154644 --> testing pass

Upstream job id: Generic-DPDK-Compile-ABI#131339

Test environment and result as below:

+-------------------------------+----------+
|          Environment          | abi_test |
+===============================+==========+
| CentOS Stream 10              | PASS     |
+-------------------------------+----------+
| CentOS Stream 9               | PASS     |
+-------------------------------+----------+
| Debian GNU/Linux 12           | PASS     |
+-------------------------------+----------+
| Ubuntu 22.04                  | PASS     |
+-------------------------------+----------+
| Fedora Linux 40               | PASS     |
+-------------------------------+----------+
| Red Hat Enterprise Linux 8.10 | PASS     |
+-------------------------------+----------+
| Fedora Linux 41               | PASS     |
+-------------------------------+----------+
| openSUSE Leap 15.6            | PASS     |
+-------------------------------+----------+
| Red Hat Enterprise Linux 9.5  | PASS     |
+-------------------------------+----------+
| Ubuntu 24.04                  | PASS     |
+-------------------------------+----------+


CentOS Stream 10
	Kernel: 5.15
	Compiler: gcc gcc (GCC) 14.2.1 20250110 (Red Hat 14.2.1-8)

CentOS Stream 9
	Kernel: 5.15
	Compiler: gcc gcc (GCC) 11.5.0 20240719 (Red Hat 11.5.0-7)

Debian GNU/Linux 12
	Kernel: 5.15
	Compiler: gcc gcc (Debian 12.2.0-14+deb12u1) 12.2.0

Ubuntu 22.04
	Kernel: 5.15
	Compiler: gcc gcc (Ubuntu 11.4.0-1ubuntu1~22.04) 11.4.0

Fedora Linux 40
	Kernel: 5.15
	Compiler: clang gcc (GCC) 14.2.1 20240912 (Red Hat 14.2.1-3)

Red Hat Enterprise Linux 8.10
	Kernel: 5.15
	Compiler: gcc gcc (GCC) 8.5.0 20210514 (Red Hat 8.5.0-22)

Fedora Linux 41
	Kernel: 5.15
	Compiler: gcc gcc (GCC) 14.3.1 20250523 (Red Hat 14.3.1-1)

openSUSE Leap 15.6
	Kernel: 5.15
	Compiler: gcc gcc (SUSE Linux) 7.5.0

Red Hat Enterprise Linux 9.5
	Kernel: 5.15
	Compiler: gcc gcc (GCC) 11.5.0 20240719 (Red Hat 11.5.0-2)

Ubuntu 24.04
	Kernel: 5.15
	Compiler: gcc gcc (Ubuntu 13.3.0-6ubuntu2~24.04) 13.3.0

To view detailed results, visit:
https://lab.dpdk.org/results/dashboard/patchsets/33481/

UNH-IOL DPDK Community Lab

To manage your email subscriptions, visit: 
https://lab.dpdk.org/results/dashboard/preferences/subscriptions/